BEGIN:VCALENDAR
VERSION:2.0
PRODID:-//Pacific City - ECPv6.15.20//NONSGML v1.0//EN
CALSCALE:GREGORIAN
METHOD:PUBLISH
X-WR-CALNAME:Pacific City
X-ORIGINAL-URL:https://pacificcity.com
X-WR-CALDESC:Events for Pacific City
REFRESH-INTERVAL;VALUE=DURATION:PT1H
X-Robots-Tag:noindex
X-PUBLISHED-TTL:PT1H
BEGIN:VTIMEZONE
TZID:America/Los_Angeles
BEGIN:DAYLIGHT
TZOFFSETFROM:-0800
TZOFFSETTO:-0700
TZNAME:PDT
DTSTART:20250309T100000
END:DAYLIGHT
BEGIN:STANDARD
TZOFFSETFROM:-0700
TZOFFSETTO:-0800
TZNAME:PST
DTSTART:20251102T090000
END:STANDARD
BEGIN:DAYLIGHT
TZOFFSETFROM:-0800
TZOFFSETTO:-0700
TZNAME:PDT
DTSTART:20260308T100000
END:DAYLIGHT
BEGIN:STANDARD
TZOFFSETFROM:-0700
TZOFFSETTO:-0800
TZNAME:PST
DTSTART:20261101T090000
END:STANDARD
BEGIN:DAYLIGHT
TZOFFSETFROM:-0800
TZOFFSETTO:-0700
TZNAME:PDT
DTSTART:20270314T100000
END:DAYLIGHT
BEGIN:STANDARD
TZOFFSETFROM:-0700
TZOFFSETTO:-0800
TZNAME:PST
DTSTART:20271107T090000
END:STANDARD
END:VTIMEZONE
BEGIN:VEVENT
DTSTART;TZID=America/Los_Angeles:20260418T080000
DTEND;TZID=America/Los_Angeles:20260418T150000
DTSTAMP:20260420T045537
CREATED:20260401T165625Z
LAST-MODIFIED:20260418T175646Z
UID:10010200-1776499200-1776524400@pacificcity.com
SUMMARY:MEGA Spring Trail Cleanup and After Party
DESCRIPTION:We’re teaming up for this epic spring cleaning event. Together\, we’ll clear brush\, remove downed trees\, and get the trails ready for hikers\, bikers\, runners\, and riders to enjoy all year long. \nAfter Party! Wrap up the day with fun and food! Our way of saying thanks for your hard work! Prizes! Awards! \nWhether you’re a seasoned trail builder or new to trail stewardship\, there’s a role for everyone.
URL:https://pacificcity.com/event/mega-spring-trail-cleanup-and-after-party/
LOCATION:Smith Homestead in the Tillamook State Forest\, Near Jones Creek Campground
CATEGORIES:Community,Outdoor
ATTACH;FMTTYPE=image/png:https://pacificcity.com/wp-content/uploads/2026/04/image_8b218aab-AL6o5T.png
END:VEVENT
END:VCALENDAR