BEGIN:VCALENDAR
VERSION:2.0
PRODID:-//Pacific City - ECPv6.15.20//NONSGML v1.0//EN
CALSCALE:GREGORIAN
METHOD:PUBLISH
X-ORIGINAL-URL:https://pacificcity.com
X-WR-CALDESC:Events for Pacific City
REFRESH-INTERVAL;VALUE=DURATION:PT1H
X-Robots-Tag:noindex
X-PUBLISHED-TTL:PT1H
BEGIN:VTIMEZONE
TZID:America/Los_Angeles
BEGIN:DAYLIGHT
TZOFFSETFROM:-0800
TZOFFSETTO:-0700
TZNAME:PDT
DTSTART:20250309T100000
END:DAYLIGHT
BEGIN:STANDARD
TZOFFSETFROM:-0700
TZOFFSETTO:-0800
TZNAME:PST
DTSTART:20251102T090000
END:STANDARD
BEGIN:DAYLIGHT
TZOFFSETFROM:-0800
TZOFFSETTO:-0700
TZNAME:PDT
DTSTART:20260308T100000
END:DAYLIGHT
BEGIN:STANDARD
TZOFFSETFROM:-0700
TZOFFSETTO:-0800
TZNAME:PST
DTSTART:20261101T090000
END:STANDARD
BEGIN:DAYLIGHT
TZOFFSETFROM:-0800
TZOFFSETTO:-0700
TZNAME:PDT
DTSTART:20270314T100000
END:DAYLIGHT
BEGIN:STANDARD
TZOFFSETFROM:-0700
TZOFFSETTO:-0800
TZNAME:PST
DTSTART:20271107T090000
END:STANDARD
END:VTIMEZONE
BEGIN:VEVENT
DTSTART;TZID=America/Los_Angeles:20260414T180000
DTEND;TZID=America/Los_Angeles:20260414T210000
DTSTAMP:20260421T014616
CREATED:20260114T220005Z
LAST-MODIFIED:20260413T175632Z
UID:10009552-1776189600-1776200400@pacificcity.com
SUMMARY:Trivia at Pelican Brewing- Pacific City
DESCRIPTION:Join us for trivia night every Tuesday! Win cool prizes and show your knowledge. Blackout dates apply.
URL:https://pacificcity.com/event/trivia-at-pelican-brewing-pacific-city-19/
LOCATION:Pelican Brewing Company\, 33180 Cape Kiwanda Drive
CATEGORIES:Community
ATTACH;FMTTYPE=image/jpeg:https://pacificcity.com/wp-content/uploads/2025/12/TRivia-fiWdHh.jpg
END:VEVENT
BEGIN:VEVENT
DTSTART;TZID=America/Los_Angeles:20260407T180000
DTEND;TZID=America/Los_Angeles:20260407T210000
DTSTAMP:20260421T014616
CREATED:20260107T201511Z
LAST-MODIFIED:20260407T002624Z
UID:10009499-1775584800-1775595600@pacificcity.com
SUMMARY:Trivia at Pelican Brewing- Pacific City
DESCRIPTION:Join us for trivia night every Tuesday! Win cool prizes and show your knowledge. Blackout dates apply.
URL:https://pacificcity.com/event/trivia-at-pelican-brewing-pacific-city-18/
LOCATION:Pelican Brewing Company\, 33180 Cape Kiwanda Drive
CATEGORIES:Community
ATTACH;FMTTYPE=image/jpeg:https://pacificcity.com/wp-content/uploads/2025/12/TRivia-fiWdHh.jpg
END:VEVENT
BEGIN:VEVENT
DTSTART;TZID=America/Los_Angeles:20260331T180000
DTEND;TZID=America/Los_Angeles:20260331T210000
DTSTAMP:20260421T014616
CREATED:20251231T184850Z
LAST-MODIFIED:20260331T003130Z
UID:10009439-1774980000-1774990800@pacificcity.com
SUMMARY:Trivia at Pelican Brewing- Pacific City
DESCRIPTION:Join us for trivia night every Tuesday! Win cool prizes and show your knowledge. Blackout dates apply.
URL:https://pacificcity.com/event/trivia-at-pelican-brewing-pacific-city-17/
LOCATION:Pelican Brewing Company\, 33180 Cape Kiwanda Drive
CATEGORIES:Community
ATTACH;FMTTYPE=image/jpeg:https://pacificcity.com/wp-content/uploads/2025/12/TRivia-fiWdHh.jpg
END:VEVENT
BEGIN:VEVENT
DTSTART;TZID=America/Los_Angeles:20260324T180000
DTEND;TZID=America/Los_Angeles:20260324T210000
DTSTAMP:20260421T014616
CREATED:20251224T173120Z
LAST-MODIFIED:20260324T203128Z
UID:10009367-1774375200-1774386000@pacificcity.com
SUMMARY:Trivia at Pelican Brewing- Pacific City
DESCRIPTION:Join us for trivia night every Tuesday! Win cool prizes and show your knowledge. Blackout dates apply.
URL:https://pacificcity.com/event/trivia-at-pelican-brewing-pacific-city-16/
LOCATION:Pelican Brewing Company\, 33180 Cape Kiwanda Drive
CATEGORIES:Community
ATTACH;FMTTYPE=image/jpeg:https://pacificcity.com/wp-content/uploads/2025/12/TRivia-fiWdHh.jpg
END:VEVENT
END:VCALENDAR