BEGIN:VCALENDAR
VERSION:2.0
PRODID:-//Pacific City - ECPv6.15.20//NONSGML v1.0//EN
CALSCALE:GREGORIAN
METHOD:PUBLISH
X-WR-CALNAME:Pacific City
X-ORIGINAL-URL:https://pacificcity.com
X-WR-CALDESC:Events for Pacific City
REFRESH-INTERVAL;VALUE=DURATION:PT1H
X-Robots-Tag:noindex
X-PUBLISHED-TTL:PT1H
BEGIN:VTIMEZONE
TZID:America/Los_Angeles
BEGIN:DAYLIGHT
TZOFFSETFROM:-0800
TZOFFSETTO:-0700
TZNAME:PDT
DTSTART:20250309T100000
END:DAYLIGHT
BEGIN:STANDARD
TZOFFSETFROM:-0700
TZOFFSETTO:-0800
TZNAME:PST
DTSTART:20251102T090000
END:STANDARD
BEGIN:DAYLIGHT
TZOFFSETFROM:-0800
TZOFFSETTO:-0700
TZNAME:PDT
DTSTART:20260308T100000
END:DAYLIGHT
BEGIN:STANDARD
TZOFFSETFROM:-0700
TZOFFSETTO:-0800
TZNAME:PST
DTSTART:20261101T090000
END:STANDARD
BEGIN:DAYLIGHT
TZOFFSETFROM:-0800
TZOFFSETTO:-0700
TZNAME:PDT
DTSTART:20270314T100000
END:DAYLIGHT
BEGIN:STANDARD
TZOFFSETFROM:-0700
TZOFFSETTO:-0800
TZNAME:PST
DTSTART:20271107T090000
END:STANDARD
END:VTIMEZONE
BEGIN:VEVENT
DTSTART;TZID=America/Los_Angeles:20260721T100000
DTEND;TZID=America/Los_Angeles:20260721T160000
DTSTAMP:20260424T063612
CREATED:20260422T055732Z
LAST-MODIFIED:20260423T180058Z
UID:10010341-1784628000-1784649600@pacificcity.com
SUMMARY:OPEN CLAY STUDIO
DESCRIPTION:Slab roller\, potter’s wheel\, tools\, and kiln time. $2/hr. Clay available $1 for 2 lbs. 503-368-3846\, hoffmancenter@nehalemtel.net\, www.hoffmancentermanzanita.org
URL:https://pacificcity.com/event/open-clay-studio-9/
LOCATION:Hoffman Center Studios\, 594 Laneda Avenue in Manzanita
END:VEVENT
END:VCALENDAR