BEGIN:VCALENDAR
VERSION:2.0
PRODID:-//Pacific City - ECPv6.15.20//NONSGML v1.0//EN
CALSCALE:GREGORIAN
METHOD:PUBLISH
X-ORIGINAL-URL:https://pacificcity.com
X-WR-CALDESC:Events for Pacific City
REFRESH-INTERVAL;VALUE=DURATION:PT1H
X-Robots-Tag:noindex
X-PUBLISHED-TTL:PT1H
BEGIN:VTIMEZONE
TZID:America/Los_Angeles
BEGIN:DAYLIGHT
TZOFFSETFROM:-0800
TZOFFSETTO:-0700
TZNAME:PDT
DTSTART:20250309T100000
END:DAYLIGHT
BEGIN:STANDARD
TZOFFSETFROM:-0700
TZOFFSETTO:-0800
TZNAME:PST
DTSTART:20251102T090000
END:STANDARD
BEGIN:DAYLIGHT
TZOFFSETFROM:-0800
TZOFFSETTO:-0700
TZNAME:PDT
DTSTART:20260308T100000
END:DAYLIGHT
BEGIN:STANDARD
TZOFFSETFROM:-0700
TZOFFSETTO:-0800
TZNAME:PST
DTSTART:20261101T090000
END:STANDARD
BEGIN:DAYLIGHT
TZOFFSETFROM:-0800
TZOFFSETTO:-0700
TZNAME:PDT
DTSTART:20270314T100000
END:DAYLIGHT
BEGIN:STANDARD
TZOFFSETFROM:-0700
TZOFFSETTO:-0800
TZNAME:PST
DTSTART:20271107T090000
END:STANDARD
END:VTIMEZONE
BEGIN:VEVENT
DTSTART;TZID=America/Los_Angeles:20260612T180000
DTEND;TZID=America/Los_Angeles:20260612T200000
DTSTAMP:20260422T165313
CREATED:20260315T084609Z
LAST-MODIFIED:20260422T055723Z
UID:10010050-1781287200-1781294400@pacificcity.com
SUMMARY:DANCE: Spirit Dance 2.0
DESCRIPTION:Join us for our weekly free-form dance celebration. Music by DJ Pranawave. 6pm warm-up and stretch. 6:15 Circle opens and dance begins. 8pm finish. Suggested donation\, $10. Free for kids!
URL:https://pacificcity.com/event/dance-spirit-dance-2-0-3/
LOCATION:Pine Grove Community Club\, 225 Laneda Ave\, Manzanita\, OR\, United States
GEO:45.718587;-123.936947
X-APPLE-STRUCTURED-LOCATION;VALUE=URI;X-ADDRESS=Pine Grove Community Club 225 Laneda Ave Manzanita OR United States;X-APPLE-RADIUS=500;X-TITLE=225 Laneda Ave:geo:-123.936947,45.718587
END:VEVENT
BEGIN:VEVENT
DTSTART;TZID=America/Los_Angeles:20260612T190000
DTEND;TZID=America/Los_Angeles:20260612T210000
DTSTAMP:20260422T165313
CREATED:20260314T183137Z
LAST-MODIFIED:20260422T180102Z
UID:10010047-1781290800-1781298000@pacificcity.com
SUMMARY:Artist/Music Showcase
DESCRIPTION:Local and visiting musicans perform a free concert at the Tillamook Fairview Grange\, featuring Eric Sappington and other musicans and artists monthly. Relax and take in music in one of the best local performance halls.
URL:https://pacificcity.com/event/artist-music-showcase/
LOCATION:Tillamook Fairview Grange\, 5620 E. 3rd Street\, Tillamook\, OR 97141\, OR
CATEGORIES:Community,Live Music
ATTACH;FMTTYPE=image/jpeg:https://pacificcity.com/wp-content/uploads/2022/04/eric-at-grange-8HkGv2.tmp_.jpg
ORGANIZER;CN="Tillamook Fairview Grange":MAILTO:mary.mcginnis05@gmail.com
END:VEVENT
BEGIN:VEVENT
DTSTART;TZID=America/Los_Angeles:20260613T090000
DTEND;TZID=America/Los_Angeles:20260613T100000
DTSTAMP:20260422T165313
CREATED:20260315T184330Z
LAST-MODIFIED:20260422T180102Z
UID:10010052-1781341200-1781344800@pacificcity.com
SUMMARY:Yoga With Dawn
DESCRIPTION:🧘‍♀️ Yoga with Dawn – Find Your Flow! 🧘‍♂️ \nStart your day with peace\, strength\, and positive energy 🌞Join Dawn for a refreshing yoga class every: \n🗓️ Monday\, Wednesday\, Friday & Saturday🕘 9:00 AM – 10:00 AM📍 Kiawanda Community Center \nAll levels are welcome—whether you’re new to yoga or a seasoned pro\, Dawn’s calm guidance and supportive atmosphere will leave you feeling refreshed and centered. \n✨ Bring a mat\, some water\, and a smile.No registration needed—just drop in and breathe it out with us! \n#YogaWithDawn #KiawandaCommunityCenter #MorningYoga #WellnessInPacificCity #MindBodySoul
URL:https://pacificcity.com/event/yoga-with-dawn-12/
LOCATION:Kiawanda Community Center\, 34600 Cape Kiwanda Dr\, Pacific City\, OR 97135\, OR\, United States
CATEGORIES:Classes and Workshops,Community
ATTACH;FMTTYPE=image/jpeg:https://pacificcity.com/wp-content/uploads/2025/07/yoga-VHSvFY.jpg
END:VEVENT
BEGIN:VEVENT
DTSTART;TZID=America/Los_Angeles:20260613T100000
DTEND;TZID=America/Los_Angeles:20260613T120000
DTSTAMP:20260422T165313
CREATED:20260315T184330Z
LAST-MODIFIED:20260422T180102Z
UID:10010053-1781344800-1781352000@pacificcity.com
SUMMARY:Dungeons and Dragons at Tillamook Library
DESCRIPTION:Play a variety of tabletop RPGs with local storytellers at the library! Open to all!
URL:https://pacificcity.com/event/dungeons-and-dragons-at-tillamook-library-6/
LOCATION:Tillamook County Library\, 1716 3rd Street Tillamook Oregon 97141
CATEGORIES:Community
ATTACH;FMTTYPE=image/png:https://pacificcity.com/wp-content/uploads/2025/07/Dungeons-Dragons-2025-TM-VjWbKf.png
END:VEVENT
BEGIN:VEVENT
DTSTART;TZID=America/Los_Angeles:20260613T100000
DTEND;TZID=America/Los_Angeles:20260613T160000
DTSTAMP:20260422T165313
CREATED:20260315T084609Z
LAST-MODIFIED:20260422T055723Z
UID:10010051-1781344800-1781366400@pacificcity.com
SUMMARY:CLAY OPEN STUDIO
DESCRIPTION:Participants can purchase clay\, plus there are a number of bisque pieces available to buy and glaze as well.  All experience levels are welcome and a Studio Host is available to answer questions and offer tips.  Children under 12 must be accompanied by an adult.  Studio fees are $2 per hour\, which includes glazing and firing up the finished product.  Clay is $2 per 1 pound section.  For more information\, contact the Clay hosts at: hoffmanclaystudio@gmail.com
URL:https://pacificcity.com/event/clay-open-studio-6/
LOCATION:Hoffman Center for the Arts\, 594 Laneda Ave\, Manzanita\, OR\, United States
GEO:45.719325;-123.931502
X-APPLE-STRUCTURED-LOCATION;VALUE=URI;X-ADDRESS=Hoffman Center for the Arts 594 Laneda Ave Manzanita OR United States;X-APPLE-RADIUS=500;X-TITLE=594 Laneda Ave:geo:-123.931502,45.719325
END:VEVENT
BEGIN:VEVENT
DTSTART;TZID=America/Los_Angeles:20260613T140000
DTEND;TZID=America/Los_Angeles:20260613T170000
DTSTAMP:20260422T165313
CREATED:20260315T184330Z
LAST-MODIFIED:20260422T180102Z
UID:10010054-1781359200-1781370000@pacificcity.com
SUMMARY:Maker Saturday at the Bay City Library
DESCRIPTION:Join us at the Bay City Branch Library on the 3rd Saturday of the month at 2:00pm and 5:00pm for Maker Saturday! Bring a project you have been working on or come and be inspired by the supplies we have. \nDo you have a new model or a LEGO kit you’ve been meaning to work on? Is there a painting or craft you’ve been wanting to start and/or finish? Are you looking for a place to get away for a while to work on your project? \nWe can help! Please note\, supplies are limited.
URL:https://pacificcity.com/event/maker-saturday-at-the-bay-city-library-3/
LOCATION:Bay City Library\, 5525 B St\, Bay City\, OR
CATEGORIES:Community
ATTACH;FMTTYPE=image/png:https://pacificcity.com/wp-content/uploads/2025/03/maker_saturdays-YkBlQF.tmp_.png
END:VEVENT
BEGIN:VEVENT
DTSTART;TZID=America/Los_Angeles:20260613T190000
DTEND;TZID=America/Los_Angeles:20260613T210000
DTSTAMP:20260422T165313
CREATED:20260315T184330Z
LAST-MODIFIED:20260422T180102Z
UID:10010055-1781377200-1781384400@pacificcity.com
SUMMARY:Live Music!
DESCRIPTION:Live music every Saturday from 7–9pm in The Schooner Lounge—because your weekend deserves a soundtrack. \nKick back to the sounds of local musicians\, stay for the crave-worthy eats\, craft cocktails\, cold beers\, and our fabulous crew who always bring the good vibes. \nCurious who’s playing? Check out our lineup of Oregon-grown talent on our website!
URL:https://pacificcity.com/event/live-music-3/
LOCATION:The Schooner Restaurant & Lounge\, 2065 Boat Basin Rd
CATEGORIES:Arts and Culture,Live Music
ATTACH;FMTTYPE=image/jpeg:https://pacificcity.com/wp-content/uploads/2025/05/Schooner-music-scaled-xb7eha.jpg
END:VEVENT
BEGIN:VEVENT
DTSTART;TZID=America/Los_Angeles:20260613T190000
DTEND;TZID=America/Los_Angeles:20260613T213000
DTSTAMP:20260422T165313
CREATED:20260316T085837Z
LAST-MODIFIED:20260422T055723Z
UID:10010056-1781377200-1781386200@pacificcity.com
SUMMARY:EVENT: Wave Steppers Square Dance
DESCRIPTION:Wave Steppers Square Dance\nSat\, June 13\, 7:00pm – 9:30pm\n107 6th St\, Garibaldi\, OR 97118\, USA\nHave an evening of square dancing fun with the Wave Steppers! Open to the public. For more information\, call Bob Allen at 503-322-3819.
URL:https://pacificcity.com/event/event-wave-steppers-square-dance/
LOCATION:Garibaldi Community Center 107 6th Street\, Garibaldi\, OR\, United States
GEO:45.562572;-123.900072
END:VEVENT
BEGIN:VEVENT
DTSTART;TZID=America/Los_Angeles:20260614T100000
DTEND;TZID=America/Los_Angeles:20260614T130000
DTSTAMP:20260422T165313
CREATED:20260316T085837Z
LAST-MODIFIED:20260422T055724Z
UID:10010057-1781431200-1781442000@pacificcity.com
SUMMARY:LIFE DRAWING GROUP
DESCRIPTION:Weekly life drawing session with live model.\nModel fee collected from each participant. For address and more information call Judy: 503-368-7868\, sorrel@nehalemtel.net\,
URL:https://pacificcity.com/event/life-drawing-group-3/
LOCATION:Nehalem\, Nehalem\, OR\, United States
GEO:45.651933;-123.853529
END:VEVENT
BEGIN:VEVENT
DTSTART;TZID=America/Los_Angeles:20260615T090000
DTEND;TZID=America/Los_Angeles:20260615T100000
DTSTAMP:20260422T165313
CREATED:20260317T185845Z
LAST-MODIFIED:20260422T180102Z
UID:10010059-1781514000-1781517600@pacificcity.com
SUMMARY:Yoga With Dawn
DESCRIPTION:🧘‍♀️ Yoga with Dawn – Find Your Flow! 🧘‍♂️ \nStart your day with peace\, strength\, and positive energy 🌞Join Dawn for a refreshing yoga class every: \n🗓️ Monday\, Wednesday\, Friday & Saturday🕘 9:00 AM – 10:00 AM📍 Kiawanda Community Center \nAll levels are welcome—whether you’re new to yoga or a seasoned pro\, Dawn’s calm guidance and supportive atmosphere will leave you feeling refreshed and centered. \n✨ Bring a mat\, some water\, and a smile.No registration needed—just drop in and breathe it out with us! \n#YogaWithDawn #KiawandaCommunityCenter #MorningYoga #WellnessInPacificCity #MindBodySoul
URL:https://pacificcity.com/event/yoga-with-dawn-13/
LOCATION:Kiawanda Community Center\, 34600 Cape Kiwanda Dr\, Pacific City\, OR 97135\, OR\, United States
CATEGORIES:Classes and Workshops,Community
ATTACH;FMTTYPE=image/jpeg:https://pacificcity.com/wp-content/uploads/2025/07/yoga-VHSvFY.jpg
END:VEVENT
BEGIN:VEVENT
DTSTART;TZID=America/Los_Angeles:20260615T100000
DTEND;TZID=America/Los_Angeles:20260615T110000
DTSTAMP:20260422T165313
CREATED:20260317T185845Z
LAST-MODIFIED:20260422T180102Z
UID:10010060-1781517600-1781521200@pacificcity.com
SUMMARY:Walking Wonders
DESCRIPTION:Join this active group rain or shine to get your steps in and around town.
URL:https://pacificcity.com/event/walking-wonders-10/
LOCATION:Kiawanda Community Center\, 34600 Cape Kiwanda Dr\, Pacific City\, OR 97135\, OR\, United States
CATEGORIES:Fitness and Athletics
ATTACH;FMTTYPE=image/png:https://pacificcity.com/wp-content/uploads/2024/04/Walking-Wonders-JBf2iO.tmp_.png
END:VEVENT
BEGIN:VEVENT
DTSTART;TZID=America/Los_Angeles:20260615T103000
DTEND;TZID=America/Los_Angeles:20260615T123000
DTSTAMP:20260422T165313
CREATED:20260317T185845Z
LAST-MODIFIED:20260422T180103Z
UID:10010061-1781519400-1781526600@pacificcity.com
SUMMARY:Dungeons and Dragons at Tillamook Library
DESCRIPTION:Play a variety of tabletop RPGs with local storytellers at the library! Open to all!
URL:https://pacificcity.com/event/dungeons-and-dragons-at-tillamook-library-7/
LOCATION:Tillamook County Library\, 1716 3rd Street Tillamook Oregon 97141
CATEGORIES:Community
ATTACH;FMTTYPE=image/png:https://pacificcity.com/wp-content/uploads/2025/07/Dungeons-Dragons-2025-TM-1-WZfv4w.png
END:VEVENT
BEGIN:VEVENT
DTSTART;TZID=America/Los_Angeles:20260615T190000
DTEND;TZID=America/Los_Angeles:20260615T210000
DTSTAMP:20260422T165313
CREATED:20260317T185852Z
LAST-MODIFIED:20260422T180126Z
UID:10010062-1781550000-1781557200@pacificcity.com
SUMMARY:Tillamook City Council meeting
DESCRIPTION:The City Council meets on the first and third Monday of each month at the City Hall. In the event of a holiday\, the meeting shall take place the day following or on a day agreed upon by the Council at the meeting prior to the holiday. \nThis is a public meeting per ORS chapter 192. The City Council reserves the right to call an executive session per ORS 192.660. City hall is handicap accessible. Please contact the office of the City Manager should special accommodations be required. Citizens with visual or manual impairments may contact the Oregon Relay Service by phoning 1-800-648-3458 (TDD) or 1-800-848-4442 (voice). The city of Tillamook is an equal opportunity provider and employer.
URL:https://pacificcity.com/event/tillamook-city-council-meeting/
LOCATION:Tillamook City Hall\, 210 Laurel Avenue\, Tillamook\, OR\, 97141\, United States
CATEGORIES:Public Meetings
ATTACH;FMTTYPE=image/jpeg:https://pacificcity.com/wp-content/uploads/2022/04/City-Hall-Tillamook-City-scaled-pPdRDH.tmp_.jpg
ORGANIZER;CN="City of Tillamook":MAILTO:ngeorge@tillamookor.gov
END:VEVENT
BEGIN:VEVENT
DTSTART;TZID=America/Los_Angeles:20260616T080000
DTEND;TZID=America/Los_Angeles:20260616T090000
DTSTAMP:20260422T165313
CREATED:20260318T190029Z
LAST-MODIFIED:20260422T180103Z
UID:10010105-1781596800-1781600400@pacificcity.com
SUMMARY:Mornings on Main Street
DESCRIPTION:Join the Chamber for our monthly neighbor chat\, an informal coffee and discussion of things happening around town. Conversations range from events to new business opening and who is looking for help. This is a great opportunity to get in touch with our business and retail community\, as well as many of the non-profits\, government officials\, service groups and community leaders. Conversations are always casual and fun\, and there is always plenty of coffee and some breakfast treats. Doors open at 8 a.m.\, and typically come to an end by 9 a.m. Feel free to swing in at any time within the hour. We would be happy to see you pop in. \n\nMornings on Main Street is proudly sponsored by the Tillamook branch of Columbia Bank.
URL:https://pacificcity.com/event/mornings-on-main-street/
LOCATION:Tillamook Area Chamber of Commerce\, 208 Main Ave.\, Tillamook\, OR\, 97141\, United States
CATEGORIES:Business,Community,Public Meetings
ATTACH;FMTTYPE=image/jpeg:https://pacificcity.com/wp-content/uploads/2026/01/MOrnings-Instagram-Post-HltnsD.jpg
END:VEVENT
BEGIN:VEVENT
DTSTART;TZID=America/Los_Angeles:20260616T100000
DTEND;TZID=America/Los_Angeles:20260616T110000
DTSTAMP:20260422T165313
CREATED:20260318T190036Z
LAST-MODIFIED:20260422T180126Z
UID:10010110-1781604000-1781607600@pacificcity.com
SUMMARY:Tillamook Main Library Storytime: Terrific Twos
DESCRIPTION:Terrific Twos (TT) on Tues @ 10am; developmentally appropriate for 24-36mos; bubbles\, balls\, parachute & instruments! There is no expectation that your children will sit still or be quiet. It’s not developmentally appropriate to ask them to. \nA couple of things about the children’s room that might set you at ease: \n\nThere is no expectation that it will be a quiet zone; kids are kids and they are allowed to act themselves in the children’s room.\nOnly 2 hard and fast rules: No Running & No Screaming.\nIf your child needs a snack\, feed them!
URL:https://pacificcity.com/event/tillamook-main-library-storytime-terrific-twos-4/
LOCATION:Tillamook Main Library\, Tillamook\, 1716 3rd St\, Tillamook\, OR\, 97141\, United States
CATEGORIES:Education,Family Fun
ATTACH;FMTTYPE=image/jpeg:https://pacificcity.com/wp-content/uploads/2023/01/TCL-white-k7N2nV.tmp_.jpg
ORGANIZER;CN="Melanie Hetrick":MAILTO:mhetrick@co.tillamook.or.us
END:VEVENT
BEGIN:VEVENT
DTSTART;TZID=America/Los_Angeles:20260616T100000
DTEND;TZID=America/Los_Angeles:20260616T150000
DTSTAMP:20260422T165313
CREATED:20260318T190029Z
LAST-MODIFIED:20260422T180103Z
UID:10010106-1781604000-1781622000@pacificcity.com
SUMMARY:Tuesday Stitchers
DESCRIPTION:Come and be a part of a community of people who love to make things for others\, and in turn make friends within the group. All levels are welcome. \nJoin us at the Kiawanda Community Center on Tuesdays from 10 AM to 3 PM in the Great Hall. \nFirst Monday every month from 4 to 9 PM. \nCall (503) 965-7900 for more details | $6 admission
URL:https://pacificcity.com/event/tuesday-stitchers-4/
LOCATION:Kiawanda Community Center\, 34600 Cape Kiwanda Dr\, Pacific City\, OR 97135\, OR\, United States
CATEGORIES:Classes and Workshops,Community
ATTACH;FMTTYPE=image/png:https://pacificcity.com/wp-content/uploads/2024/10/Tuesday-Stitchers-Group-Flyer-ymwGK5.tmp_.png
END:VEVENT
BEGIN:VEVENT
DTSTART;TZID=America/Los_Angeles:20260616T100000
DTEND;TZID=America/Los_Angeles:20260616T160000
DTSTAMP:20260422T165313
CREATED:20260318T092752Z
LAST-MODIFIED:20260422T055724Z
UID:10010064-1781604000-1781625600@pacificcity.com
SUMMARY:OPEN CLAY STUDIO
DESCRIPTION:Slab roller\, potter’s wheel\, tools\, and kiln time. $2/hr. Clay available $1 for 2 lbs. 503-368-3846\, hoffmancenter@nehalemtel.net\, www.hoffmancentermanzanita.org
URL:https://pacificcity.com/event/open-clay-studio-4/
LOCATION:Hoffman Center Studios\, 594 Laneda Avenue in Manzanita
END:VEVENT
BEGIN:VEVENT
DTSTART;TZID=America/Los_Angeles:20260616T103000
DTEND;TZID=America/Los_Angeles:20260616T130000
DTSTAMP:20260422T165313
CREATED:20260318T092752Z
LAST-MODIFIED:20260422T055724Z
UID:10010063-1781605800-1781614800@pacificcity.com
SUMMARY:WORKSHOP:  Writing Lounge
DESCRIPTION:Bring your project or start a new one using prompts that are always available. A bit of time at the end for sharing what you’ve written.\nDid you know expressive writing is good for you !? Research says it eases\nphysical and emotional distress.\nEvery Tuesday at the Hoffman Center in Manzanita 10:30 – 1:00. Donations of\n$5 keep the lights on.\nFor more info: contact Marcia Silver marciasilver12@gmail.com
URL:https://pacificcity.com/event/workshop-writing-lounge-4/
LOCATION:Hoffman Center\, Manzanita\, OR\, United States
GEO:45.71844;-123.93514
END:VEVENT
BEGIN:VEVENT
DTSTART;TZID=America/Los_Angeles:20260616T113000
DTEND;TZID=America/Los_Angeles:20260616T123000
DTSTAMP:20260422T165313
CREATED:20260318T190029Z
LAST-MODIFIED:20260422T180103Z
UID:10010108-1781609400-1781613000@pacificcity.com
SUMMARY:Senior Meals Tuesday & Wednesday
DESCRIPTION:🍽️ Senior Meals at the Kiawanda Community Center 🍽️ \nJoin us every Tuesday and Wednesday at 11:30 AM for delicious\, nutritious senior meals at the Kiawanda Community Center!\nCome enjoy great food and even better company in a warm and welcoming atmosphere. \n✨ Who: Seniors & community members\n📍 Where: Kiawanda Community Center\n📅 When: Every Tuesday & Wednesday\n⏰ Time: 11:30 AM \nBring a friend\, make new ones\, and enjoy a healthy midday meal! ❤️ \nFor more information\, call the Kiawanda Community Center.
URL:https://pacificcity.com/event/senior-meals-tuesday-wednesday-7/
LOCATION:Kiawanda Community Center\, 34600 Cape Kiwanda Dr\, Pacific City\, OR 97135\, OR\, United States
CATEGORIES:Community
ATTACH;FMTTYPE=image/png:https://pacificcity.com/wp-content/uploads/2025/12/Brown-Orange-Modern-Food-Price-Instagram-Post-Invitation-portrait-aciUYf.png
END:VEVENT
BEGIN:VEVENT
DTSTART;TZID=America/Los_Angeles:20260616T113000
DTEND;TZID=America/Los_Angeles:20260616T123000
DTSTAMP:20260422T165313
CREATED:20260318T190029Z
LAST-MODIFIED:20260413T175724Z
UID:10010107-1781609400-1781613000@pacificcity.com
SUMMARY:Senior Meals
DESCRIPTION:Senior Lunches are served at 11:30 am on Tuesdays and Wednesdays for $3 and others may attend for $6.
URL:https://pacificcity.com/event/senior-meals-4/
LOCATION:Kiawanda Community Center\, 34600 Cape Kiwanda Dr\, Pacific City\, OR 97135\, OR\, United States
CATEGORIES:Community
ATTACH;FMTTYPE=image/png:https://pacificcity.com/wp-content/uploads/2024/08/Senior-Meals-W1hmqM.tmp_.png
END:VEVENT
BEGIN:VEVENT
DTSTART;TZID=America/Los_Angeles:20260616T140000
DTEND;TZID=America/Los_Angeles:20260616T150000
DTSTAMP:20260422T165313
CREATED:20260318T190029Z
LAST-MODIFIED:20260422T180103Z
UID:10010109-1781618400-1781622000@pacificcity.com
SUMMARY:Book Club at Garibaldi Library
DESCRIPTION:Join us at the Garibaldi Branch Library on the third Tuesday of each month for a book club meeting at 2 pm. Pick up the book anytime before the meeting at the Garibaldi library.
URL:https://pacificcity.com/event/book-club-at-garibaldi-library/
LOCATION:Garibaldi Library\, 107 6th St\, Garibaldi OR
CATEGORIES:Classes and Workshops,Community
ATTACH;FMTTYPE=image/png:https://pacificcity.com/wp-content/uploads/2025/06/Garibaldi-Branch-Book-Club-cCvYWG.png
END:VEVENT
BEGIN:VEVENT
DTSTART;TZID=America/Los_Angeles:20260617T100000
DTEND;TZID=America/Los_Angeles:20260617T110000
DTSTAMP:20260422T165313
CREATED:20260319T191833Z
LAST-MODIFIED:20260422T180103Z
UID:10010112-1781690400-1781694000@pacificcity.com
SUMMARY:Tillamook Main Library Storytime: Preschool
DESCRIPTION:Preschool storytime (PS) on Wed @ 10; developmentally appropriate for 3-5 yos; music\, stories\, interactive play and lots of laughs! In this class little begin to learn about a leader at the front of the room\, how to hold their wiggles\, listening and sitting still. When a child is transitioning from TT to PS my expectation is that they will sit for 5-10 minutes and then they might go play. I do not force them to sit still if they are not ready to. \nA couple of things about the children’s room that might set you at ease: \n\nThere is no expectation that it will be a quiet zone; kids are kids and they are allowed to act like themselves in the children’s room.\nOnly 2 hard and fast rules: No Running & No Screaming.\nIf your child needs a snack\, feed them!
URL:https://pacificcity.com/event/tillamook-main-library-storytime-preschool-4/
LOCATION:Tillamook Main Library\, Tillamook\, 1716 3rd St\, Tillamook\, OR\, 97141\, United States
CATEGORIES:Education,Family Fun
ATTACH;FMTTYPE=image/png:https://pacificcity.com/wp-content/uploads/2023/01/TCL-transparent-logo-sNPWdP.tmp_.png
ORGANIZER;CN="Melanie Hetrick":MAILTO:mhetrick@co.tillamook.or.us
END:VEVENT
BEGIN:VEVENT
DTSTART;TZID=America/Los_Angeles:20260617T100000
DTEND;TZID=America/Los_Angeles:20260617T110000
DTSTAMP:20260422T165313
CREATED:20260319T191833Z
LAST-MODIFIED:20260422T180103Z
UID:10010113-1781690400-1781694000@pacificcity.com
SUMMARY:Walking Wonders
DESCRIPTION:Join this active group rain or shine to get your steps in and around town.
URL:https://pacificcity.com/event/walking-wonders-11/
LOCATION:Kiawanda Community Center\, 34600 Cape Kiwanda Dr\, Pacific City\, OR 97135\, OR\, United States
CATEGORIES:Fitness and Athletics
ATTACH;FMTTYPE=image/png:https://pacificcity.com/wp-content/uploads/2024/04/Walking-Wonders-JBf2iO.tmp_.png
END:VEVENT
BEGIN:VEVENT
DTSTART;TZID=America/Los_Angeles:20260617T103000
DTEND;TZID=America/Los_Angeles:20260617T113000
DTSTAMP:20260422T165313
CREATED:20260319T191834Z
LAST-MODIFIED:20260407T002725Z
UID:10010114-1781692200-1781695800@pacificcity.com
SUMMARY:Book Babies Storytime at Manzanita Library
DESCRIPTION:Stories and activities for the smallest patrons every 3rd Wednesday at 10:30 am!
URL:https://pacificcity.com/event/book-babies-storytime-at-manzanita-library/
LOCATION:Manzanita Library\, 571 Laneda Ave Manzanita OR
CATEGORIES:Community,Family Fun
ATTACH;FMTTYPE=image/png:https://pacificcity.com/wp-content/uploads/2025/09/Book-Babies-storytime-TZ-G8nEKM.png
END:VEVENT
BEGIN:VEVENT
DTSTART;TZID=America/Los_Angeles:20260617T113000
DTEND;TZID=America/Los_Angeles:20260617T123000
DTSTAMP:20260422T165313
CREATED:20260319T191834Z
LAST-MODIFIED:20260422T180104Z
UID:10010115-1781695800-1781699400@pacificcity.com
SUMMARY:Senior Meals Tuesday & Wednesday
DESCRIPTION:🍽️ Senior Meals at the Kiawanda Community Center 🍽️ \nJoin us every Tuesday and Wednesday at 11:30 AM for delicious\, nutritious senior meals at the Kiawanda Community Center!\nCome enjoy great food and even better company in a warm and welcoming atmosphere. \n✨ Who: Seniors & community members\n📍 Where: Kiawanda Community Center\n📅 When: Every Tuesday & Wednesday\n⏰ Time: 11:30 AM \nBring a friend\, make new ones\, and enjoy a healthy midday meal! ❤️ \nFor more information\, call the Kiawanda Community Center.
URL:https://pacificcity.com/event/senior-meals-tuesday-wednesday-8/
LOCATION:Kiawanda Community Center\, 34600 Cape Kiwanda Dr\, Pacific City\, OR 97135\, OR\, United States
CATEGORIES:Community
ATTACH;FMTTYPE=image/png:https://pacificcity.com/wp-content/uploads/2025/12/Brown-Orange-Modern-Food-Price-Instagram-Post-Invitation-portrait-aciUYf.png
END:VEVENT
BEGIN:VEVENT
DTSTART;TZID=America/Los_Angeles:20260617T133000
DTEND;TZID=America/Los_Angeles:20260617T150000
DTSTAMP:20260422T165313
CREATED:20260319T191834Z
LAST-MODIFIED:20260422T180104Z
UID:10010116-1781703000-1781708400@pacificcity.com
SUMMARY:American Legion Tillamook Post 47
DESCRIPTION:Monthly meetings will be the third Wednesday of each month at 1:30 pm at the Tillamook Eagles Lodge.  All active duty honorably discharged veterans of all branches including the Coast Guard are eligible to join and help us grow this 103 year old American Legion post.  Next year we are launching to programs for our County youth: \nhttps://orlegion.org/programs/law-enforcement-career-camp/ \nhttps://www.legion.org/shooting
URL:https://pacificcity.com/event/american-legion-tillamook-post-47/
LOCATION:Tillamook Eagles Lodge\, 209 Stillwell Ave.
CATEGORIES:Business
ATTACH;FMTTYPE=image/jpeg:https://pacificcity.com/wp-content/uploads/2023/10/IMG_1308-Pgfopi.tmp_.jpg
ORGANIZER;CN="Larry Emery Post Adjutant":MAILTO:larry@tillamookpost47.com
END:VEVENT
BEGIN:VEVENT
DTSTART;TZID=America/Los_Angeles:20260617T161500
DTEND;TZID=America/Los_Angeles:20260617T171500
DTSTAMP:20260422T165313
CREATED:20260319T191834Z
LAST-MODIFIED:20260422T180104Z
UID:10010117-1781712900-1781716500@pacificcity.com
SUMMARY:Teen Craft & Chat at Garibaldi Library
DESCRIPTION:Drop in crafting and social time for teens!
URL:https://pacificcity.com/event/teen-craft-chat-at-garibaldi-library/
LOCATION:Garibaldi Library\, 107 6th St\, Garibaldi OR
CATEGORIES:Community
ATTACH;FMTTYPE=image/png:https://pacificcity.com/wp-content/uploads/2025/03/Teen-Craft-Chat-0DA3to.tmp_.png
END:VEVENT
BEGIN:VEVENT
DTSTART;TZID=America/Los_Angeles:20260617T180000
DTEND;TZID=America/Los_Angeles:20260617T193000
DTSTAMP:20260422T165313
CREATED:20260320T100117Z
LAST-MODIFIED:20260422T055724Z
UID:10010118-1781719200-1781724600@pacificcity.com
SUMMARY:SQUARE DANCE LESSONS
DESCRIPTION:Square Dance Lessons every Wednesday at 6pm. Learn modern Square Dancing with the Wave Steppers of Tillamook Bay. Children 9 and older welcome with an adult. For more information\, call Barb (503) 812-4126\, or Carolyn (503) 801-4044. FREE!
URL:https://pacificcity.com/event/square-dance-lessons-4/
LOCATION:Elks Lodge\, 1907 3rd St\, Tillamook\, OR\, United States
GEO:45.456251;-123.844973
X-APPLE-STRUCTURED-LOCATION;VALUE=URI;X-ADDRESS=Elks Lodge 1907 3rd St Tillamook OR United States;X-APPLE-RADIUS=500;X-TITLE=1907 3rd St:geo:-123.844973,45.456251
END:VEVENT
BEGIN:VEVENT
DTSTART;TZID=America/Los_Angeles:20260618T090000
DTEND;TZID=America/Los_Angeles:20260618T100000
DTSTAMP:20260422T165314
CREATED:20260320T192909Z
LAST-MODIFIED:20260422T180104Z
UID:10010122-1781773200-1781776800@pacificcity.com
SUMMARY:Yoga With Dawn
DESCRIPTION:🧘‍♀️ Yoga with Dawn – Find Your Flow! 🧘‍♂️ \nStart your day with peace\, strength\, and positive energy 🌞Join Dawn for a refreshing yoga class every: \n🗓️ Monday\, Wednesday\, Friday & Saturday🕘 9:00 AM – 10:00 AM📍 Kiawanda Community Center \nAll levels are welcome—whether you’re new to yoga or a seasoned pro\, Dawn’s calm guidance and supportive atmosphere will leave you feeling refreshed and centered. \n✨ Bring a mat\, some water\, and a smile.No registration needed—just drop in and breathe it out with us! \n#YogaWithDawn #KiawandaCommunityCenter #MorningYoga #WellnessInPacificCity #MindBodySoul
URL:https://pacificcity.com/event/yoga-with-dawn-14/
LOCATION:Kiawanda Community Center\, 34600 Cape Kiwanda Dr\, Pacific City\, OR 97135\, OR\, United States
CATEGORIES:Classes and Workshops,Community
ATTACH;FMTTYPE=image/jpeg:https://pacificcity.com/wp-content/uploads/2025/07/yoga-VHSvFY.jpg
END:VEVENT
BEGIN:VEVENT
DTSTART;TZID=America/Los_Angeles:20260618T100000
DTEND;TZID=America/Los_Angeles:20260618T110000
DTSTAMP:20260422T165314
CREATED:20260320T192909Z
LAST-MODIFIED:20260422T180104Z
UID:10010123-1781776800-1781780400@pacificcity.com
SUMMARY:Family Storytime at Bay City Library
DESCRIPTION:Bring the whole family down to the Bay City Library for a fun storytime and activity every Thursday at 10am!
URL:https://pacificcity.com/event/family-storytime-at-bay-city-library-4/
LOCATION:Bay City Library\, 5525 B St\, Bay City\, OR
CATEGORIES:Community,Family Fun
ATTACH;FMTTYPE=image/png:https://pacificcity.com/wp-content/uploads/2024/12/Bay-City-Storytime1-ipDxEC.tmp_.png
END:VEVENT
END:VCALENDAR