BEGIN:VCALENDAR
VERSION:2.0
PRODID:-//Pacific City - ECPv6.15.20//NONSGML v1.0//EN
CALSCALE:GREGORIAN
METHOD:PUBLISH
X-ORIGINAL-URL:https://pacificcity.com
X-WR-CALDESC:Events for Pacific City
REFRESH-INTERVAL;VALUE=DURATION:PT1H
X-Robots-Tag:noindex
X-PUBLISHED-TTL:PT1H
BEGIN:VTIMEZONE
TZID:America/Los_Angeles
BEGIN:DAYLIGHT
TZOFFSETFROM:-0800
TZOFFSETTO:-0700
TZNAME:PDT
DTSTART:20250309T100000
END:DAYLIGHT
BEGIN:STANDARD
TZOFFSETFROM:-0700
TZOFFSETTO:-0800
TZNAME:PST
DTSTART:20251102T090000
END:STANDARD
BEGIN:DAYLIGHT
TZOFFSETFROM:-0800
TZOFFSETTO:-0700
TZNAME:PDT
DTSTART:20260308T100000
END:DAYLIGHT
BEGIN:STANDARD
TZOFFSETFROM:-0700
TZOFFSETTO:-0800
TZNAME:PST
DTSTART:20261101T090000
END:STANDARD
BEGIN:DAYLIGHT
TZOFFSETFROM:-0800
TZOFFSETTO:-0700
TZNAME:PDT
DTSTART:20270314T100000
END:DAYLIGHT
BEGIN:STANDARD
TZOFFSETFROM:-0700
TZOFFSETTO:-0800
TZNAME:PST
DTSTART:20271107T090000
END:STANDARD
END:VTIMEZONE
BEGIN:VEVENT
DTSTART;TZID=America/Los_Angeles:20260604T100000
DTEND;TZID=America/Los_Angeles:20260604T110000
DTSTAMP:20260422T111640
CREATED:20260306T164412Z
LAST-MODIFIED:20260422T180056Z
UID:10009959-1780567200-1780570800@pacificcity.com
SUMMARY:Family Storytime at Bay City Library
DESCRIPTION:Bring the whole family down to the Bay City Library for a fun storytime and activity every Thursday at 10am!
URL:https://pacificcity.com/event/family-storytime-at-bay-city-library-2/
LOCATION:Bay City Library\, 5525 B St\, Bay City\, OR
CATEGORIES:Community,Family Fun
ATTACH;FMTTYPE=image/png:https://pacificcity.com/wp-content/uploads/2024/12/Bay-City-Storytime1-ipDxEC.tmp_.png
END:VEVENT
BEGIN:VEVENT
DTSTART;TZID=America/Los_Angeles:20260604T100000
DTEND;TZID=America/Los_Angeles:20260604T160000
DTSTAMP:20260422T111640
CREATED:20260306T074308Z
LAST-MODIFIED:20260422T055721Z
UID:10009952-1780567200-1780588800@pacificcity.com
SUMMARY:CLAY OPEN STUDIO
DESCRIPTION:Clay open studio.  Ages 12 and up.  $2 per hour.  Clay $1 for a two-pound block\, includes tools and firing.   For information contact 503-368-7985\, longboardmenow@nehalemtel.net\, www.hoffmancentermanzanita.org
URL:https://pacificcity.com/event/clay-open-studio-3/
LOCATION:Hoffman Center\, 594 Laneda Avenue in Manzanita
END:VEVENT
BEGIN:VEVENT
DTSTART;TZID=America/Los_Angeles:20260604T103000
DTEND;TZID=America/Los_Angeles:20260604T113000
DTSTAMP:20260422T111640
CREATED:20260306T164412Z
LAST-MODIFIED:20260422T180056Z
UID:10009960-1780569000-1780572600@pacificcity.com
SUMMARY:Tai Chi at the KCC
DESCRIPTION:Come to this weekly class in Pacific City to learn the forms in this moving meditation. Feel your life force flowing through you and get energized for you day!
URL:https://pacificcity.com/event/tai-chi-at-the-kcc-2/
LOCATION:Kiawanda Community Center\, 34600 Cape Kiwanda Dr\, Pacific City\, OR 97135\, OR\, United States
CATEGORIES:Fitness and Athletics
ATTACH;FMTTYPE=image/png:https://pacificcity.com/wp-content/uploads/2024/04/Tai-Chi-6MOKs8.tmp_.png
END:VEVENT
BEGIN:VEVENT
DTSTART;TZID=America/Los_Angeles:20260604T130000
DTEND;TZID=America/Los_Angeles:20260604T150000
DTSTAMP:20260422T111640
CREATED:20260306T164412Z
LAST-MODIFIED:20260422T180056Z
UID:10009961-1780578000-1780585200@pacificcity.com
SUMMARY:Bingo
DESCRIPTION:🎉 Thursday Bingo Fun at the Kiawanda Community Center! 🎉 \nJoin us every Thursday from 1PM to 3PM for an afternoon of bingo\, community\, and fun at the Kiawanda Community Center! \n🗓️ When: Thursdays\, 1:00–3:00 PM\n📍 Where: Kiawanda Community Center\n🎁 Prizes\, laughs\, and good company guaranteed! \nWhether you’re a seasoned player or brand new to the game\, everyone is welcome! Come early\, grab your favorite seat\, and get ready for a great time! 🙌 \nTag your bingo buddy and spread the word! 🎊 \n#BingoFun #KiawandaCommunityCenter #PacificCityEvents #ThursdayBingo #CommunityVibes
URL:https://pacificcity.com/event/bingo-2/
LOCATION:Kiawanda Community Center\, 34600 Cape Kiwanda Dr\, Pacific City\, OR 97135\, OR\, United States
CATEGORIES:Community
ATTACH;FMTTYPE=image/jpeg:https://pacificcity.com/wp-content/uploads/2025/07/Cream-Orange-Colorful-Retro-We-Are-Hiring-Flyer-AADTwu.jpg
END:VEVENT
BEGIN:VEVENT
DTSTART;TZID=America/Los_Angeles:20260604T140000
DTEND;TZID=America/Los_Angeles:20260604T150000
DTSTAMP:20260422T111640
CREATED:20260306T164413Z
LAST-MODIFIED:20260422T180056Z
UID:10009962-1780581600-1780585200@pacificcity.com
SUMMARY:Mahjong at Manzanita Library
DESCRIPTION:Play mahjong in a fun informal group at the Manzanita library Thursdays at 2 pm!
URL:https://pacificcity.com/event/mahjong-at-manzanita-library-2/
LOCATION:Manzanita Library\, 571 Laneda Ave Manzanita OR
CATEGORIES:Community,Family Fun
END:VEVENT
BEGIN:VEVENT
DTSTART;TZID=America/Los_Angeles:20260604T160000
DTEND;TZID=America/Los_Angeles:20260604T173000
DTSTAMP:20260422T111640
CREATED:20260306T164413Z
LAST-MODIFIED:20260422T180057Z
UID:10009963-1780588800-1780594200@pacificcity.com
SUMMARY:Knitting Group
DESCRIPTION:Join a fun group of knitters at North Tillamook Library in Manzanita on Thursdays from 4pm to 5:30pm.
URL:https://pacificcity.com/event/knitting-group-2/
LOCATION:North Tillamook Library\, 571 Laneda Ave\, Manzanita\, OR 97130
CATEGORIES:Community,Education
ATTACH;FMTTYPE=image/png:https://pacificcity.com/wp-content/uploads/2024/08/logo-H5fs7I.tmp_.png
END:VEVENT
BEGIN:VEVENT
DTSTART;TZID=America/Los_Angeles:20260604T180000
DTEND;TZID=America/Los_Angeles:20260604T200000
DTSTAMP:20260422T111640
CREATED:20260307T074343Z
LAST-MODIFIED:20260422T055722Z
UID:10009964-1780596000-1780603200@pacificcity.com
SUMMARY:DRAWING SESSIONS
DESCRIPTION:Bring drawing materials.  The group takes turns posing for each other.  $2 donation to cover room rental.  Contact Marilyn Burkhardt\, 503-392-3333\, artist@marilynburkhardt.com.
URL:https://pacificcity.com/event/drawing-sessions-2/
LOCATION:Nestucca High School in downtown Cloverdale
END:VEVENT
BEGIN:VEVENT
DTSTART;TZID=America/Los_Angeles:20260605T090000
DTEND;TZID=America/Los_Angeles:20260605T100000
DTSTAMP:20260422T111640
CREATED:20260307T170330Z
LAST-MODIFIED:20260422T180057Z
UID:10009967-1780650000-1780653600@pacificcity.com
SUMMARY:Yoga With Dawn
DESCRIPTION:🧘‍♀️ Yoga with Dawn – Find Your Flow! 🧘‍♂️ \nStart your day with peace\, strength\, and positive energy 🌞Join Dawn for a refreshing yoga class every: \n🗓️ Monday\, Wednesday\, Friday & Saturday🕘 9:00 AM – 10:00 AM📍 Kiawanda Community Center \nAll levels are welcome—whether you’re new to yoga or a seasoned pro\, Dawn’s calm guidance and supportive atmosphere will leave you feeling refreshed and centered. \n✨ Bring a mat\, some water\, and a smile.No registration needed—just drop in and breathe it out with us! \n#YogaWithDawn #KiawandaCommunityCenter #MorningYoga #WellnessInPacificCity #MindBodySoul
URL:https://pacificcity.com/event/yoga-with-dawn-7/
LOCATION:Kiawanda Community Center\, 34600 Cape Kiwanda Dr\, Pacific City\, OR 97135\, OR\, United States
CATEGORIES:Classes and Workshops,Community
ATTACH;FMTTYPE=image/jpeg:https://pacificcity.com/wp-content/uploads/2025/07/yoga-VHSvFY.jpg
END:VEVENT
BEGIN:VEVENT
DTSTART;TZID=America/Los_Angeles:20260605T100000
DTEND;TZID=America/Los_Angeles:20260605T110000
DTSTAMP:20260422T111640
CREATED:20260307T170330Z
LAST-MODIFIED:20260422T180057Z
UID:10009968-1780653600-1780657200@pacificcity.com
SUMMARY:Walking Wonders
DESCRIPTION:Join this active group rain or shine to get your steps in and around town.
URL:https://pacificcity.com/event/walking-wonders-6/
LOCATION:Kiawanda Community Center\, 34600 Cape Kiwanda Dr\, Pacific City\, OR 97135\, OR\, United States
CATEGORIES:Fitness and Athletics
ATTACH;FMTTYPE=image/png:https://pacificcity.com/wp-content/uploads/2024/04/Walking-Wonders-JBf2iO.tmp_.png
END:VEVENT
BEGIN:VEVENT
DTSTART;TZID=America/Los_Angeles:20260605T100000
DTEND;TZID=America/Los_Angeles:20260605T110000
DTSTAMP:20260422T111640
CREATED:20260307T170337Z
LAST-MODIFIED:20260422T180125Z
UID:10009966-1780653600-1780657200@pacificcity.com
SUMMARY:Tillamook Main Library Storytime: Mother Goose on the Loose
DESCRIPTION:Mother Goose on the Loose (MGOL) on Fri @ 10am; developmentally appropriate for birth to 24mos; rhythm\, rhymes\, instruments\, scarves and puppets! There is no expectation that your children will sit still or be quiet. It’s not developmentally appropriate to ask them to.
URL:https://pacificcity.com/event/tillamook-main-library-storytime-mother-goose-on-the-loose-2/
LOCATION:Tillamook Main Library\, Tillamook\, 1716 3rd St\, Tillamook\, OR\, 97141\, United States
CATEGORIES:Education,Family Fun
ATTACH;FMTTYPE=image/png:https://pacificcity.com/wp-content/uploads/2023/01/TCL-transparent-logo-1-faUbXa.tmp_.png
ORGANIZER;CN="Melanie Hetrick":MAILTO:mhetrick@co.tillamook.or.us
END:VEVENT
BEGIN:VEVENT
DTSTART;TZID=America/Los_Angeles:20260605T100000
DTEND;TZID=America/Los_Angeles:20260605T120000
DTSTAMP:20260422T111640
CREATED:20260307T170330Z
LAST-MODIFIED:20260422T180058Z
UID:10009969-1780653600-1780660800@pacificcity.com
SUMMARY:Trail Building in Nehalem Bay With LNCT!
DESCRIPTION:Every Friday\, volunteers gather on LNCT lands near Manzanita\, Nehalem and Wheeler to protect and restore habitat in the lower Nehalem watershed. We would love to see new faces out on the land!\n\n\n\nThese work parties are beginner friendly and an opportunity to learn about the engineering of hiking trails. We will be working on uneven ground\, bending\, and moving small rocks and brush during this process. Tools and gloves are provided\, new volunteers welcome and no prior experience needed. Join as frequently as you please.  Email shane@nehalemtrust.org for weekly updates on where to meet.\n\nAlder Creek Farm and Natural Area’s Nehalem Teaching Trail already supports an impressive variety of native plants and simulated ecosystems for community learning—but we’re looking to grow. This short trail will extend educational access into a different ecosystem and connect to the Natural Area’s pollinator meadow. We hope it will also add some variety to habitat access for bird watchers who visit the farm as a part of the Oregon Coast Birding Trail.
URL:https://pacificcity.com/event/trail-building-in-nehalem-bay-with-lnct-2/
LOCATION:Lower Nehalem Community Trust
CATEGORIES:Community,Education,Outdoor
ATTACH;FMTTYPE=image/jpeg:https://pacificcity.com/wp-content/uploads/2025/12/LNCT-Stewardship-Poster-4-R0qABz.jpg
END:VEVENT
BEGIN:VEVENT
DTSTART;TZID=America/Los_Angeles:20260605T110000
DTEND;TZID=America/Los_Angeles:20260605T120000
DTSTAMP:20260422T111640
CREATED:20260307T170330Z
LAST-MODIFIED:20260422T180058Z
UID:10009970-1780657200-1780660800@pacificcity.com
SUMMARY:Storytime at Garibaldi Library
DESCRIPTION:Kids of all ages are welcome to the Garibaldi Library for storytime\, Fridays at 11:00am.
URL:https://pacificcity.com/event/storytime-at-garibaldi-library-2/
LOCATION:Garibaldi Library\, 107 6th St\, Garibaldi OR
CATEGORIES:Community,Family Fun
ATTACH;FMTTYPE=image/png:https://pacificcity.com/wp-content/uploads/2025/06/Garibaldi-Story-Time-flyer-sA1TAy.png
END:VEVENT
BEGIN:VEVENT
DTSTART;TZID=America/Los_Angeles:20260605T180000
DTEND;TZID=America/Los_Angeles:20260605T200000
DTSTAMP:20260422T111640
CREATED:20260308T075633Z
LAST-MODIFIED:20260422T055722Z
UID:10009971-1780682400-1780689600@pacificcity.com
SUMMARY:DANCE: Spirit Dance 2.0
DESCRIPTION:Join us for our weekly free-form dance celebration. Music by DJ Pranawave. 6pm warm-up and stretch. 6:15 Circle opens and dance begins. 8pm finish. Suggested donation\, $10. Free for kids!
URL:https://pacificcity.com/event/dance-spirit-dance-2-0-2/
LOCATION:Pine Grove Community Club\, 225 Laneda Ave\, Manzanita\, OR\, United States
GEO:45.718587;-123.936947
X-APPLE-STRUCTURED-LOCATION;VALUE=URI;X-ADDRESS=Pine Grove Community Club 225 Laneda Ave Manzanita OR United States;X-APPLE-RADIUS=500;X-TITLE=225 Laneda Ave:geo:-123.936947,45.718587
END:VEVENT
BEGIN:VEVENT
DTSTART;TZID=America/Los_Angeles:20260605T180000
DTEND;TZID=America/Los_Angeles:20260605T200000
DTSTAMP:20260422T111640
CREATED:20260308T075633Z
LAST-MODIFIED:20260422T055722Z
UID:10009972-1780682400-1780689600@pacificcity.com
SUMMARY:EVENT: Garibaldi Jam
DESCRIPTION:The Jam plays mostly old-time favorites and Country-Western standards using their complete sound system\, with the audience “cutting a rug” on the large dance floor while others sit and enjoy\, toes a-tapping.\nNo admission fee is charged\, but donations are always welcome. Come join them for an evening of fun – they always welcome good musicians.\nLocation: Garibaldi Community Hall\, 6th St. and Acacia Ave.\nDate(s): Most Fridays\nTime: 6 pm to 8 pm\nAdmission: By donation\nFor more information contact Bud & Elsie Massey at 503-801-0953
URL:https://pacificcity.com/event/event-garibaldi-jam-2/
LOCATION:Garibaldi Community Hall\, Garibaldi\, OR\, United States
GEO:45.558563;-123.921656
END:VEVENT
BEGIN:VEVENT
DTSTART;TZID=America/Los_Angeles:20260606T090000
DTEND;TZID=America/Los_Angeles:20260606T100000
DTSTAMP:20260422T111640
CREATED:20260308T171723Z
LAST-MODIFIED:20260422T180058Z
UID:10009974-1780736400-1780740000@pacificcity.com
SUMMARY:Yoga With Dawn
DESCRIPTION:🧘‍♀️ Yoga with Dawn – Find Your Flow! 🧘‍♂️ \nStart your day with peace\, strength\, and positive energy 🌞Join Dawn for a refreshing yoga class every: \n🗓️ Monday\, Wednesday\, Friday & Saturday🕘 9:00 AM – 10:00 AM📍 Kiawanda Community Center \nAll levels are welcome—whether you’re new to yoga or a seasoned pro\, Dawn’s calm guidance and supportive atmosphere will leave you feeling refreshed and centered. \n✨ Bring a mat\, some water\, and a smile.No registration needed—just drop in and breathe it out with us! \n#YogaWithDawn #KiawandaCommunityCenter #MorningYoga #WellnessInPacificCity #MindBodySoul
URL:https://pacificcity.com/event/yoga-with-dawn-8/
LOCATION:Kiawanda Community Center\, 34600 Cape Kiwanda Dr\, Pacific City\, OR 97135\, OR\, United States
CATEGORIES:Classes and Workshops,Community
ATTACH;FMTTYPE=image/jpeg:https://pacificcity.com/wp-content/uploads/2025/07/yoga-VHSvFY.jpg
END:VEVENT
BEGIN:VEVENT
DTSTART;TZID=America/Los_Angeles:20260606T100000
DTEND;TZID=America/Los_Angeles:20260606T120000
DTSTAMP:20260422T111640
CREATED:20260308T171723Z
LAST-MODIFIED:20260422T180058Z
UID:10009975-1780740000-1780747200@pacificcity.com
SUMMARY:Dungeons and Dragons at Tillamook Library
DESCRIPTION:Play a variety of tabletop RPGs with local storytellers at the library! Open to all!
URL:https://pacificcity.com/event/dungeons-and-dragons-at-tillamook-library-4/
LOCATION:Tillamook County Library\, 1716 3rd Street Tillamook Oregon 97141
CATEGORIES:Community
ATTACH;FMTTYPE=image/png:https://pacificcity.com/wp-content/uploads/2025/07/Dungeons-Dragons-2025-TM-VjWbKf.png
END:VEVENT
BEGIN:VEVENT
DTSTART;TZID=America/Los_Angeles:20260606T100000
DTEND;TZID=America/Los_Angeles:20260606T160000
DTSTAMP:20260422T111640
CREATED:20260308T075633Z
LAST-MODIFIED:20260422T055722Z
UID:10009973-1780740000-1780761600@pacificcity.com
SUMMARY:CLAY OPEN STUDIO
DESCRIPTION:Participants can purchase clay\, plus there are a number of bisque pieces available to buy and glaze as well.  All experience levels are welcome and a Studio Host is available to answer questions and offer tips.  Children under 12 must be accompanied by an adult.  Studio fees are $2 per hour\, which includes glazing and firing up the finished product.  Clay is $2 per 1 pound section.  For more information\, contact the Clay hosts at: hoffmanclaystudio@gmail.com
URL:https://pacificcity.com/event/clay-open-studio-4/
LOCATION:Hoffman Center for the Arts\, 594 Laneda Ave\, Manzanita\, OR\, United States
GEO:45.719325;-123.931502
X-APPLE-STRUCTURED-LOCATION;VALUE=URI;X-ADDRESS=Hoffman Center for the Arts 594 Laneda Ave Manzanita OR United States;X-APPLE-RADIUS=500;X-TITLE=594 Laneda Ave:geo:-123.931502,45.719325
END:VEVENT
BEGIN:VEVENT
DTSTART;TZID=America/Los_Angeles:20260606T140000
DTEND;TZID=America/Los_Angeles:20260606T170000
DTSTAMP:20260422T111640
CREATED:20260308T171723Z
LAST-MODIFIED:20260422T180058Z
UID:10009976-1780754400-1780765200@pacificcity.com
SUMMARY:Maker Saturday at the Bay City Library
DESCRIPTION:Join us at the Bay City Branch Library on the 3rd Saturday of the month at 2:00pm and 5:00pm for Maker Saturday! Bring a project you have been working on or come and be inspired by the supplies we have. \nDo you have a new model or a LEGO kit you’ve been meaning to work on? Is there a painting or craft you’ve been wanting to start and/or finish? Are you looking for a place to get away for a while to work on your project? \nWe can help! Please note\, supplies are limited.
URL:https://pacificcity.com/event/maker-saturday-at-the-bay-city-library-2/
LOCATION:Bay City Library\, 5525 B St\, Bay City\, OR
CATEGORIES:Community
ATTACH;FMTTYPE=image/png:https://pacificcity.com/wp-content/uploads/2025/03/maker_saturdays-YkBlQF.tmp_.png
END:VEVENT
BEGIN:VEVENT
DTSTART;TZID=America/Los_Angeles:20260606T190000
DTEND;TZID=America/Los_Angeles:20260606T210000
DTSTAMP:20260422T111640
CREATED:20260308T171723Z
LAST-MODIFIED:20260422T180058Z
UID:10009977-1780772400-1780779600@pacificcity.com
SUMMARY:Live Music!
DESCRIPTION:Live music every Saturday from 7–9pm in The Schooner Lounge—because your weekend deserves a soundtrack. \nKick back to the sounds of local musicians\, stay for the crave-worthy eats\, craft cocktails\, cold beers\, and our fabulous crew who always bring the good vibes. \nCurious who’s playing? Check out our lineup of Oregon-grown talent on our website!
URL:https://pacificcity.com/event/live-music-2/
LOCATION:The Schooner Restaurant & Lounge\, 2065 Boat Basin Rd
CATEGORIES:Arts and Culture,Live Music
ATTACH;FMTTYPE=image/jpeg:https://pacificcity.com/wp-content/uploads/2025/05/Schooner-music-scaled-xb7eha.jpg
END:VEVENT
BEGIN:VEVENT
DTSTART;TZID=America/Los_Angeles:20260607T100000
DTEND;TZID=America/Los_Angeles:20260607T130000
DTSTAMP:20260422T111640
CREATED:20260309T080225Z
LAST-MODIFIED:20260422T055722Z
UID:10009978-1780826400-1780837200@pacificcity.com
SUMMARY:LIFE DRAWING GROUP
DESCRIPTION:Weekly life drawing session with live model.\nModel fee collected from each participant. For address and more information call Judy: 503-368-7868\, sorrel@nehalemtel.net\,
URL:https://pacificcity.com/event/life-drawing-group-2/
LOCATION:Nehalem\, Nehalem\, OR\, United States
GEO:45.651933;-123.853529
END:VEVENT
BEGIN:VEVENT
DTSTART;TZID=America/Los_Angeles:20260608T090000
DTEND;TZID=America/Los_Angeles:20260608T100000
DTSTAMP:20260422T111640
CREATED:20260310T172945Z
LAST-MODIFIED:20260422T180059Z
UID:10010000-1780909200-1780912800@pacificcity.com
SUMMARY:Yoga With Dawn
DESCRIPTION:🧘‍♀️ Yoga with Dawn – Find Your Flow! 🧘‍♂️ \nStart your day with peace\, strength\, and positive energy 🌞Join Dawn for a refreshing yoga class every: \n🗓️ Monday\, Wednesday\, Friday & Saturday🕘 9:00 AM – 10:00 AM📍 Kiawanda Community Center \nAll levels are welcome—whether you’re new to yoga or a seasoned pro\, Dawn’s calm guidance and supportive atmosphere will leave you feeling refreshed and centered. \n✨ Bring a mat\, some water\, and a smile.No registration needed—just drop in and breathe it out with us! \n#YogaWithDawn #KiawandaCommunityCenter #MorningYoga #WellnessInPacificCity #MindBodySoul
URL:https://pacificcity.com/event/yoga-with-dawn-9/
LOCATION:Kiawanda Community Center\, 34600 Cape Kiwanda Dr\, Pacific City\, OR 97135\, OR\, United States
CATEGORIES:Classes and Workshops,Community
ATTACH;FMTTYPE=image/jpeg:https://pacificcity.com/wp-content/uploads/2025/07/yoga-VHSvFY.jpg
END:VEVENT
BEGIN:VEVENT
DTSTART;TZID=America/Los_Angeles:20260608T100000
DTEND;TZID=America/Los_Angeles:20260608T110000
DTSTAMP:20260422T111640
CREATED:20260310T172945Z
LAST-MODIFIED:20260422T180059Z
UID:10010001-1780912800-1780916400@pacificcity.com
SUMMARY:Walking Wonders
DESCRIPTION:Join this active group rain or shine to get your steps in and around town.
URL:https://pacificcity.com/event/walking-wonders-7/
LOCATION:Kiawanda Community Center\, 34600 Cape Kiwanda Dr\, Pacific City\, OR 97135\, OR\, United States
CATEGORIES:Fitness and Athletics
ATTACH;FMTTYPE=image/png:https://pacificcity.com/wp-content/uploads/2024/04/Walking-Wonders-JBf2iO.tmp_.png
END:VEVENT
BEGIN:VEVENT
DTSTART;TZID=America/Los_Angeles:20260608T103000
DTEND;TZID=America/Los_Angeles:20260608T123000
DTSTAMP:20260422T111640
CREATED:20260310T172945Z
LAST-MODIFIED:20260422T180059Z
UID:10010002-1780914600-1780921800@pacificcity.com
SUMMARY:Dungeons and Dragons at Tillamook Library
DESCRIPTION:Play a variety of tabletop RPGs with local storytellers at the library! Open to all!
URL:https://pacificcity.com/event/dungeons-and-dragons-at-tillamook-library-5/
LOCATION:Tillamook County Library\, 1716 3rd Street Tillamook Oregon 97141
CATEGORIES:Community
ATTACH;FMTTYPE=image/png:https://pacificcity.com/wp-content/uploads/2025/07/Dungeons-Dragons-2025-TM-1-WZfv4w.png
END:VEVENT
BEGIN:VEVENT
DTSTART;TZID=America/Los_Angeles:20260609T100000
DTEND;TZID=America/Los_Angeles:20260609T110000
DTSTAMP:20260422T111640
CREATED:20260311T174401Z
LAST-MODIFIED:20260422T180126Z
UID:10010005-1780999200-1781002800@pacificcity.com
SUMMARY:Tillamook Main Library Storytime: Terrific Twos
DESCRIPTION:Terrific Twos (TT) on Tues @ 10am; developmentally appropriate for 24-36mos; bubbles\, balls\, parachute & instruments! There is no expectation that your children will sit still or be quiet. It’s not developmentally appropriate to ask them to. \nA couple of things about the children’s room that might set you at ease: \n\nThere is no expectation that it will be a quiet zone; kids are kids and they are allowed to act themselves in the children’s room.\nOnly 2 hard and fast rules: No Running & No Screaming.\nIf your child needs a snack\, feed them!
URL:https://pacificcity.com/event/tillamook-main-library-storytime-terrific-twos-3/
LOCATION:Tillamook Main Library\, Tillamook\, 1716 3rd St\, Tillamook\, OR\, 97141\, United States
CATEGORIES:Education,Family Fun
ATTACH;FMTTYPE=image/jpeg:https://pacificcity.com/wp-content/uploads/2023/01/TCL-white-k7N2nV.tmp_.jpg
ORGANIZER;CN="Melanie Hetrick":MAILTO:mhetrick@co.tillamook.or.us
END:VEVENT
BEGIN:VEVENT
DTSTART;TZID=America/Los_Angeles:20260609T100000
DTEND;TZID=America/Los_Angeles:20260609T150000
DTSTAMP:20260422T111640
CREATED:20260311T174353Z
LAST-MODIFIED:20260422T180059Z
UID:10010006-1780999200-1781017200@pacificcity.com
SUMMARY:Tuesday Stitchers
DESCRIPTION:Come and be a part of a community of people who love to make things for others\, and in turn make friends within the group. All levels are welcome. \nJoin us at the Kiawanda Community Center on Tuesdays from 10 AM to 3 PM in the Great Hall. \nFirst Monday every month from 4 to 9 PM. \nCall (503) 965-7900 for more details | $6 admission
URL:https://pacificcity.com/event/tuesday-stitchers-3/
LOCATION:Kiawanda Community Center\, 34600 Cape Kiwanda Dr\, Pacific City\, OR 97135\, OR\, United States
CATEGORIES:Classes and Workshops,Community
ATTACH;FMTTYPE=image/png:https://pacificcity.com/wp-content/uploads/2024/10/Tuesday-Stitchers-Group-Flyer-ymwGK5.tmp_.png
END:VEVENT
BEGIN:VEVENT
DTSTART;TZID=America/Los_Angeles:20260609T100000
DTEND;TZID=America/Los_Angeles:20260609T160000
DTSTAMP:20260422T111640
CREATED:20260311T081206Z
LAST-MODIFIED:20260422T055722Z
UID:10010003-1780999200-1781020800@pacificcity.com
SUMMARY:OPEN CLAY STUDIO
DESCRIPTION:Slab roller\, potter’s wheel\, tools\, and kiln time. $2/hr. Clay available $1 for 2 lbs. 503-368-3846\, hoffmancenter@nehalemtel.net\, www.hoffmancentermanzanita.org
URL:https://pacificcity.com/event/open-clay-studio-3/
LOCATION:Hoffman Center Studios\, 594 Laneda Avenue in Manzanita
END:VEVENT
BEGIN:VEVENT
DTSTART;TZID=America/Los_Angeles:20260609T103000
DTEND;TZID=America/Los_Angeles:20260609T130000
DTSTAMP:20260422T111640
CREATED:20260311T081207Z
LAST-MODIFIED:20260422T055722Z
UID:10010004-1781001000-1781010000@pacificcity.com
SUMMARY:WORKSHOP:  Writing Lounge
DESCRIPTION:Bring your project or start a new one using prompts that are always available. A bit of time at the end for sharing what you’ve written.\nDid you know expressive writing is good for you !? Research says it eases\nphysical and emotional distress.\nEvery Tuesday at the Hoffman Center in Manzanita 10:30 – 1:00. Donations of\n$5 keep the lights on.\nFor more info: contact Marcia Silver marciasilver12@gmail.com
URL:https://pacificcity.com/event/workshop-writing-lounge-3/
LOCATION:Hoffman Center\, Manzanita\, OR\, United States
GEO:45.71844;-123.93514
END:VEVENT
BEGIN:VEVENT
DTSTART;TZID=America/Los_Angeles:20260609T113000
DTEND;TZID=America/Los_Angeles:20260609T123000
DTSTAMP:20260422T111640
CREATED:20260311T174353Z
LAST-MODIFIED:20260413T175720Z
UID:10010007-1781004600-1781008200@pacificcity.com
SUMMARY:Senior Meals
DESCRIPTION:Senior Lunches are served at 11:30 am on Tuesdays and Wednesdays for $3 and others may attend for $6.
URL:https://pacificcity.com/event/senior-meals-3/
LOCATION:Kiawanda Community Center\, 34600 Cape Kiwanda Dr\, Pacific City\, OR 97135\, OR\, United States
CATEGORIES:Community
ATTACH;FMTTYPE=image/png:https://pacificcity.com/wp-content/uploads/2024/08/Senior-Meals-W1hmqM.tmp_.png
END:VEVENT
BEGIN:VEVENT
DTSTART;TZID=America/Los_Angeles:20260609T113000
DTEND;TZID=America/Los_Angeles:20260609T123000
DTSTAMP:20260422T111640
CREATED:20260311T174354Z
LAST-MODIFIED:20260422T180059Z
UID:10010008-1781004600-1781008200@pacificcity.com
SUMMARY:Senior Meals Tuesday & Wednesday
DESCRIPTION:🍽️ Senior Meals at the Kiawanda Community Center 🍽️ \nJoin us every Tuesday and Wednesday at 11:30 AM for delicious\, nutritious senior meals at the Kiawanda Community Center!\nCome enjoy great food and even better company in a warm and welcoming atmosphere. \n✨ Who: Seniors & community members\n📍 Where: Kiawanda Community Center\n📅 When: Every Tuesday & Wednesday\n⏰ Time: 11:30 AM \nBring a friend\, make new ones\, and enjoy a healthy midday meal! ❤️ \nFor more information\, call the Kiawanda Community Center.
URL:https://pacificcity.com/event/senior-meals-tuesday-wednesday-5/
LOCATION:Kiawanda Community Center\, 34600 Cape Kiwanda Dr\, Pacific City\, OR 97135\, OR\, United States
CATEGORIES:Community
ATTACH;FMTTYPE=image/png:https://pacificcity.com/wp-content/uploads/2025/12/Brown-Orange-Modern-Food-Price-Instagram-Post-Invitation-portrait-aciUYf.png
END:VEVENT
BEGIN:VEVENT
DTSTART;TZID=America/Los_Angeles:20260609T170000
DTEND;TZID=America/Los_Angeles:20260609T200000
DTSTAMP:20260422T111640
CREATED:20260401T165730Z
LAST-MODIFIED:20260422T180059Z
UID:10010204-1781024400-1781035200@pacificcity.com
SUMMARY:Plant Bingo
DESCRIPTION:Plant Bingo Night  hosted by Sweet Begonias\n\nWhether you’re a seasoned plant whisperer or still figuring out which end of the watering can to use\, our Plant Bingo Night is your chance to mix leafy vibes with lucky streaks.\n\nMark Your Calendars: 2nd Tuesday of each month\n📍 Inside Pacific Restaurant Doors open at 5:00 PM First game starts at 6:00 PM $30 for 1-on card/$40 for 3-on card Cash bar and Happy Hour menu available\n\nAnd here’s the best part: even if your bingo card is cursed\, you’ll still walk away with a fabulous new plant from our plant bar. Because everyone deserves a little green in their life.\n\n 15% off the purchase of any plants bought after the event! \nCome for the bingo\, stay for the botanicals—and maybe a drink or two. Let’s make it a night to remember (and repot)!
URL:https://pacificcity.com/event/plant-bingo-3/
LOCATION:Downtown Tillamook\, Tillamook\, OR\, 97141\, United States
CATEGORIES:Community,Family Fun
ATTACH;FMTTYPE=image/png:https://pacificcity.com/wp-content/uploads/2026/04/Original-scaled-LH9Q1C.png
GEO:45.489825;-123.958743
END:VEVENT
END:VCALENDAR