BEGIN:VCALENDAR
VERSION:2.0
PRODID:-//Pacific City - ECPv6.15.20//NONSGML v1.0//EN
CALSCALE:GREGORIAN
METHOD:PUBLISH
X-WR-CALNAME:Pacific City
X-ORIGINAL-URL:https://pacificcity.com
X-WR-CALDESC:Events for Pacific City
REFRESH-INTERVAL;VALUE=DURATION:PT1H
X-Robots-Tag:noindex
X-PUBLISHED-TTL:PT1H
BEGIN:VTIMEZONE
TZID:America/Los_Angeles
BEGIN:DAYLIGHT
TZOFFSETFROM:-0800
TZOFFSETTO:-0700
TZNAME:PDT
DTSTART:20250309T100000
END:DAYLIGHT
BEGIN:STANDARD
TZOFFSETFROM:-0700
TZOFFSETTO:-0800
TZNAME:PST
DTSTART:20251102T090000
END:STANDARD
BEGIN:DAYLIGHT
TZOFFSETFROM:-0800
TZOFFSETTO:-0700
TZNAME:PDT
DTSTART:20260308T100000
END:DAYLIGHT
BEGIN:STANDARD
TZOFFSETFROM:-0700
TZOFFSETTO:-0800
TZNAME:PST
DTSTART:20261101T090000
END:STANDARD
BEGIN:DAYLIGHT
TZOFFSETFROM:-0800
TZOFFSETTO:-0700
TZNAME:PDT
DTSTART:20270314T100000
END:DAYLIGHT
BEGIN:STANDARD
TZOFFSETFROM:-0700
TZOFFSETTO:-0800
TZNAME:PST
DTSTART:20271107T090000
END:STANDARD
END:VTIMEZONE
BEGIN:VEVENT
DTSTART;TZID=America/Los_Angeles:20260526T090000
DTEND;TZID=America/Los_Angeles:20260526T100000
DTSTAMP:20260422T034630
CREATED:20260225T231555Z
LAST-MODIFIED:20260420T181818Z
UID:10009897-1779786000-1779789600@pacificcity.com
SUMMARY:Fit and Fabulous at the KCC
DESCRIPTION:Come join this group keeping active two days a week. Only $15 for the month!
URL:https://pacificcity.com/event/fit-and-fabulous-at-the-kcc/
LOCATION:Kiawanda Community Center\, 34600 Cape Kiwanda Dr\, Pacific City\, OR 97135\, OR\, United States
CATEGORIES:Fitness and Athletics
ATTACH;FMTTYPE=image/png:https://pacificcity.com/wp-content/uploads/2024/04/Fit-Fabulous-7zrtzR.tmp_.png
END:VEVENT
BEGIN:VEVENT
DTSTART;TZID=America/Los_Angeles:20260526T100000
DTEND;TZID=America/Los_Angeles:20260526T110000
DTSTAMP:20260422T034630
CREATED:20260225T231603Z
LAST-MODIFIED:20260420T181851Z
UID:10009896-1779789600-1779793200@pacificcity.com
SUMMARY:Tillamook Main Library Storytime: Terrific Twos
DESCRIPTION:Terrific Twos (TT) on Tues @ 10am; developmentally appropriate for 24-36mos; bubbles\, balls\, parachute & instruments! There is no expectation that your children will sit still or be quiet. It’s not developmentally appropriate to ask them to. \nA couple of things about the children’s room that might set you at ease: \n\nThere is no expectation that it will be a quiet zone; kids are kids and they are allowed to act themselves in the children’s room.\nOnly 2 hard and fast rules: No Running & No Screaming.\nIf your child needs a snack\, feed them!
URL:https://pacificcity.com/event/tillamook-main-library-storytime-terrific-twos/
LOCATION:Tillamook Main Library\, Tillamook\, 1716 3rd St\, Tillamook\, OR\, 97141\, United States
CATEGORIES:Education,Family Fun
ATTACH;FMTTYPE=image/jpeg:https://pacificcity.com/wp-content/uploads/2023/01/TCL-white-k7N2nV.tmp_.jpg
ORGANIZER;CN="Melanie Hetrick":MAILTO:mhetrick@co.tillamook.or.us
END:VEVENT
BEGIN:VEVENT
DTSTART;TZID=America/Los_Angeles:20260526T100000
DTEND;TZID=America/Los_Angeles:20260526T150000
DTSTAMP:20260422T034630
CREATED:20260225T231556Z
LAST-MODIFIED:20260420T181818Z
UID:10009898-1779789600-1779807600@pacificcity.com
SUMMARY:Tuesday Stitchers
DESCRIPTION:Come and be a part of a community of people who love to make things for others\, and in turn make friends within the group. All levels are welcome. \nJoin us at the Kiawanda Community Center on Tuesdays from 10 AM to 3 PM in the Great Hall. \nFirst Monday every month from 4 to 9 PM. \nCall (503) 965-7900 for more details | $6 admission
URL:https://pacificcity.com/event/tuesday-stitchers/
LOCATION:Kiawanda Community Center\, 34600 Cape Kiwanda Dr\, Pacific City\, OR 97135\, OR\, United States
CATEGORIES:Classes and Workshops,Community
ATTACH;FMTTYPE=image/png:https://pacificcity.com/wp-content/uploads/2024/10/Tuesday-Stitchers-Group-Flyer-ymwGK5.tmp_.png
END:VEVENT
BEGIN:VEVENT
DTSTART;TZID=America/Los_Angeles:20260526T100000
DTEND;TZID=America/Los_Angeles:20260526T160000
DTSTAMP:20260422T034630
CREATED:20260225T054415Z
LAST-MODIFIED:20260422T055720Z
UID:10009891-1779789600-1779811200@pacificcity.com
SUMMARY:OPEN CLAY STUDIO
DESCRIPTION:Slab roller\, potter’s wheel\, tools\, and kiln time. $2/hr. Clay available $1 for 2 lbs. 503-368-3846\, hoffmancenter@nehalemtel.net\, www.hoffmancentermanzanita.org
URL:https://pacificcity.com/event/open-clay-studio/
LOCATION:Hoffman Center Studios\, 594 Laneda Avenue in Manzanita
END:VEVENT
BEGIN:VEVENT
DTSTART;TZID=America/Los_Angeles:20260526T103000
DTEND;TZID=America/Los_Angeles:20260526T130000
DTSTAMP:20260422T034630
CREATED:20260225T054415Z
LAST-MODIFIED:20260422T055720Z
UID:10009892-1779791400-1779800400@pacificcity.com
SUMMARY:WORKSHOP:  Writing Lounge
DESCRIPTION:Bring your project or start a new one using prompts that are always available. A bit of time at the end for sharing what you’ve written.\nDid you know expressive writing is good for you !? Research says it eases\nphysical and emotional distress.\nEvery Tuesday at the Hoffman Center in Manzanita 10:30 – 1:00. Donations of\n$5 keep the lights on.\nFor more info: contact Marcia Silver marciasilver12@gmail.com
URL:https://pacificcity.com/event/workshop-writing-lounge/
LOCATION:Hoffman Center\, Manzanita\, OR\, United States
GEO:45.71844;-123.93514
END:VEVENT
BEGIN:VEVENT
DTSTART;TZID=America/Los_Angeles:20260526T113000
DTEND;TZID=America/Los_Angeles:20260526T123000
DTSTAMP:20260422T034630
CREATED:20260225T231556Z
LAST-MODIFIED:20260413T175711Z
UID:10009899-1779795000-1779798600@pacificcity.com
SUMMARY:Senior Meals
DESCRIPTION:Senior Lunches are served at 11:30 am on Tuesdays and Wednesdays for $3 and others may attend for $6.
URL:https://pacificcity.com/event/senior-meals/
LOCATION:Kiawanda Community Center\, 34600 Cape Kiwanda Dr\, Pacific City\, OR 97135\, OR\, United States
CATEGORIES:Community
ATTACH;FMTTYPE=image/png:https://pacificcity.com/wp-content/uploads/2024/08/Senior-Meals-W1hmqM.tmp_.png
END:VEVENT
BEGIN:VEVENT
DTSTART;TZID=America/Los_Angeles:20260526T113000
DTEND;TZID=America/Los_Angeles:20260526T123000
DTSTAMP:20260422T034630
CREATED:20260225T231556Z
LAST-MODIFIED:20260420T181818Z
UID:10009900-1779795000-1779798600@pacificcity.com
SUMMARY:Senior Meals Tuesday & Wednesday
DESCRIPTION:🍽️ Senior Meals at the Kiawanda Community Center 🍽️ \nJoin us every Tuesday and Wednesday at 11:30 AM for delicious\, nutritious senior meals at the Kiawanda Community Center!\nCome enjoy great food and even better company in a warm and welcoming atmosphere. \n✨ Who: Seniors & community members\n📍 Where: Kiawanda Community Center\n📅 When: Every Tuesday & Wednesday\n⏰ Time: 11:30 AM \nBring a friend\, make new ones\, and enjoy a healthy midday meal! ❤️ \nFor more information\, call the Kiawanda Community Center.
URL:https://pacificcity.com/event/senior-meals-tuesday-wednesday/
LOCATION:Kiawanda Community Center\, 34600 Cape Kiwanda Dr\, Pacific City\, OR 97135\, OR\, United States
CATEGORIES:Community
ATTACH;FMTTYPE=image/png:https://pacificcity.com/wp-content/uploads/2025/12/Brown-Orange-Modern-Food-Price-Instagram-Post-Invitation-portrait-aciUYf.png
END:VEVENT
BEGIN:VEVENT
DTSTART;TZID=America/Los_Angeles:20260526T140000
DTEND;TZID=America/Los_Angeles:20260526T160000
DTSTAMP:20260422T034630
CREATED:20260225T231556Z
LAST-MODIFIED:20260420T181818Z
UID:10009901-1779804000-1779811200@pacificcity.com
SUMMARY:Drop In Tech Help at Manzanita Library
DESCRIPTION:Get help with smartphones\, tablets\, laptops\, and more in an informal Q&A setting at the Manzanita library every 4th Tuesday 2-4 pm!
URL:https://pacificcity.com/event/drop-in-tech-help-at-manzanita-library/
LOCATION:Manzanita Library\, 571 Laneda Ave Manzanita OR
CATEGORIES:Community
ATTACH;FMTTYPE=image/png:https://pacificcity.com/wp-content/uploads/2025/09/Drop-In-Tech-Help-TZ-laFFr3.png
END:VEVENT
BEGIN:VEVENT
DTSTART;TZID=America/Los_Angeles:20260526T180000
DTEND;TZID=America/Los_Angeles:20260526T210000
DTSTAMP:20260422T034630
CREATED:20260225T231556Z
LAST-MODIFIED:20260420T181818Z
UID:10009902-1779818400-1779829200@pacificcity.com
SUMMARY:Trivia at Pelican Brewing- Pacific City
DESCRIPTION:Join us for trivia night every Tuesday! Win cool prizes and show your knowledge. Blackout dates apply.
URL:https://pacificcity.com/event/trivia-at-pelican-brewing-pacific-city/
LOCATION:Pelican Brewing Company\, 33180 Cape Kiwanda Drive
CATEGORIES:Community
ATTACH;FMTTYPE=image/jpeg:https://pacificcity.com/wp-content/uploads/2025/12/TRivia-fiWdHh.jpg
END:VEVENT
BEGIN:VEVENT
DTSTART;TZID=America/Los_Angeles:20260527T100000
DTEND;TZID=America/Los_Angeles:20260527T110000
DTSTAMP:20260422T034630
CREATED:20260226T232806Z
LAST-MODIFIED:20260420T181818Z
UID:10009906-1779876000-1779879600@pacificcity.com
SUMMARY:Tillamook Main Library Storytime: Preschool
DESCRIPTION:Preschool storytime (PS) on Wed @ 10; developmentally appropriate for 3-5 yos; music\, stories\, interactive play and lots of laughs! In this class little begin to learn about a leader at the front of the room\, how to hold their wiggles\, listening and sitting still. When a child is transitioning from TT to PS my expectation is that they will sit for 5-10 minutes and then they might go play. I do not force them to sit still if they are not ready to. \nA couple of things about the children’s room that might set you at ease: \n\nThere is no expectation that it will be a quiet zone; kids are kids and they are allowed to act like themselves in the children’s room.\nOnly 2 hard and fast rules: No Running & No Screaming.\nIf your child needs a snack\, feed them!
URL:https://pacificcity.com/event/tillamook-main-library-storytime-preschool/
LOCATION:Tillamook Main Library\, Tillamook\, 1716 3rd St\, Tillamook\, OR\, 97141\, United States
CATEGORIES:Education,Family Fun
ATTACH;FMTTYPE=image/png:https://pacificcity.com/wp-content/uploads/2023/01/TCL-transparent-logo-sNPWdP.tmp_.png
ORGANIZER;CN="Melanie Hetrick":MAILTO:mhetrick@co.tillamook.or.us
END:VEVENT
BEGIN:VEVENT
DTSTART;TZID=America/Los_Angeles:20260527T100000
DTEND;TZID=America/Los_Angeles:20260527T110000
DTSTAMP:20260422T034631
CREATED:20260226T232806Z
LAST-MODIFIED:20260420T181819Z
UID:10009907-1779876000-1779879600@pacificcity.com
SUMMARY:Walking Wonders
DESCRIPTION:Join this active group rain or shine to get your steps in and around town.
URL:https://pacificcity.com/event/walking-wonders-2/
LOCATION:Kiawanda Community Center\, 34600 Cape Kiwanda Dr\, Pacific City\, OR 97135\, OR\, United States
CATEGORIES:Fitness and Athletics
ATTACH;FMTTYPE=image/png:https://pacificcity.com/wp-content/uploads/2024/04/Walking-Wonders-JBf2iO.tmp_.png
END:VEVENT
BEGIN:VEVENT
DTSTART;TZID=America/Los_Angeles:20260527T113000
DTEND;TZID=America/Los_Angeles:20260527T123000
DTSTAMP:20260422T034631
CREATED:20260226T232806Z
LAST-MODIFIED:20260420T181819Z
UID:10009908-1779881400-1779885000@pacificcity.com
SUMMARY:Senior Meals Tuesday & Wednesday
DESCRIPTION:🍽️ Senior Meals at the Kiawanda Community Center 🍽️ \nJoin us every Tuesday and Wednesday at 11:30 AM for delicious\, nutritious senior meals at the Kiawanda Community Center!\nCome enjoy great food and even better company in a warm and welcoming atmosphere. \n✨ Who: Seniors & community members\n📍 Where: Kiawanda Community Center\n📅 When: Every Tuesday & Wednesday\n⏰ Time: 11:30 AM \nBring a friend\, make new ones\, and enjoy a healthy midday meal! ❤️ \nFor more information\, call the Kiawanda Community Center.
URL:https://pacificcity.com/event/senior-meals-tuesday-wednesday-2/
LOCATION:Kiawanda Community Center\, 34600 Cape Kiwanda Dr\, Pacific City\, OR 97135\, OR\, United States
CATEGORIES:Community
ATTACH;FMTTYPE=image/png:https://pacificcity.com/wp-content/uploads/2025/12/Brown-Orange-Modern-Food-Price-Instagram-Post-Invitation-portrait-aciUYf.png
END:VEVENT
BEGIN:VEVENT
DTSTART;TZID=America/Los_Angeles:20260527T180000
DTEND;TZID=America/Los_Angeles:20260527T193000
DTSTAMP:20260422T034631
CREATED:20260227T061214Z
LAST-MODIFIED:20260422T055720Z
UID:10009909-1779904800-1779910200@pacificcity.com
SUMMARY:SQUARE DANCE LESSONS
DESCRIPTION:Square Dance Lessons every Wednesday at 6pm. Learn modern Square Dancing with the Wave Steppers of Tillamook Bay. Children 9 and older welcome with an adult. For more information\, call Barb (503) 812-4126\, or Carolyn (503) 801-4044. FREE!
URL:https://pacificcity.com/event/square-dance-lessons/
LOCATION:Elks Lodge\, 1907 3rd St\, Tillamook\, OR\, United States
GEO:45.456251;-123.844973
X-APPLE-STRUCTURED-LOCATION;VALUE=URI;X-ADDRESS=Elks Lodge 1907 3rd St Tillamook OR United States;X-APPLE-RADIUS=500;X-TITLE=1907 3rd St:geo:-123.844973,45.456251
END:VEVENT
BEGIN:VEVENT
DTSTART;TZID=America/Los_Angeles:20260528T090000
DTEND;TZID=America/Los_Angeles:20260528T100000
DTSTAMP:20260422T034631
CREATED:20260227T232855Z
LAST-MODIFIED:20260420T181819Z
UID:10009911-1779958800-1779962400@pacificcity.com
SUMMARY:Fit and Fabulous at the KCC
DESCRIPTION:Come join this group keeping active two days a week. Only $15 for the month!
URL:https://pacificcity.com/event/fit-and-fabulous-at-the-kcc-2/
LOCATION:Kiawanda Community Center\, 34600 Cape Kiwanda Dr\, Pacific City\, OR 97135\, OR\, United States
CATEGORIES:Fitness and Athletics
ATTACH;FMTTYPE=image/png:https://pacificcity.com/wp-content/uploads/2024/04/Fit-Fabulous-7zrtzR.tmp_.png
END:VEVENT
BEGIN:VEVENT
DTSTART;TZID=America/Los_Angeles:20260528T090000
DTEND;TZID=America/Los_Angeles:20260528T100000
DTSTAMP:20260422T034631
CREATED:20260227T232855Z
LAST-MODIFIED:20260420T181819Z
UID:10009912-1779958800-1779962400@pacificcity.com
SUMMARY:Yoga With Dawn
DESCRIPTION:🧘‍♀️ Yoga with Dawn – Find Your Flow! 🧘‍♂️ \nStart your day with peace\, strength\, and positive energy 🌞Join Dawn for a refreshing yoga class every: \n🗓️ Monday\, Wednesday\, Friday & Saturday🕘 9:00 AM – 10:00 AM📍 Kiawanda Community Center \nAll levels are welcome—whether you’re new to yoga or a seasoned pro\, Dawn’s calm guidance and supportive atmosphere will leave you feeling refreshed and centered. \n✨ Bring a mat\, some water\, and a smile.No registration needed—just drop in and breathe it out with us! \n#YogaWithDawn #KiawandaCommunityCenter #MorningYoga #WellnessInPacificCity #MindBodySoul
URL:https://pacificcity.com/event/yoga-with-dawn-2/
LOCATION:Kiawanda Community Center\, 34600 Cape Kiwanda Dr\, Pacific City\, OR 97135\, OR\, United States
CATEGORIES:Classes and Workshops,Community
ATTACH;FMTTYPE=image/jpeg:https://pacificcity.com/wp-content/uploads/2025/07/yoga-VHSvFY.jpg
END:VEVENT
BEGIN:VEVENT
DTSTART;TZID=America/Los_Angeles:20260528T090000
DTEND;TZID=America/Los_Angeles:20260528T100000
DTSTAMP:20260422T034631
CREATED:20260227T232856Z
LAST-MODIFIED:20260420T181819Z
UID:10009913-1779958800-1779962400@pacificcity.com
SUMMARY:Virtual Grief Support Groups
DESCRIPTION:Grief touches every part of life\, often in ways we never expected. Whether you are navigating the loss of a loved one\, a major life\nchange\, or the overwhelming emotions that follow loss of any kind\, you don’t have to face it alone. \nThese groups offer gentle guidance\, practical tools\, and heartfelt support to help you move through your grief at your own pace. \nVirtual groups co-led by:\nCami Aufdermauer\, Bereavement Coordinator and Chaplain\nDr. Pam Strachan\, Board-Certified Chaplain and Bereavement Specialist \nVirtual Grief Support Groups\nOccurs the first and last Thursday of every month for one hour starting at 9 a.m.\nRegistration required visiting ahlink.org/tillamookgg
URL:https://pacificcity.com/event/virtual-grief-support-groups-7/
CATEGORIES:Community,Education
ATTACH;FMTTYPE=image/jpeg:https://pacificcity.com/wp-content/uploads/2026/02/2026-Grief-Groups-2-Flyer-Single-Page-cKLWqK.jpg
END:VEVENT
BEGIN:VEVENT
DTSTART;TZID=America/Los_Angeles:20260528T100000
DTEND;TZID=America/Los_Angeles:20260528T110000
DTSTAMP:20260422T034631
CREATED:20260227T232856Z
LAST-MODIFIED:20260420T181819Z
UID:10009914-1779962400-1779966000@pacificcity.com
SUMMARY:Family Storytime at Bay City Library
DESCRIPTION:Bring the whole family down to the Bay City Library for a fun storytime and activity every Thursday at 10am!
URL:https://pacificcity.com/event/family-storytime-at-bay-city-library/
LOCATION:Bay City Library\, 5525 B St\, Bay City\, OR
CATEGORIES:Community,Family Fun
ATTACH;FMTTYPE=image/png:https://pacificcity.com/wp-content/uploads/2024/12/Bay-City-Storytime1-ipDxEC.tmp_.png
END:VEVENT
BEGIN:VEVENT
DTSTART;TZID=America/Los_Angeles:20260528T100000
DTEND;TZID=America/Los_Angeles:20260528T160000
DTSTAMP:20260422T034631
CREATED:20260227T061214Z
LAST-MODIFIED:20260422T055720Z
UID:10009910-1779962400-1779984000@pacificcity.com
SUMMARY:CLAY OPEN STUDIO
DESCRIPTION:Clay open studio.  Ages 12 and up.  $2 per hour.  Clay $1 for a two-pound block\, includes tools and firing.   For information contact 503-368-7985\, longboardmenow@nehalemtel.net\, www.hoffmancentermanzanita.org
URL:https://pacificcity.com/event/clay-open-studio/
LOCATION:Hoffman Center\, 594 Laneda Avenue in Manzanita
END:VEVENT
BEGIN:VEVENT
DTSTART;TZID=America/Los_Angeles:20260528T103000
DTEND;TZID=America/Los_Angeles:20260528T113000
DTSTAMP:20260422T034631
CREATED:20260227T232856Z
LAST-MODIFIED:20260420T181819Z
UID:10009915-1779964200-1779967800@pacificcity.com
SUMMARY:Tai Chi at the KCC
DESCRIPTION:Come to this weekly class in Pacific City to learn the forms in this moving meditation. Feel your life force flowing through you and get energized for you day!
URL:https://pacificcity.com/event/tai-chi-at-the-kcc/
LOCATION:Kiawanda Community Center\, 34600 Cape Kiwanda Dr\, Pacific City\, OR 97135\, OR\, United States
CATEGORIES:Fitness and Athletics
ATTACH;FMTTYPE=image/png:https://pacificcity.com/wp-content/uploads/2024/04/Tai-Chi-6MOKs8.tmp_.png
END:VEVENT
BEGIN:VEVENT
DTSTART;TZID=America/Los_Angeles:20260528T130000
DTEND;TZID=America/Los_Angeles:20260528T150000
DTSTAMP:20260422T034631
CREATED:20260227T232856Z
LAST-MODIFIED:20260420T181820Z
UID:10009916-1779973200-1779980400@pacificcity.com
SUMMARY:Bingo
DESCRIPTION:🎉 Thursday Bingo Fun at the Kiawanda Community Center! 🎉 \nJoin us every Thursday from 1PM to 3PM for an afternoon of bingo\, community\, and fun at the Kiawanda Community Center! \n🗓️ When: Thursdays\, 1:00–3:00 PM\n📍 Where: Kiawanda Community Center\n🎁 Prizes\, laughs\, and good company guaranteed! \nWhether you’re a seasoned player or brand new to the game\, everyone is welcome! Come early\, grab your favorite seat\, and get ready for a great time! 🙌 \nTag your bingo buddy and spread the word! 🎊 \n#BingoFun #KiawandaCommunityCenter #PacificCityEvents #ThursdayBingo #CommunityVibes
URL:https://pacificcity.com/event/bingo/
LOCATION:Kiawanda Community Center\, 34600 Cape Kiwanda Dr\, Pacific City\, OR 97135\, OR\, United States
CATEGORIES:Community
ATTACH;FMTTYPE=image/jpeg:https://pacificcity.com/wp-content/uploads/2025/07/Cream-Orange-Colorful-Retro-We-Are-Hiring-Flyer-AADTwu.jpg
END:VEVENT
BEGIN:VEVENT
DTSTART;TZID=America/Los_Angeles:20260528T140000
DTEND;TZID=America/Los_Angeles:20260528T150000
DTSTAMP:20260422T034631
CREATED:20260227T232856Z
LAST-MODIFIED:20260420T181820Z
UID:10009917-1779976800-1779980400@pacificcity.com
SUMMARY:Mahjong at Manzanita Library
DESCRIPTION:Play mahjong in a fun informal group at the Manzanita library Thursdays at 2 pm!
URL:https://pacificcity.com/event/mahjong-at-manzanita-library/
LOCATION:Manzanita Library\, 571 Laneda Ave Manzanita OR
CATEGORIES:Community,Family Fun
END:VEVENT
BEGIN:VEVENT
DTSTART;TZID=America/Los_Angeles:20260528T140000
DTEND;TZID=America/Los_Angeles:20260528T150000
DTSTAMP:20260422T034631
CREATED:20260408T161254Z
LAST-MODIFIED:20260420T181820Z
UID:10010251-1779976800-1779980400@pacificcity.com
SUMMARY:One Book One Coast
DESCRIPTION:Join the largest book club on the west coast! Read George Takei’s They Called Us Enemy with thousands of other readers on the west coast! \nSee all the info on the library website here: https://www.tillabook.org/onebookonecoast
URL:https://pacificcity.com/event/one-book-one-coast/
LOCATION:Tillamook County Library\, 1716 3rd Street Tillamook Oregon 97141
CATEGORIES:Classes and Workshops,Community
ATTACH;FMTTYPE=image/png:https://pacificcity.com/wp-content/uploads/2026/04/OBOC-Event-Schedule-DXX5Vz.png
END:VEVENT
BEGIN:VEVENT
DTSTART;TZID=America/Los_Angeles:20260528T160000
DTEND;TZID=America/Los_Angeles:20260528T173000
DTSTAMP:20260422T034631
CREATED:20260227T232856Z
LAST-MODIFIED:20260420T181820Z
UID:10009918-1779984000-1779989400@pacificcity.com
SUMMARY:Knitting Group
DESCRIPTION:Join a fun group of knitters at North Tillamook Library in Manzanita on Thursdays from 4pm to 5:30pm.
URL:https://pacificcity.com/event/knitting-group/
LOCATION:North Tillamook Library\, 571 Laneda Ave\, Manzanita\, OR 97130
CATEGORIES:Community,Education
ATTACH;FMTTYPE=image/png:https://pacificcity.com/wp-content/uploads/2024/08/logo-H5fs7I.tmp_.png
END:VEVENT
BEGIN:VEVENT
DTSTART;TZID=America/Los_Angeles:20260528T180000
DTEND;TZID=America/Los_Angeles:20260528T200000
DTSTAMP:20260422T034631
CREATED:20260228T062924Z
LAST-MODIFIED:20260422T055720Z
UID:10009920-1779991200-1779998400@pacificcity.com
SUMMARY:DRAWING SESSIONS
DESCRIPTION:Bring drawing materials.  The group takes turns posing for each other.  $2 donation to cover room rental.  Contact Marilyn Burkhardt\, 503-392-3333\, artist@marilynburkhardt.com.
URL:https://pacificcity.com/event/drawing-sessions/
LOCATION:Nestucca High School in downtown Cloverdale
END:VEVENT
BEGIN:VEVENT
DTSTART;TZID=America/Los_Angeles:20260528T183000
DTEND;TZID=America/Los_Angeles:20260528T200000
DTSTAMP:20260422T034631
CREATED:20260228T062924Z
LAST-MODIFIED:20260422T055720Z
UID:10009919-1779993000-1779998400@pacificcity.com
SUMMARY:EVENT:  Writer's Roundtable
DESCRIPTION:A new writing program at NCRD (North County Recreation District)\nThe new Writer’s Roundtable begins at 6:30-8 pm in the Youth Room.  Bring your writings and read them for friendly criticism. \nEmail or call Jane at 503-368-3901 for more information.
URL:https://pacificcity.com/event/event-writers-roundtable/
LOCATION:North County Recreation District\, 36154 9th St\, Nehalem\, OR\, United States
GEO:45.719411;-123.896285
X-APPLE-STRUCTURED-LOCATION;VALUE=URI;X-ADDRESS=North County Recreation District 36154 9th St Nehalem OR United States;X-APPLE-RADIUS=500;X-TITLE=36154 9th St:geo:-123.896285,45.719411
END:VEVENT
BEGIN:VEVENT
DTSTART;TZID=America/Los_Angeles:20260529T090000
DTEND;TZID=America/Los_Angeles:20260529T100000
DTSTAMP:20260422T034631
CREATED:20260228T234540Z
LAST-MODIFIED:20260420T181820Z
UID:10009923-1780045200-1780048800@pacificcity.com
SUMMARY:Yoga With Dawn
DESCRIPTION:🧘‍♀️ Yoga with Dawn – Find Your Flow! 🧘‍♂️ \nStart your day with peace\, strength\, and positive energy 🌞Join Dawn for a refreshing yoga class every: \n🗓️ Monday\, Wednesday\, Friday & Saturday🕘 9:00 AM – 10:00 AM📍 Kiawanda Community Center \nAll levels are welcome—whether you’re new to yoga or a seasoned pro\, Dawn’s calm guidance and supportive atmosphere will leave you feeling refreshed and centered. \n✨ Bring a mat\, some water\, and a smile.No registration needed—just drop in and breathe it out with us! \n#YogaWithDawn #KiawandaCommunityCenter #MorningYoga #WellnessInPacificCity #MindBodySoul
URL:https://pacificcity.com/event/yoga-with-dawn-3/
LOCATION:Kiawanda Community Center\, 34600 Cape Kiwanda Dr\, Pacific City\, OR 97135\, OR\, United States
CATEGORIES:Classes and Workshops,Community
ATTACH;FMTTYPE=image/jpeg:https://pacificcity.com/wp-content/uploads/2025/07/yoga-VHSvFY.jpg
END:VEVENT
BEGIN:VEVENT
DTSTART;TZID=America/Los_Angeles:20260529T100000
DTEND;TZID=America/Los_Angeles:20260529T110000
DTSTAMP:20260422T034631
CREATED:20260228T234541Z
LAST-MODIFIED:20260420T181820Z
UID:10009924-1780048800-1780052400@pacificcity.com
SUMMARY:Walking Wonders
DESCRIPTION:Join this active group rain or shine to get your steps in and around town.
URL:https://pacificcity.com/event/walking-wonders-3/
LOCATION:Kiawanda Community Center\, 34600 Cape Kiwanda Dr\, Pacific City\, OR 97135\, OR\, United States
CATEGORIES:Fitness and Athletics
ATTACH;FMTTYPE=image/png:https://pacificcity.com/wp-content/uploads/2024/04/Walking-Wonders-JBf2iO.tmp_.png
END:VEVENT
BEGIN:VEVENT
DTSTART;TZID=America/Los_Angeles:20260529T100000
DTEND;TZID=America/Los_Angeles:20260529T110000
DTSTAMP:20260422T034631
CREATED:20260228T234547Z
LAST-MODIFIED:20260420T181851Z
UID:10009927-1780048800-1780052400@pacificcity.com
SUMMARY:Tillamook Main Library Storytime: Mother Goose on the Loose
DESCRIPTION:Mother Goose on the Loose (MGOL) on Fri @ 10am; developmentally appropriate for birth to 24mos; rhythm\, rhymes\, instruments\, scarves and puppets! There is no expectation that your children will sit still or be quiet. It’s not developmentally appropriate to ask them to.
URL:https://pacificcity.com/event/tillamook-main-library-storytime-mother-goose-on-the-loose/
LOCATION:Tillamook Main Library\, Tillamook\, 1716 3rd St\, Tillamook\, OR\, 97141\, United States
CATEGORIES:Education,Family Fun
ATTACH;FMTTYPE=image/png:https://pacificcity.com/wp-content/uploads/2023/01/TCL-transparent-logo-1-faUbXa.tmp_.png
ORGANIZER;CN="Melanie Hetrick":MAILTO:mhetrick@co.tillamook.or.us
END:VEVENT
BEGIN:VEVENT
DTSTART;TZID=America/Los_Angeles:20260529T100000
DTEND;TZID=America/Los_Angeles:20260529T120000
DTSTAMP:20260422T034631
CREATED:20260228T234541Z
LAST-MODIFIED:20260420T181820Z
UID:10009925-1780048800-1780056000@pacificcity.com
SUMMARY:Trail Building in Nehalem Bay With LNCT!
DESCRIPTION:Every Friday\, volunteers gather on LNCT lands near Manzanita\, Nehalem and Wheeler to protect and restore habitat in the lower Nehalem watershed. We would love to see new faces out on the land!\n\n\n\nThese work parties are beginner friendly and an opportunity to learn about the engineering of hiking trails. We will be working on uneven ground\, bending\, and moving small rocks and brush during this process. Tools and gloves are provided\, new volunteers welcome and no prior experience needed. Join as frequently as you please.  Email shane@nehalemtrust.org for weekly updates on where to meet.\n\nAlder Creek Farm and Natural Area’s Nehalem Teaching Trail already supports an impressive variety of native plants and simulated ecosystems for community learning—but we’re looking to grow. This short trail will extend educational access into a different ecosystem and connect to the Natural Area’s pollinator meadow. We hope it will also add some variety to habitat access for bird watchers who visit the farm as a part of the Oregon Coast Birding Trail.
URL:https://pacificcity.com/event/trail-building-in-nehalem-bay-with-lnct/
LOCATION:Lower Nehalem Community Trust
CATEGORIES:Community,Education,Outdoor
ATTACH;FMTTYPE=image/jpeg:https://pacificcity.com/wp-content/uploads/2025/12/LNCT-Stewardship-Poster-4-R0qABz.jpg
END:VEVENT
BEGIN:VEVENT
DTSTART;TZID=America/Los_Angeles:20260529T110000
DTEND;TZID=America/Los_Angeles:20260529T120000
DTSTAMP:20260422T034631
CREATED:20260228T234541Z
LAST-MODIFIED:20260420T181821Z
UID:10009926-1780052400-1780056000@pacificcity.com
SUMMARY:Storytime at Garibaldi Library
DESCRIPTION:Kids of all ages are welcome to the Garibaldi Library for storytime\, Fridays at 11:00am.
URL:https://pacificcity.com/event/storytime-at-garibaldi-library/
LOCATION:Garibaldi Library\, 107 6th St\, Garibaldi OR
CATEGORIES:Community,Family Fun
ATTACH;FMTTYPE=image/png:https://pacificcity.com/wp-content/uploads/2025/06/Garibaldi-Story-Time-flyer-sA1TAy.png
END:VEVENT
END:VCALENDAR