BEGIN:VCALENDAR
VERSION:2.0
PRODID:-//Pacific City - ECPv6.15.20//NONSGML v1.0//EN
CALSCALE:GREGORIAN
METHOD:PUBLISH
X-ORIGINAL-URL:https://pacificcity.com
X-WR-CALDESC:Events for Pacific City
REFRESH-INTERVAL;VALUE=DURATION:PT1H
X-Robots-Tag:noindex
X-PUBLISHED-TTL:PT1H
BEGIN:VTIMEZONE
TZID:America/Los_Angeles
BEGIN:DAYLIGHT
TZOFFSETFROM:-0800
TZOFFSETTO:-0700
TZNAME:PDT
DTSTART:20250309T100000
END:DAYLIGHT
BEGIN:STANDARD
TZOFFSETFROM:-0700
TZOFFSETTO:-0800
TZNAME:PST
DTSTART:20251102T090000
END:STANDARD
BEGIN:DAYLIGHT
TZOFFSETFROM:-0800
TZOFFSETTO:-0700
TZNAME:PDT
DTSTART:20260308T100000
END:DAYLIGHT
BEGIN:STANDARD
TZOFFSETFROM:-0700
TZOFFSETTO:-0800
TZNAME:PST
DTSTART:20261101T090000
END:STANDARD
BEGIN:DAYLIGHT
TZOFFSETFROM:-0800
TZOFFSETTO:-0700
TZNAME:PDT
DTSTART:20270314T100000
END:DAYLIGHT
BEGIN:STANDARD
TZOFFSETFROM:-0700
TZOFFSETTO:-0800
TZNAME:PST
DTSTART:20271107T090000
END:STANDARD
END:VTIMEZONE
BEGIN:VEVENT
DTSTART;TZID=America/Los_Angeles:20260516T100000
DTEND;TZID=America/Los_Angeles:20260516T113000
DTSTAMP:20260421T200453
CREATED:20260215T210059Z
LAST-MODIFIED:20260420T181805Z
UID:10009805-1778925600-1778931000@pacificcity.com
SUMMARY:Saturday Morning Family Fun at Pacific City Library
DESCRIPTION:Join us for a variety of activities for the whole family at Pacific City library every third Saturday of the month!
URL:https://pacificcity.com/event/saturday-morning-family-fun-at-pacific-city-library-8/
LOCATION:Pacific City Library\, 6200 Camp St Pacific City\, OR
CATEGORIES:Community,Family Fun
ATTACH;FMTTYPE=image/png:https://pacificcity.com/wp-content/uploads/2025/09/Saturday-Morning-Family-Fun-at-TP-L4EK1q.png
END:VEVENT
BEGIN:VEVENT
DTSTART;TZID=America/Los_Angeles:20260516T100000
DTEND;TZID=America/Los_Angeles:20260516T120000
DTSTAMP:20260421T200453
CREATED:20260215T210059Z
LAST-MODIFIED:20260420T181805Z
UID:10009804-1778925600-1778932800@pacificcity.com
SUMMARY:Dungeons and Dragons at Tillamook Library
DESCRIPTION:Play a variety of tabletop RPGs with local storytellers at the library! Open to all!
URL:https://pacificcity.com/event/dungeons-and-dragons-at-tillamook-library-91/
LOCATION:Tillamook County Library\, 1716 3rd Street Tillamook Oregon 97141
CATEGORIES:Community
ATTACH;FMTTYPE=image/png:https://pacificcity.com/wp-content/uploads/2025/07/Dungeons-Dragons-2025-TM-VjWbKf.png
END:VEVENT
BEGIN:VEVENT
DTSTART;TZID=America/Los_Angeles:20260516T100000
DTEND;TZID=America/Los_Angeles:20260516T140000
DTSTAMP:20260421T200453
CREATED:20260226T232752Z
LAST-MODIFIED:20260420T181806Z
UID:10009905-1778925600-1778940000@pacificcity.com
SUMMARY:Shred Day at Tillamook Library
DESCRIPTION:Bring paper materials to shred in the library parking lot 10 am to 2 pm May 16th!
URL:https://pacificcity.com/event/shred-day-at-tillamook-library/
LOCATION:Tillamook County Library\, 1716 3rd Street Tillamook Oregon 97141
CATEGORIES:Business,Community
ATTACH;FMTTYPE=image/png:https://pacificcity.com/wp-content/uploads/2026/02/Shred-day-051626-IBqm3l.png
END:VEVENT
BEGIN:VEVENT
DTSTART;TZID=America/Los_Angeles:20260516T100000
DTEND;TZID=America/Los_Angeles:20260516T160000
DTSTAMP:20260421T200453
CREATED:20260215T035830Z
LAST-MODIFIED:20260420T180222Z
UID:10009802-1778925600-1778947200@pacificcity.com
SUMMARY:CLAY OPEN STUDIO
DESCRIPTION:Participants can purchase clay\, plus there are a number of bisque pieces available to buy and glaze as well.  All experience levels are welcome and a Studio Host is available to answer questions and offer tips.  Children under 12 must be accompanied by an adult.  Studio fees are $2 per hour\, which includes glazing and firing up the finished product.  Clay is $2 per 1 pound section.  For more information\, contact the Clay hosts at: hoffmanclaystudio@gmail.com
URL:https://pacificcity.com/event/clay-open-studio-364/
LOCATION:Hoffman Center for the Arts\, 594 Laneda Ave\, Manzanita\, OR\, United States
GEO:45.719325;-123.931502
X-APPLE-STRUCTURED-LOCATION;VALUE=URI;X-ADDRESS=Hoffman Center for the Arts 594 Laneda Ave Manzanita OR United States;X-APPLE-RADIUS=500;X-TITLE=594 Laneda Ave:geo:-123.931502,45.719325
END:VEVENT
BEGIN:VEVENT
DTSTART;TZID=America/Los_Angeles:20260516T140000
DTEND;TZID=America/Los_Angeles:20260516T170000
DTSTAMP:20260421T200453
CREATED:20260215T210100Z
LAST-MODIFIED:20260420T181806Z
UID:10009806-1778940000-1778950800@pacificcity.com
SUMMARY:Maker Saturday at the Bay City Library
DESCRIPTION:Join us at the Bay City Branch Library on the 3rd Saturday of the month at 2:00pm and 5:00pm for Maker Saturday! Bring a project you have been working on or come and be inspired by the supplies we have. \nDo you have a new model or a LEGO kit you’ve been meaning to work on? Is there a painting or craft you’ve been wanting to start and/or finish? Are you looking for a place to get away for a while to work on your project? \nWe can help! Please note\, supplies are limited.
URL:https://pacificcity.com/event/maker-saturday-at-the-bay-city-library-62/
LOCATION:Bay City Library\, 5525 B St\, Bay City\, OR
CATEGORIES:Community
ATTACH;FMTTYPE=image/png:https://pacificcity.com/wp-content/uploads/2025/03/maker_saturdays-YkBlQF.tmp_.png
END:VEVENT
BEGIN:VEVENT
DTSTART;TZID=America/Los_Angeles:20260516T190000
DTEND;TZID=America/Los_Angeles:20260516T210000
DTSTAMP:20260421T200453
CREATED:20260215T210100Z
LAST-MODIFIED:20260420T181806Z
UID:10009807-1778958000-1778965200@pacificcity.com
SUMMARY:Live Music!
DESCRIPTION:Live music every Saturday from 7–9pm in The Schooner Lounge—because your weekend deserves a soundtrack. \nKick back to the sounds of local musicians\, stay for the crave-worthy eats\, craft cocktails\, cold beers\, and our fabulous crew who always bring the good vibes. \nCurious who’s playing? Check out our lineup of Oregon-grown talent on our website!
URL:https://pacificcity.com/event/live-music-54/
LOCATION:The Schooner Restaurant & Lounge\, 2065 Boat Basin Rd
CATEGORIES:Arts and Culture,Live Music
ATTACH;FMTTYPE=image/jpeg:https://pacificcity.com/wp-content/uploads/2025/05/Schooner-music-scaled-xb7eha.jpg
END:VEVENT
BEGIN:VEVENT
DTSTART;TZID=America/Los_Angeles:20260517T080000
DTEND;TZID=America/Los_Angeles:20260517T120000
DTSTAMP:20260421T200453
CREATED:20260216T040035Z
LAST-MODIFIED:20260420T180222Z
UID:10009808-1779004800-1779019200@pacificcity.com
SUMMARY:ARTFUL BREAKFAST\, Year-Round Fundraiser
DESCRIPTION:Great food\, cooked by great people\, for a great cause–ART!  All you can eat eggs\, pancakes\, beans\, salsa\, fruit\, coffee or tea.  $3 BCAC members\, $5 non-members.  Join today!  For more info call 503-377-9620 or www.baycityartscenter.org.
URL:https://pacificcity.com/event/artful-breakfast-year-round-fundraiser-42/
LOCATION:Bay City Arts Center\, 5th and A Streets in Bay City
END:VEVENT
BEGIN:VEVENT
DTSTART;TZID=America/Los_Angeles:20260517T100000
DTEND;TZID=America/Los_Angeles:20260517T130000
DTSTAMP:20260421T200453
CREATED:20260216T040036Z
LAST-MODIFIED:20260420T180222Z
UID:10009809-1779012000-1779022800@pacificcity.com
SUMMARY:LIFE DRAWING GROUP
DESCRIPTION:Weekly life drawing session with live model.\nModel fee collected from each participant. For address and more information call Judy: 503-368-7868\, sorrel@nehalemtel.net\,
URL:https://pacificcity.com/event/life-drawing-group-182/
LOCATION:Nehalem\, Nehalem\, OR\, United States
GEO:45.651933;-123.853529
END:VEVENT
BEGIN:VEVENT
DTSTART;TZID=America/Los_Angeles:20260518T090000
DTEND;TZID=America/Los_Angeles:20260518T100000
DTSTAMP:20260421T200453
CREATED:20260217T213216Z
LAST-MODIFIED:20260420T181806Z
UID:10009815-1779094800-1779098400@pacificcity.com
SUMMARY:Yoga With Dawn
DESCRIPTION:🧘‍♀️ Yoga with Dawn – Find Your Flow! 🧘‍♂️ \nStart your day with peace\, strength\, and positive energy 🌞Join Dawn for a refreshing yoga class every: \n🗓️ Monday\, Wednesday\, Friday & Saturday🕘 9:00 AM – 10:00 AM📍 Kiawanda Community Center \nAll levels are welcome—whether you’re new to yoga or a seasoned pro\, Dawn’s calm guidance and supportive atmosphere will leave you feeling refreshed and centered. \n✨ Bring a mat\, some water\, and a smile.No registration needed—just drop in and breathe it out with us! \n#YogaWithDawn #KiawandaCommunityCenter #MorningYoga #WellnessInPacificCity #MindBodySoul
URL:https://pacificcity.com/event/yoga-with-dawn-168/
LOCATION:Kiawanda Community Center\, 34600 Cape Kiwanda Dr\, Pacific City\, OR 97135\, OR\, United States
CATEGORIES:Classes and Workshops,Community
ATTACH;FMTTYPE=image/jpeg:https://pacificcity.com/wp-content/uploads/2025/07/yoga-VHSvFY.jpg
END:VEVENT
BEGIN:VEVENT
DTSTART;TZID=America/Los_Angeles:20260518T100000
DTEND;TZID=America/Los_Angeles:20260518T110000
DTSTAMP:20260421T200453
CREATED:20260217T213216Z
LAST-MODIFIED:20260420T181806Z
UID:10009816-1779098400-1779102000@pacificcity.com
SUMMARY:Walking Wonders
DESCRIPTION:Join this active group rain or shine to get your steps in and around town.
URL:https://pacificcity.com/event/walking-wonders-330/
LOCATION:Kiawanda Community Center\, 34600 Cape Kiwanda Dr\, Pacific City\, OR 97135\, OR\, United States
CATEGORIES:Fitness and Athletics
ATTACH;FMTTYPE=image/png:https://pacificcity.com/wp-content/uploads/2024/04/Walking-Wonders-JBf2iO.tmp_.png
END:VEVENT
BEGIN:VEVENT
DTSTART;TZID=America/Los_Angeles:20260518T103000
DTEND;TZID=America/Los_Angeles:20260518T123000
DTSTAMP:20260421T200453
CREATED:20260217T213217Z
LAST-MODIFIED:20260420T181806Z
UID:10009817-1779100200-1779107400@pacificcity.com
SUMMARY:Dungeons and Dragons at Tillamook Library
DESCRIPTION:Play a variety of tabletop RPGs with local storytellers at the library! Open to all!
URL:https://pacificcity.com/event/dungeons-and-dragons-at-tillamook-library-92/
LOCATION:Tillamook County Library\, 1716 3rd Street Tillamook Oregon 97141
CATEGORIES:Community
ATTACH;FMTTYPE=image/png:https://pacificcity.com/wp-content/uploads/2025/07/Dungeons-Dragons-2025-TM-1-WZfv4w.png
END:VEVENT
BEGIN:VEVENT
DTSTART;TZID=America/Los_Angeles:20260518T190000
DTEND;TZID=America/Los_Angeles:20260518T210000
DTSTAMP:20260421T200453
CREATED:20260217T213225Z
LAST-MODIFIED:20260420T181851Z
UID:10009818-1779130800-1779138000@pacificcity.com
SUMMARY:Tillamook City Council meeting
DESCRIPTION:The City Council meets on the first and third Monday of each month at the City Hall. In the event of a holiday\, the meeting shall take place the day following or on a day agreed upon by the Council at the meeting prior to the holiday. \nThis is a public meeting per ORS chapter 192. The City Council reserves the right to call an executive session per ORS 192.660. City hall is handicap accessible. Please contact the office of the City Manager should special accommodations be required. Citizens with visual or manual impairments may contact the Oregon Relay Service by phoning 1-800-648-3458 (TDD) or 1-800-848-4442 (voice). The city of Tillamook is an equal opportunity provider and employer.
URL:https://pacificcity.com/event/tillamook-city-council-meeting-54/
LOCATION:Tillamook City Hall\, 210 Laurel Avenue\, Tillamook\, OR\, 97141\, United States
CATEGORIES:Public Meetings
ATTACH;FMTTYPE=image/jpeg:https://pacificcity.com/wp-content/uploads/2022/04/City-Hall-Tillamook-City-scaled-pPdRDH.tmp_.jpg
ORGANIZER;CN="City of Tillamook":MAILTO:ngeorge@tillamookor.gov
END:VEVENT
BEGIN:VEVENT
DTSTART;TZID=America/Los_Angeles:20260518T190000
DTEND;TZID=America/Los_Angeles:20260518T210000
DTSTAMP:20260421T200453
CREATED:20260420T181806Z
LAST-MODIFIED:20260420T181806Z
UID:10010340-1779130800-1779138000@pacificcity.com
SUMMARY:MusicOregon Listening Session on the North Coast Music Scene
DESCRIPTION:MusicOregon is conducting a statewide listening tour across seven Oregon communities from May 16 through May 23\, 2026. Each stop is a free\, two-hour public gathering open to musicians\, venue operators\, music educators\, producers\, managers\, and anyone who works in or alongside the local music scene. The gatherings are conversation-first: no formal presentations\, no agenda beyond listening. Participants will help define MusicOregon’s statewide programming\, partnerships\, and advocacy priorities for the next two years. \nThe tour is funded in part by the Oregon Community Foundation through its Arts Rebuilding Grant program\, and reflects MusicOregon’s expansion beyond its Portland origins into all of Oregon’s major music regions: the North Coast\, the Willamette Valley\, Southern Oregon\, Central Oregon\, and Northeastern Oregon. \nA statewide needs assessment survey is also open now at musicoregon.org/survey. Responses are anonymous. MusicOregon will share the results with the music community and the public. \nWHO SHOULD ATTEND\n\nIndependent musicians and performers\nVenue operators\, bookers\, and promoters\nMusic producers\, engineers\, and studio owners\nManagers\, agents\, and music entrepreneurs\nMusic educators and teaching artists\nCommunity organizers working at the intersection of arts and culture\n\nAll gatherings are free and open to the public. Light refreshments provided. \nRSVP
URL:https://pacificcity.com/event/musicoregon-listening-session-on-the-north-coast-music-scene/
LOCATION:Fairview Grange\, 5520 3rd St\, Tillamook\, OR\, United States\, Oregon
CATEGORIES:Community,Education
ATTACH;FMTTYPE=image/png:https://pacificcity.com/wp-content/uploads/2026/04/Tillamook-FB-Event-Cover-1200-x-628-px-44W3Ak.png
END:VEVENT
BEGIN:VEVENT
DTSTART;TZID=America/Los_Angeles:20260519T080000
DTEND;TZID=America/Los_Angeles:20260519T090000
DTSTAMP:20260421T200453
CREATED:20260218T214621Z
LAST-MODIFIED:20260420T181813Z
UID:10009824-1779177600-1779181200@pacificcity.com
SUMMARY:Mornings on Main Street
DESCRIPTION:Join the Chamber for our monthly neighbor chat\, an informal coffee and discussion of things happening around town. Conversations range from events to new business opening and who is looking for help. This is a great opportunity to get in touch with our business and retail community\, as well as many of the non-profits\, government officials\, service groups and community leaders. Conversations are always casual and fun\, and there is always plenty of coffee and some breakfast treats. Doors open at 8 a.m.\, and typically come to an end by 9 a.m. Feel free to swing in at any time within the hour. We would be happy to see you pop in. \n\nMornings on Main Street is proudly sponsored by the Tillamook branch of Columbia Bank.
URL:https://pacificcity.com/event/mornings-on-main-street-29/
LOCATION:Tillamook Area Chamber of Commerce\, 208 Main Ave.\, Tillamook\, OR\, 97141\, United States
CATEGORIES:Business,Community,Public Meetings
ATTACH;FMTTYPE=image/jpeg:https://pacificcity.com/wp-content/uploads/2026/01/MOrnings-Instagram-Post-HltnsD.jpg
END:VEVENT
BEGIN:VEVENT
DTSTART;TZID=America/Los_Angeles:20260519T090000
DTEND;TZID=America/Los_Angeles:20260519T100000
DTSTAMP:20260421T200453
CREATED:20260218T214621Z
LAST-MODIFIED:20260420T181813Z
UID:10009825-1779181200-1779184800@pacificcity.com
SUMMARY:Fit and Fabulous at the KCC
DESCRIPTION:Come join this group keeping active two days a week. Only $15 for the month!
URL:https://pacificcity.com/event/fit-and-fabulous-at-the-kcc-220/
LOCATION:Kiawanda Community Center\, 34600 Cape Kiwanda Dr\, Pacific City\, OR 97135\, OR\, United States
CATEGORIES:Fitness and Athletics
ATTACH;FMTTYPE=image/png:https://pacificcity.com/wp-content/uploads/2024/04/Fit-Fabulous-7zrtzR.tmp_.png
END:VEVENT
BEGIN:VEVENT
DTSTART;TZID=America/Los_Angeles:20260519T100000
DTEND;TZID=America/Los_Angeles:20260519T110000
DTSTAMP:20260421T200453
CREATED:20260218T214632Z
LAST-MODIFIED:20260420T181851Z
UID:10009831-1779184800-1779188400@pacificcity.com
SUMMARY:Tillamook Main Library Storytime: Terrific Twos
DESCRIPTION:Terrific Twos (TT) on Tues @ 10am; developmentally appropriate for 24-36mos; bubbles\, balls\, parachute & instruments! There is no expectation that your children will sit still or be quiet. It’s not developmentally appropriate to ask them to. \nA couple of things about the children’s room that might set you at ease: \n\nThere is no expectation that it will be a quiet zone; kids are kids and they are allowed to act themselves in the children’s room.\nOnly 2 hard and fast rules: No Running & No Screaming.\nIf your child needs a snack\, feed them!
URL:https://pacificcity.com/event/tillamook-main-library-storytime-terrific-twos-114/
LOCATION:Tillamook Main Library\, Tillamook\, 1716 3rd St\, Tillamook\, OR\, 97141\, United States
CATEGORIES:Education,Family Fun
ATTACH;FMTTYPE=image/jpeg:https://pacificcity.com/wp-content/uploads/2023/01/TCL-white-k7N2nV.tmp_.jpg
ORGANIZER;CN="Melanie Hetrick":MAILTO:mhetrick@co.tillamook.or.us
END:VEVENT
BEGIN:VEVENT
DTSTART;TZID=America/Los_Angeles:20260519T100000
DTEND;TZID=America/Los_Angeles:20260519T150000
DTSTAMP:20260421T200453
CREATED:20260218T214622Z
LAST-MODIFIED:20260420T181813Z
UID:10009826-1779184800-1779202800@pacificcity.com
SUMMARY:Tuesday Stitchers
DESCRIPTION:Come and be a part of a community of people who love to make things for others\, and in turn make friends within the group. All levels are welcome. \nJoin us at the Kiawanda Community Center on Tuesdays from 10 AM to 3 PM in the Great Hall. \nFirst Monday every month from 4 to 9 PM. \nCall (503) 965-7900 for more details | $6 admission
URL:https://pacificcity.com/event/tuesday-stitchers-82/
LOCATION:Kiawanda Community Center\, 34600 Cape Kiwanda Dr\, Pacific City\, OR 97135\, OR\, United States
CATEGORIES:Classes and Workshops,Community
ATTACH;FMTTYPE=image/png:https://pacificcity.com/wp-content/uploads/2024/10/Tuesday-Stitchers-Group-Flyer-ymwGK5.tmp_.png
END:VEVENT
BEGIN:VEVENT
DTSTART;TZID=America/Los_Angeles:20260519T100000
DTEND;TZID=America/Los_Angeles:20260519T160000
DTSTAMP:20260421T200453
CREATED:20260218T042847Z
LAST-MODIFIED:20260420T180222Z
UID:10009820-1779184800-1779206400@pacificcity.com
SUMMARY:OPEN CLAY STUDIO
DESCRIPTION:Slab roller\, potter’s wheel\, tools\, and kiln time. $2/hr. Clay available $1 for 2 lbs. 503-368-3846\, hoffmancenter@nehalemtel.net\, www.hoffmancentermanzanita.org
URL:https://pacificcity.com/event/open-clay-studio-183/
LOCATION:Hoffman Center Studios\, 594 Laneda Avenue in Manzanita
END:VEVENT
BEGIN:VEVENT
DTSTART;TZID=America/Los_Angeles:20260519T103000
DTEND;TZID=America/Los_Angeles:20260519T130000
DTSTAMP:20260421T200453
CREATED:20260218T042847Z
LAST-MODIFIED:20260420T180222Z
UID:10009819-1779186600-1779195600@pacificcity.com
SUMMARY:WORKSHOP:  Writing Lounge
DESCRIPTION:Bring your project or start a new one using prompts that are always available. A bit of time at the end for sharing what you’ve written.\nDid you know expressive writing is good for you !? Research says it eases\nphysical and emotional distress.\nEvery Tuesday at the Hoffman Center in Manzanita 10:30 – 1:00. Donations of\n$5 keep the lights on.\nFor more info: contact Marcia Silver marciasilver12@gmail.com
URL:https://pacificcity.com/event/workshop-writing-lounge-183/
LOCATION:Hoffman Center\, Manzanita\, OR\, United States
GEO:45.71844;-123.93514
END:VEVENT
BEGIN:VEVENT
DTSTART;TZID=America/Los_Angeles:20260519T113000
DTEND;TZID=America/Los_Angeles:20260519T123000
DTSTAMP:20260421T200453
CREATED:20260218T214622Z
LAST-MODIFIED:20260413T175705Z
UID:10009827-1779190200-1779193800@pacificcity.com
SUMMARY:Senior Meals
DESCRIPTION:Senior Lunches are served at 11:30 am on Tuesdays and Wednesdays for $3 and others may attend for $6.
URL:https://pacificcity.com/event/senior-meals-94/
LOCATION:Kiawanda Community Center\, 34600 Cape Kiwanda Dr\, Pacific City\, OR 97135\, OR\, United States
CATEGORIES:Community
ATTACH;FMTTYPE=image/png:https://pacificcity.com/wp-content/uploads/2024/08/Senior-Meals-W1hmqM.tmp_.png
END:VEVENT
BEGIN:VEVENT
DTSTART;TZID=America/Los_Angeles:20260519T113000
DTEND;TZID=America/Los_Angeles:20260519T123000
DTSTAMP:20260421T200453
CREATED:20260218T214623Z
LAST-MODIFIED:20260420T181813Z
UID:10009828-1779190200-1779193800@pacificcity.com
SUMMARY:Senior Meals Tuesday & Wednesday
DESCRIPTION:🍽️ Senior Meals at the Kiawanda Community Center 🍽️ \nJoin us every Tuesday and Wednesday at 11:30 AM for delicious\, nutritious senior meals at the Kiawanda Community Center!\nCome enjoy great food and even better company in a warm and welcoming atmosphere. \n✨ Who: Seniors & community members\n📍 Where: Kiawanda Community Center\n📅 When: Every Tuesday & Wednesday\n⏰ Time: 11:30 AM \nBring a friend\, make new ones\, and enjoy a healthy midday meal! ❤️ \nFor more information\, call the Kiawanda Community Center.
URL:https://pacificcity.com/event/senior-meals-tuesday-wednesday-40/
LOCATION:Kiawanda Community Center\, 34600 Cape Kiwanda Dr\, Pacific City\, OR 97135\, OR\, United States
CATEGORIES:Community
ATTACH;FMTTYPE=image/png:https://pacificcity.com/wp-content/uploads/2025/12/Brown-Orange-Modern-Food-Price-Instagram-Post-Invitation-portrait-aciUYf.png
END:VEVENT
BEGIN:VEVENT
DTSTART;TZID=America/Los_Angeles:20260519T140000
DTEND;TZID=America/Los_Angeles:20260519T150000
DTSTAMP:20260421T200453
CREATED:20260218T214623Z
LAST-MODIFIED:20260420T181813Z
UID:10009829-1779199200-1779202800@pacificcity.com
SUMMARY:Book Club at Garibaldi Library
DESCRIPTION:Join us at the Garibaldi Branch Library on the third Tuesday of each month for a book club meeting at 2 pm. Pick up the book anytime before the meeting at the Garibaldi library.
URL:https://pacificcity.com/event/book-club-at-garibaldi-library-17/
LOCATION:Garibaldi Library\, 107 6th St\, Garibaldi OR
CATEGORIES:Classes and Workshops,Community
ATTACH;FMTTYPE=image/png:https://pacificcity.com/wp-content/uploads/2025/06/Garibaldi-Branch-Book-Club-cCvYWG.png
END:VEVENT
BEGIN:VEVENT
DTSTART;TZID=America/Los_Angeles:20260519T180000
DTEND;TZID=America/Los_Angeles:20260519T210000
DTSTAMP:20260421T200453
CREATED:20260218T214624Z
LAST-MODIFIED:20260420T181813Z
UID:10009830-1779213600-1779224400@pacificcity.com
SUMMARY:Trivia at Pelican Brewing- Pacific City
DESCRIPTION:Join us for trivia night every Tuesday! Win cool prizes and show your knowledge. Blackout dates apply.
URL:https://pacificcity.com/event/trivia-at-pelican-brewing-pacific-city-24/
LOCATION:Pelican Brewing Company\, 33180 Cape Kiwanda Drive
CATEGORIES:Community
ATTACH;FMTTYPE=image/jpeg:https://pacificcity.com/wp-content/uploads/2025/12/TRivia-fiWdHh.jpg
END:VEVENT
BEGIN:VEVENT
DTSTART;TZID=America/Los_Angeles:20260520T100000
DTEND;TZID=America/Los_Angeles:20260520T110000
DTSTAMP:20260421T200453
CREATED:20260219T220050Z
LAST-MODIFIED:20260420T181813Z
UID:10009833-1779271200-1779274800@pacificcity.com
SUMMARY:Tillamook Main Library Storytime: Preschool
DESCRIPTION:Preschool storytime (PS) on Wed @ 10; developmentally appropriate for 3-5 yos; music\, stories\, interactive play and lots of laughs! In this class little begin to learn about a leader at the front of the room\, how to hold their wiggles\, listening and sitting still. When a child is transitioning from TT to PS my expectation is that they will sit for 5-10 minutes and then they might go play. I do not force them to sit still if they are not ready to. \nA couple of things about the children’s room that might set you at ease: \n\nThere is no expectation that it will be a quiet zone; kids are kids and they are allowed to act like themselves in the children’s room.\nOnly 2 hard and fast rules: No Running & No Screaming.\nIf your child needs a snack\, feed them!
URL:https://pacificcity.com/event/tillamook-main-library-storytime-preschool-117/
LOCATION:Tillamook Main Library\, Tillamook\, 1716 3rd St\, Tillamook\, OR\, 97141\, United States
CATEGORIES:Education,Family Fun
ATTACH;FMTTYPE=image/png:https://pacificcity.com/wp-content/uploads/2023/01/TCL-transparent-logo-sNPWdP.tmp_.png
ORGANIZER;CN="Melanie Hetrick":MAILTO:mhetrick@co.tillamook.or.us
END:VEVENT
BEGIN:VEVENT
DTSTART;TZID=America/Los_Angeles:20260520T100000
DTEND;TZID=America/Los_Angeles:20260520T110000
DTSTAMP:20260421T200453
CREATED:20260219T220050Z
LAST-MODIFIED:20260420T181814Z
UID:10009834-1779271200-1779274800@pacificcity.com
SUMMARY:Walking Wonders
DESCRIPTION:Join this active group rain or shine to get your steps in and around town.
URL:https://pacificcity.com/event/walking-wonders-331/
LOCATION:Kiawanda Community Center\, 34600 Cape Kiwanda Dr\, Pacific City\, OR 97135\, OR\, United States
CATEGORIES:Fitness and Athletics
ATTACH;FMTTYPE=image/png:https://pacificcity.com/wp-content/uploads/2024/04/Walking-Wonders-JBf2iO.tmp_.png
END:VEVENT
BEGIN:VEVENT
DTSTART;TZID=America/Los_Angeles:20260520T103000
DTEND;TZID=America/Los_Angeles:20260520T113000
DTSTAMP:20260421T200453
CREATED:20260219T220052Z
LAST-MODIFIED:20260407T002707Z
UID:10009835-1779273000-1779276600@pacificcity.com
SUMMARY:Book Babies Storytime at Manzanita Library
DESCRIPTION:Stories and activities for the smallest patrons every 3rd Wednesday at 10:30 am!
URL:https://pacificcity.com/event/book-babies-storytime-at-manzanita-library-8/
LOCATION:Manzanita Library\, 571 Laneda Ave Manzanita OR
CATEGORIES:Community,Family Fun
ATTACH;FMTTYPE=image/png:https://pacificcity.com/wp-content/uploads/2025/09/Book-Babies-storytime-TZ-G8nEKM.png
END:VEVENT
BEGIN:VEVENT
DTSTART;TZID=America/Los_Angeles:20260520T113000
DTEND;TZID=America/Los_Angeles:20260520T123000
DTSTAMP:20260421T200453
CREATED:20260219T220052Z
LAST-MODIFIED:20260420T181814Z
UID:10009836-1779276600-1779280200@pacificcity.com
SUMMARY:Senior Meals Tuesday & Wednesday
DESCRIPTION:🍽️ Senior Meals at the Kiawanda Community Center 🍽️ \nJoin us every Tuesday and Wednesday at 11:30 AM for delicious\, nutritious senior meals at the Kiawanda Community Center!\nCome enjoy great food and even better company in a warm and welcoming atmosphere. \n✨ Who: Seniors & community members\n📍 Where: Kiawanda Community Center\n📅 When: Every Tuesday & Wednesday\n⏰ Time: 11:30 AM \nBring a friend\, make new ones\, and enjoy a healthy midday meal! ❤️ \nFor more information\, call the Kiawanda Community Center.
URL:https://pacificcity.com/event/senior-meals-tuesday-wednesday-41/
LOCATION:Kiawanda Community Center\, 34600 Cape Kiwanda Dr\, Pacific City\, OR 97135\, OR\, United States
CATEGORIES:Community
ATTACH;FMTTYPE=image/png:https://pacificcity.com/wp-content/uploads/2025/12/Brown-Orange-Modern-Food-Price-Instagram-Post-Invitation-portrait-aciUYf.png
END:VEVENT
BEGIN:VEVENT
DTSTART;TZID=America/Los_Angeles:20260520T133000
DTEND;TZID=America/Los_Angeles:20260520T150000
DTSTAMP:20260421T200453
CREATED:20260219T220053Z
LAST-MODIFIED:20260420T181814Z
UID:10009837-1779283800-1779289200@pacificcity.com
SUMMARY:American Legion Tillamook Post 47
DESCRIPTION:Monthly meetings will be the third Wednesday of each month at 1:30 pm at the Tillamook Eagles Lodge.  All active duty honorably discharged veterans of all branches including the Coast Guard are eligible to join and help us grow this 103 year old American Legion post.  Next year we are launching to programs for our County youth: \nhttps://orlegion.org/programs/law-enforcement-career-camp/ \nhttps://www.legion.org/shooting
URL:https://pacificcity.com/event/american-legion-tillamook-post-47-37/
LOCATION:Tillamook Eagles Lodge\, 209 Stillwell Ave.
CATEGORIES:Business
ATTACH;FMTTYPE=image/jpeg:https://pacificcity.com/wp-content/uploads/2023/10/IMG_1308-Pgfopi.tmp_.jpg
ORGANIZER;CN="Larry Emery Post Adjutant":MAILTO:larry@tillamookpost47.com
END:VEVENT
BEGIN:VEVENT
DTSTART;TZID=America/Los_Angeles:20260520T161500
DTEND;TZID=America/Los_Angeles:20260520T171500
DTSTAMP:20260421T200453
CREATED:20260219T220053Z
LAST-MODIFIED:20260420T181814Z
UID:10009838-1779293700-1779297300@pacificcity.com
SUMMARY:Teen Craft & Chat at Garibaldi Library
DESCRIPTION:Drop in crafting and social time for teens!
URL:https://pacificcity.com/event/teen-craft-chat-at-garibaldi-library-11/
LOCATION:Garibaldi Library\, 107 6th St\, Garibaldi OR
CATEGORIES:Community
ATTACH;FMTTYPE=image/png:https://pacificcity.com/wp-content/uploads/2025/03/Teen-Craft-Chat-0DA3to.tmp_.png
END:VEVENT
BEGIN:VEVENT
DTSTART;TZID=America/Los_Angeles:20260520T180000
DTEND;TZID=America/Los_Angeles:20260520T193000
DTSTAMP:20260421T200453
CREATED:20260220T045830Z
LAST-MODIFIED:20260420T180223Z
UID:10009839-1779300000-1779305400@pacificcity.com
SUMMARY:SQUARE DANCE LESSONS
DESCRIPTION:Square Dance Lessons every Wednesday at 6pm. Learn modern Square Dancing with the Wave Steppers of Tillamook Bay. Children 9 and older welcome with an adult. For more information\, call Barb (503) 812-4126\, or Carolyn (503) 801-4044. FREE!
URL:https://pacificcity.com/event/square-dance-lessons-183/
LOCATION:Elks Lodge\, 1907 3rd St\, Tillamook\, OR\, United States
GEO:45.456251;-123.844973
X-APPLE-STRUCTURED-LOCATION;VALUE=URI;X-ADDRESS=Elks Lodge 1907 3rd St Tillamook OR United States;X-APPLE-RADIUS=500;X-TITLE=1907 3rd St:geo:-123.844973,45.456251
END:VEVENT
END:VCALENDAR