BEGIN:VCALENDAR
VERSION:2.0
PRODID:-//Pacific City - ECPv6.15.20//NONSGML v1.0//EN
CALSCALE:GREGORIAN
METHOD:PUBLISH
X-WR-CALNAME:Pacific City
X-ORIGINAL-URL:https://pacificcity.com
X-WR-CALDESC:Events for Pacific City
REFRESH-INTERVAL;VALUE=DURATION:PT1H
X-Robots-Tag:noindex
X-PUBLISHED-TTL:PT1H
BEGIN:VTIMEZONE
TZID:America/Los_Angeles
BEGIN:DAYLIGHT
TZOFFSETFROM:-0800
TZOFFSETTO:-0700
TZNAME:PDT
DTSTART:20250309T100000
END:DAYLIGHT
BEGIN:STANDARD
TZOFFSETFROM:-0700
TZOFFSETTO:-0800
TZNAME:PST
DTSTART:20251102T090000
END:STANDARD
BEGIN:DAYLIGHT
TZOFFSETFROM:-0800
TZOFFSETTO:-0700
TZNAME:PDT
DTSTART:20260308T100000
END:DAYLIGHT
BEGIN:STANDARD
TZOFFSETFROM:-0700
TZOFFSETTO:-0800
TZNAME:PST
DTSTART:20261101T090000
END:STANDARD
BEGIN:DAYLIGHT
TZOFFSETFROM:-0800
TZOFFSETTO:-0700
TZNAME:PDT
DTSTART:20270314T100000
END:DAYLIGHT
BEGIN:STANDARD
TZOFFSETFROM:-0700
TZOFFSETTO:-0800
TZNAME:PST
DTSTART:20271107T090000
END:STANDARD
END:VTIMEZONE
BEGIN:VEVENT
DTSTART;TZID=America/Los_Angeles:20260510T130000
DTEND;TZID=America/Los_Angeles:20260510T150000
DTSTAMP:20260421T153340
CREATED:20260309T172933Z
LAST-MODIFIED:20260420T181801Z
UID:10009999-1778418000-1778425200@pacificcity.com
SUMMARY:The Winery at Manzanita\, Paint and Sip\, 1-3 pm
DESCRIPTION:Join Dawnings Art Classes and The Winery at Manzanita for Paint & Sip classes! Tickets are $45 which includes all materials\, instruction and $10 towards your purchase. March 22nd and May 10th.
URL:https://pacificcity.com/event/the-winery-at-manzanita-paint-and-sip-1-3-pm-2/
LOCATION:The Winery at Manzanita\, 253 Laneda Avenue
CATEGORIES:Community
ATTACH;FMTTYPE=image/jpeg:https://pacificcity.com/wp-content/uploads/2026/03/Haystack-dDjiAN.jpg
END:VEVENT
BEGIN:VEVENT
DTSTART;TZID=America/Los_Angeles:20260511T090000
DTEND;TZID=America/Los_Angeles:20260511T100000
DTSTAMP:20260421T153340
CREATED:20260210T194811Z
LAST-MODIFIED:20260420T181801Z
UID:10009756-1778490000-1778493600@pacificcity.com
SUMMARY:Yoga With Dawn
DESCRIPTION:🧘‍♀️ Yoga with Dawn – Find Your Flow! 🧘‍♂️ \nStart your day with peace\, strength\, and positive energy 🌞Join Dawn for a refreshing yoga class every: \n🗓️ Monday\, Wednesday\, Friday & Saturday🕘 9:00 AM – 10:00 AM📍 Kiawanda Community Center \nAll levels are welcome—whether you’re new to yoga or a seasoned pro\, Dawn’s calm guidance and supportive atmosphere will leave you feeling refreshed and centered. \n✨ Bring a mat\, some water\, and a smile.No registration needed—just drop in and breathe it out with us! \n#YogaWithDawn #KiawandaCommunityCenter #MorningYoga #WellnessInPacificCity #MindBodySoul
URL:https://pacificcity.com/event/yoga-with-dawn-164/
LOCATION:Kiawanda Community Center\, 34600 Cape Kiwanda Dr\, Pacific City\, OR 97135\, OR\, United States
CATEGORIES:Classes and Workshops,Community
ATTACH;FMTTYPE=image/jpeg:https://pacificcity.com/wp-content/uploads/2025/07/yoga-VHSvFY.jpg
END:VEVENT
BEGIN:VEVENT
DTSTART;TZID=America/Los_Angeles:20260511T100000
DTEND;TZID=America/Los_Angeles:20260511T110000
DTSTAMP:20260421T153340
CREATED:20260210T194811Z
LAST-MODIFIED:20260420T181801Z
UID:10009757-1778493600-1778497200@pacificcity.com
SUMMARY:Walking Wonders
DESCRIPTION:Join this active group rain or shine to get your steps in and around town.
URL:https://pacificcity.com/event/walking-wonders-327/
LOCATION:Kiawanda Community Center\, 34600 Cape Kiwanda Dr\, Pacific City\, OR 97135\, OR\, United States
CATEGORIES:Fitness and Athletics
ATTACH;FMTTYPE=image/png:https://pacificcity.com/wp-content/uploads/2024/04/Walking-Wonders-JBf2iO.tmp_.png
END:VEVENT
BEGIN:VEVENT
DTSTART;TZID=America/Los_Angeles:20260511T103000
DTEND;TZID=America/Los_Angeles:20260511T123000
DTSTAMP:20260421T153340
CREATED:20260210T194812Z
LAST-MODIFIED:20260420T181802Z
UID:10009758-1778495400-1778502600@pacificcity.com
SUMMARY:Dungeons and Dragons at Tillamook Library
DESCRIPTION:Play a variety of tabletop RPGs with local storytellers at the library! Open to all!
URL:https://pacificcity.com/event/dungeons-and-dragons-at-tillamook-library-90/
LOCATION:Tillamook County Library\, 1716 3rd Street Tillamook Oregon 97141
CATEGORIES:Community
ATTACH;FMTTYPE=image/png:https://pacificcity.com/wp-content/uploads/2025/07/Dungeons-Dragons-2025-TM-1-WZfv4w.png
END:VEVENT
BEGIN:VEVENT
DTSTART;TZID=America/Los_Angeles:20260512T090000
DTEND;TZID=America/Los_Angeles:20260512T100000
DTSTAMP:20260421T153340
CREATED:20260211T195930Z
LAST-MODIFIED:20260420T181802Z
UID:10009773-1778576400-1778580000@pacificcity.com
SUMMARY:Fit and Fabulous at the KCC
DESCRIPTION:Come join this group keeping active two days a week. Only $15 for the month!
URL:https://pacificcity.com/event/fit-and-fabulous-at-the-kcc-218/
LOCATION:Kiawanda Community Center\, 34600 Cape Kiwanda Dr\, Pacific City\, OR 97135\, OR\, United States
CATEGORIES:Fitness and Athletics
ATTACH;FMTTYPE=image/png:https://pacificcity.com/wp-content/uploads/2024/04/Fit-Fabulous-7zrtzR.tmp_.png
END:VEVENT
BEGIN:VEVENT
DTSTART;TZID=America/Los_Angeles:20260512T100000
DTEND;TZID=America/Los_Angeles:20260512T110000
DTSTAMP:20260421T153340
CREATED:20260211T195939Z
LAST-MODIFIED:20260420T181850Z
UID:10009778-1778580000-1778583600@pacificcity.com
SUMMARY:Tillamook Main Library Storytime: Terrific Twos
DESCRIPTION:Terrific Twos (TT) on Tues @ 10am; developmentally appropriate for 24-36mos; bubbles\, balls\, parachute & instruments! There is no expectation that your children will sit still or be quiet. It’s not developmentally appropriate to ask them to. \nA couple of things about the children’s room that might set you at ease: \n\nThere is no expectation that it will be a quiet zone; kids are kids and they are allowed to act themselves in the children’s room.\nOnly 2 hard and fast rules: No Running & No Screaming.\nIf your child needs a snack\, feed them!
URL:https://pacificcity.com/event/tillamook-main-library-storytime-terrific-twos-113/
LOCATION:Tillamook Main Library\, Tillamook\, 1716 3rd St\, Tillamook\, OR\, 97141\, United States
CATEGORIES:Education,Family Fun
ATTACH;FMTTYPE=image/jpeg:https://pacificcity.com/wp-content/uploads/2023/01/TCL-white-k7N2nV.tmp_.jpg
ORGANIZER;CN="Melanie Hetrick":MAILTO:mhetrick@co.tillamook.or.us
END:VEVENT
BEGIN:VEVENT
DTSTART;TZID=America/Los_Angeles:20260512T100000
DTEND;TZID=America/Los_Angeles:20260512T150000
DTSTAMP:20260421T153340
CREATED:20260211T195930Z
LAST-MODIFIED:20260420T181802Z
UID:10009774-1778580000-1778598000@pacificcity.com
SUMMARY:Tuesday Stitchers
DESCRIPTION:Come and be a part of a community of people who love to make things for others\, and in turn make friends within the group. All levels are welcome. \nJoin us at the Kiawanda Community Center on Tuesdays from 10 AM to 3 PM in the Great Hall. \nFirst Monday every month from 4 to 9 PM. \nCall (503) 965-7900 for more details | $6 admission
URL:https://pacificcity.com/event/tuesday-stitchers-81/
LOCATION:Kiawanda Community Center\, 34600 Cape Kiwanda Dr\, Pacific City\, OR 97135\, OR\, United States
CATEGORIES:Classes and Workshops,Community
ATTACH;FMTTYPE=image/png:https://pacificcity.com/wp-content/uploads/2024/10/Tuesday-Stitchers-Group-Flyer-ymwGK5.tmp_.png
END:VEVENT
BEGIN:VEVENT
DTSTART;TZID=America/Los_Angeles:20260512T100000
DTEND;TZID=America/Los_Angeles:20260512T160000
DTSTAMP:20260421T153340
CREATED:20260211T025831Z
LAST-MODIFIED:20260420T180221Z
UID:10009759-1778580000-1778601600@pacificcity.com
SUMMARY:OPEN CLAY STUDIO
DESCRIPTION:Slab roller\, potter’s wheel\, tools\, and kiln time. $2/hr. Clay available $1 for 2 lbs. 503-368-3846\, hoffmancenter@nehalemtel.net\, www.hoffmancentermanzanita.org
URL:https://pacificcity.com/event/open-clay-studio-182/
LOCATION:Hoffman Center Studios\, 594 Laneda Avenue in Manzanita
END:VEVENT
BEGIN:VEVENT
DTSTART;TZID=America/Los_Angeles:20260512T103000
DTEND;TZID=America/Los_Angeles:20260512T130000
DTSTAMP:20260421T153340
CREATED:20260211T025831Z
LAST-MODIFIED:20260420T180221Z
UID:10009760-1778581800-1778590800@pacificcity.com
SUMMARY:WORKSHOP:  Writing Lounge
DESCRIPTION:Bring your project or start a new one using prompts that are always available. A bit of time at the end for sharing what you’ve written.\nDid you know expressive writing is good for you !? Research says it eases\nphysical and emotional distress.\nEvery Tuesday at the Hoffman Center in Manzanita 10:30 – 1:00. Donations of\n$5 keep the lights on.\nFor more info: contact Marcia Silver marciasilver12@gmail.com
URL:https://pacificcity.com/event/workshop-writing-lounge-182/
LOCATION:Hoffman Center\, Manzanita\, OR\, United States
GEO:45.71844;-123.93514
END:VEVENT
BEGIN:VEVENT
DTSTART;TZID=America/Los_Angeles:20260512T113000
DTEND;TZID=America/Los_Angeles:20260512T123000
DTSTAMP:20260421T153340
CREATED:20260211T195930Z
LAST-MODIFIED:20260420T181802Z
UID:10009776-1778585400-1778589000@pacificcity.com
SUMMARY:Senior Meals Tuesday & Wednesday
DESCRIPTION:🍽️ Senior Meals at the Kiawanda Community Center 🍽️ \nJoin us every Tuesday and Wednesday at 11:30 AM for delicious\, nutritious senior meals at the Kiawanda Community Center!\nCome enjoy great food and even better company in a warm and welcoming atmosphere. \n✨ Who: Seniors & community members\n📍 Where: Kiawanda Community Center\n📅 When: Every Tuesday & Wednesday\n⏰ Time: 11:30 AM \nBring a friend\, make new ones\, and enjoy a healthy midday meal! ❤️ \nFor more information\, call the Kiawanda Community Center.
URL:https://pacificcity.com/event/senior-meals-tuesday-wednesday-38/
LOCATION:Kiawanda Community Center\, 34600 Cape Kiwanda Dr\, Pacific City\, OR 97135\, OR\, United States
CATEGORIES:Community
ATTACH;FMTTYPE=image/png:https://pacificcity.com/wp-content/uploads/2025/12/Brown-Orange-Modern-Food-Price-Instagram-Post-Invitation-portrait-aciUYf.png
END:VEVENT
BEGIN:VEVENT
DTSTART;TZID=America/Los_Angeles:20260512T113000
DTEND;TZID=America/Los_Angeles:20260512T123000
DTSTAMP:20260421T153340
CREATED:20260211T195930Z
LAST-MODIFIED:20260413T175700Z
UID:10009775-1778585400-1778589000@pacificcity.com
SUMMARY:Senior Meals
DESCRIPTION:Senior Lunches are served at 11:30 am on Tuesdays and Wednesdays for $3 and others may attend for $6.
URL:https://pacificcity.com/event/senior-meals-93/
LOCATION:Kiawanda Community Center\, 34600 Cape Kiwanda Dr\, Pacific City\, OR 97135\, OR\, United States
CATEGORIES:Community
ATTACH;FMTTYPE=image/png:https://pacificcity.com/wp-content/uploads/2024/08/Senior-Meals-W1hmqM.tmp_.png
END:VEVENT
BEGIN:VEVENT
DTSTART;TZID=America/Los_Angeles:20260512T170000
DTEND;TZID=America/Los_Angeles:20260512T200000
DTSTAMP:20260421T153340
CREATED:20260401T165711Z
LAST-MODIFIED:20260420T181802Z
UID:10010203-1778605200-1778616000@pacificcity.com
SUMMARY:Plant Bingo
DESCRIPTION:Plant Bingo Night  hosted by Sweet Begonias\n\nWhether you’re a seasoned plant whisperer or still figuring out which end of the watering can to use\, our Plant Bingo Night is your chance to mix leafy vibes with lucky streaks.\n\nMark Your Calendars: 2nd Tuesday of each month\n📍 Inside Pacific Restaurant Doors open at 5:00 PM First game starts at 6:00 PM $30 for 1-on card/$40 for 3-on card Cash bar and Happy Hour menu available\n\nAnd here’s the best part: even if your bingo card is cursed\, you’ll still walk away with a fabulous new plant from our plant bar. Because everyone deserves a little green in their life.\n\n 15% off the purchase of any plants bought after the event! \nCome for the bingo\, stay for the botanicals—and maybe a drink or two. Let’s make it a night to remember (and repot)!
URL:https://pacificcity.com/event/plant-bingo-2/
LOCATION:Downtown Tillamook\, Tillamook\, OR\, 97141\, United States
CATEGORIES:Community,Family Fun
ATTACH;FMTTYPE=image/png:https://pacificcity.com/wp-content/uploads/2026/04/Original-scaled-LH9Q1C.png
GEO:45.489825;-123.958743
END:VEVENT
BEGIN:VEVENT
DTSTART;TZID=America/Los_Angeles:20260512T180000
DTEND;TZID=America/Los_Angeles:20260512T210000
DTSTAMP:20260421T153340
CREATED:20260211T195931Z
LAST-MODIFIED:20260420T181802Z
UID:10009777-1778608800-1778619600@pacificcity.com
SUMMARY:Trivia at Pelican Brewing- Pacific City
DESCRIPTION:Join us for trivia night every Tuesday! Win cool prizes and show your knowledge. Blackout dates apply.
URL:https://pacificcity.com/event/trivia-at-pelican-brewing-pacific-city-23/
LOCATION:Pelican Brewing Company\, 33180 Cape Kiwanda Drive
CATEGORIES:Community
ATTACH;FMTTYPE=image/jpeg:https://pacificcity.com/wp-content/uploads/2025/12/TRivia-fiWdHh.jpg
END:VEVENT
BEGIN:VEVENT
DTSTART;TZID=America/Los_Angeles:20260513T100000
DTEND;TZID=America/Los_Angeles:20260513T110000
DTSTAMP:20260421T153340
CREATED:20260212T201518Z
LAST-MODIFIED:20260420T181803Z
UID:10009779-1778666400-1778670000@pacificcity.com
SUMMARY:Tillamook Main Library Storytime: Preschool
DESCRIPTION:Preschool storytime (PS) on Wed @ 10; developmentally appropriate for 3-5 yos; music\, stories\, interactive play and lots of laughs! In this class little begin to learn about a leader at the front of the room\, how to hold their wiggles\, listening and sitting still. When a child is transitioning from TT to PS my expectation is that they will sit for 5-10 minutes and then they might go play. I do not force them to sit still if they are not ready to. \nA couple of things about the children’s room that might set you at ease: \n\nThere is no expectation that it will be a quiet zone; kids are kids and they are allowed to act like themselves in the children’s room.\nOnly 2 hard and fast rules: No Running & No Screaming.\nIf your child needs a snack\, feed them!
URL:https://pacificcity.com/event/tillamook-main-library-storytime-preschool-116/
LOCATION:Tillamook Main Library\, Tillamook\, 1716 3rd St\, Tillamook\, OR\, 97141\, United States
CATEGORIES:Education,Family Fun
ATTACH;FMTTYPE=image/png:https://pacificcity.com/wp-content/uploads/2023/01/TCL-transparent-logo-sNPWdP.tmp_.png
ORGANIZER;CN="Melanie Hetrick":MAILTO:mhetrick@co.tillamook.or.us
END:VEVENT
BEGIN:VEVENT
DTSTART;TZID=America/Los_Angeles:20260513T100000
DTEND;TZID=America/Los_Angeles:20260513T110000
DTSTAMP:20260421T153340
CREATED:20260212T201519Z
LAST-MODIFIED:20260420T181803Z
UID:10009780-1778666400-1778670000@pacificcity.com
SUMMARY:Walking Wonders
DESCRIPTION:Join this active group rain or shine to get your steps in and around town.
URL:https://pacificcity.com/event/walking-wonders-328/
LOCATION:Kiawanda Community Center\, 34600 Cape Kiwanda Dr\, Pacific City\, OR 97135\, OR\, United States
CATEGORIES:Fitness and Athletics
ATTACH;FMTTYPE=image/png:https://pacificcity.com/wp-content/uploads/2024/04/Walking-Wonders-JBf2iO.tmp_.png
END:VEVENT
BEGIN:VEVENT
DTSTART;TZID=America/Los_Angeles:20260513T113000
DTEND;TZID=America/Los_Angeles:20260513T123000
DTSTAMP:20260421T153340
CREATED:20260212T201519Z
LAST-MODIFIED:20260420T181803Z
UID:10009781-1778671800-1778675400@pacificcity.com
SUMMARY:Senior Meals Tuesday & Wednesday
DESCRIPTION:🍽️ Senior Meals at the Kiawanda Community Center 🍽️ \nJoin us every Tuesday and Wednesday at 11:30 AM for delicious\, nutritious senior meals at the Kiawanda Community Center!\nCome enjoy great food and even better company in a warm and welcoming atmosphere. \n✨ Who: Seniors & community members\n📍 Where: Kiawanda Community Center\n📅 When: Every Tuesday & Wednesday\n⏰ Time: 11:30 AM \nBring a friend\, make new ones\, and enjoy a healthy midday meal! ❤️ \nFor more information\, call the Kiawanda Community Center.
URL:https://pacificcity.com/event/senior-meals-tuesday-wednesday-39/
LOCATION:Kiawanda Community Center\, 34600 Cape Kiwanda Dr\, Pacific City\, OR 97135\, OR\, United States
CATEGORIES:Community
ATTACH;FMTTYPE=image/png:https://pacificcity.com/wp-content/uploads/2025/12/Brown-Orange-Modern-Food-Price-Instagram-Post-Invitation-portrait-aciUYf.png
END:VEVENT
BEGIN:VEVENT
DTSTART;TZID=America/Los_Angeles:20260513T180000
DTEND;TZID=America/Los_Angeles:20260513T193000
DTSTAMP:20260421T153340
CREATED:20260213T032938Z
LAST-MODIFIED:20260420T180221Z
UID:10009782-1778695200-1778700600@pacificcity.com
SUMMARY:SQUARE DANCE LESSONS
DESCRIPTION:Square Dance Lessons every Wednesday at 6pm. Learn modern Square Dancing with the Wave Steppers of Tillamook Bay. Children 9 and older welcome with an adult. For more information\, call Barb (503) 812-4126\, or Carolyn (503) 801-4044. FREE!
URL:https://pacificcity.com/event/square-dance-lessons-182/
LOCATION:Elks Lodge\, 1907 3rd St\, Tillamook\, OR\, United States
GEO:45.456251;-123.844973
X-APPLE-STRUCTURED-LOCATION;VALUE=URI;X-ADDRESS=Elks Lodge 1907 3rd St Tillamook OR United States;X-APPLE-RADIUS=500;X-TITLE=1907 3rd St:geo:-123.844973,45.456251
END:VEVENT
BEGIN:VEVENT
DTSTART;TZID=America/Los_Angeles:20260514T090000
DTEND;TZID=America/Los_Angeles:20260514T100000
DTSTAMP:20260421T153340
CREATED:20260213T202908Z
LAST-MODIFIED:20260420T181803Z
UID:10009784-1778749200-1778752800@pacificcity.com
SUMMARY:Fit and Fabulous at the KCC
DESCRIPTION:Come join this group keeping active two days a week. Only $15 for the month!
URL:https://pacificcity.com/event/fit-and-fabulous-at-the-kcc-219/
LOCATION:Kiawanda Community Center\, 34600 Cape Kiwanda Dr\, Pacific City\, OR 97135\, OR\, United States
CATEGORIES:Fitness and Athletics
ATTACH;FMTTYPE=image/png:https://pacificcity.com/wp-content/uploads/2024/04/Fit-Fabulous-7zrtzR.tmp_.png
END:VEVENT
BEGIN:VEVENT
DTSTART;TZID=America/Los_Angeles:20260514T090000
DTEND;TZID=America/Los_Angeles:20260514T100000
DTSTAMP:20260421T153340
CREATED:20260213T202908Z
LAST-MODIFIED:20260420T181803Z
UID:10009785-1778749200-1778752800@pacificcity.com
SUMMARY:Yoga With Dawn
DESCRIPTION:🧘‍♀️ Yoga with Dawn – Find Your Flow! 🧘‍♂️ \nStart your day with peace\, strength\, and positive energy 🌞Join Dawn for a refreshing yoga class every: \n🗓️ Monday\, Wednesday\, Friday & Saturday🕘 9:00 AM – 10:00 AM📍 Kiawanda Community Center \nAll levels are welcome—whether you’re new to yoga or a seasoned pro\, Dawn’s calm guidance and supportive atmosphere will leave you feeling refreshed and centered. \n✨ Bring a mat\, some water\, and a smile.No registration needed—just drop in and breathe it out with us! \n#YogaWithDawn #KiawandaCommunityCenter #MorningYoga #WellnessInPacificCity #MindBodySoul
URL:https://pacificcity.com/event/yoga-with-dawn-165/
LOCATION:Kiawanda Community Center\, 34600 Cape Kiwanda Dr\, Pacific City\, OR 97135\, OR\, United States
CATEGORIES:Classes and Workshops,Community
ATTACH;FMTTYPE=image/jpeg:https://pacificcity.com/wp-content/uploads/2025/07/yoga-VHSvFY.jpg
END:VEVENT
BEGIN:VEVENT
DTSTART;TZID=America/Los_Angeles:20260514T100000
DTEND;TZID=America/Los_Angeles:20260514T110000
DTSTAMP:20260421T153340
CREATED:20260213T202909Z
LAST-MODIFIED:20260420T181803Z
UID:10009786-1778752800-1778756400@pacificcity.com
SUMMARY:Family Storytime at Bay City Library
DESCRIPTION:Bring the whole family down to the Bay City Library for a fun storytime and activity every Thursday at 10am!
URL:https://pacificcity.com/event/family-storytime-at-bay-city-library-81/
LOCATION:Bay City Library\, 5525 B St\, Bay City\, OR
CATEGORIES:Community,Family Fun
ATTACH;FMTTYPE=image/png:https://pacificcity.com/wp-content/uploads/2024/12/Bay-City-Storytime1-ipDxEC.tmp_.png
END:VEVENT
BEGIN:VEVENT
DTSTART;TZID=America/Los_Angeles:20260514T100000
DTEND;TZID=America/Los_Angeles:20260514T160000
DTSTAMP:20260421T153340
CREATED:20260213T032938Z
LAST-MODIFIED:20260420T180221Z
UID:10009783-1778752800-1778774400@pacificcity.com
SUMMARY:CLAY OPEN STUDIO
DESCRIPTION:Clay open studio.  Ages 12 and up.  $2 per hour.  Clay $1 for a two-pound block\, includes tools and firing.   For information contact 503-368-7985\, longboardmenow@nehalemtel.net\, www.hoffmancentermanzanita.org
URL:https://pacificcity.com/event/clay-open-studio-363/
LOCATION:Hoffman Center\, 594 Laneda Avenue in Manzanita
END:VEVENT
BEGIN:VEVENT
DTSTART;TZID=America/Los_Angeles:20260514T100000
DTEND;TZID=America/Los_Angeles:20260514T200000
DTSTAMP:20260421T153340
CREATED:20260213T202909Z
LAST-MODIFIED:20260420T181803Z
UID:10009787-1778752800-1778788800@pacificcity.com
SUMMARY:All You Can Eat Oysters and Chips
DESCRIPTION:Petite oysters with coleslaw and crispy french fries. Unlimited refills on oysters\, served three ways- deep fried\, grilled\, and sautéed. Every Thursday $18.99
URL:https://pacificcity.com/event/all-you-can-eat-oysters-and-chips-29/
LOCATION:Fish Peddler at Pacific Oyster\, 5150 Hayes Oyster Dr
CATEGORIES:Community
ATTACH;FMTTYPE=image/jpeg:https://pacificcity.com/wp-content/uploads/2025/10/IMG_5605-scaled-xu1c6t.jpg
END:VEVENT
BEGIN:VEVENT
DTSTART;TZID=America/Los_Angeles:20260514T103000
DTEND;TZID=America/Los_Angeles:20260514T113000
DTSTAMP:20260421T153340
CREATED:20260213T202909Z
LAST-MODIFIED:20260420T181804Z
UID:10009788-1778754600-1778758200@pacificcity.com
SUMMARY:Tai Chi at the KCC
DESCRIPTION:Come to this weekly class in Pacific City to learn the forms in this moving meditation. Feel your life force flowing through you and get energized for you day!
URL:https://pacificcity.com/event/tai-chi-at-the-kcc-110/
LOCATION:Kiawanda Community Center\, 34600 Cape Kiwanda Dr\, Pacific City\, OR 97135\, OR\, United States
CATEGORIES:Fitness and Athletics
ATTACH;FMTTYPE=image/png:https://pacificcity.com/wp-content/uploads/2024/04/Tai-Chi-6MOKs8.tmp_.png
END:VEVENT
BEGIN:VEVENT
DTSTART;TZID=America/Los_Angeles:20260514T130000
DTEND;TZID=America/Los_Angeles:20260514T150000
DTSTAMP:20260421T153340
CREATED:20260213T202909Z
LAST-MODIFIED:20260420T181804Z
UID:10009789-1778763600-1778770800@pacificcity.com
SUMMARY:Bingo
DESCRIPTION:🎉 Thursday Bingo Fun at the Kiawanda Community Center! 🎉 \nJoin us every Thursday from 1PM to 3PM for an afternoon of bingo\, community\, and fun at the Kiawanda Community Center! \n🗓️ When: Thursdays\, 1:00–3:00 PM\n📍 Where: Kiawanda Community Center\n🎁 Prizes\, laughs\, and good company guaranteed! \nWhether you’re a seasoned player or brand new to the game\, everyone is welcome! Come early\, grab your favorite seat\, and get ready for a great time! 🙌 \nTag your bingo buddy and spread the word! 🎊 \n#BingoFun #KiawandaCommunityCenter #PacificCityEvents #ThursdayBingo #CommunityVibes
URL:https://pacificcity.com/event/bingo-45/
LOCATION:Kiawanda Community Center\, 34600 Cape Kiwanda Dr\, Pacific City\, OR 97135\, OR\, United States
CATEGORIES:Community
ATTACH;FMTTYPE=image/jpeg:https://pacificcity.com/wp-content/uploads/2025/07/Cream-Orange-Colorful-Retro-We-Are-Hiring-Flyer-AADTwu.jpg
END:VEVENT
BEGIN:VEVENT
DTSTART;TZID=America/Los_Angeles:20260514T140000
DTEND;TZID=America/Los_Angeles:20260514T150000
DTSTAMP:20260421T153340
CREATED:20260213T202909Z
LAST-MODIFIED:20260420T181804Z
UID:10009790-1778767200-1778770800@pacificcity.com
SUMMARY:Mahjong at Manzanita Library
DESCRIPTION:Play mahjong in a fun informal group at the Manzanita library Thursdays at 2 pm!
URL:https://pacificcity.com/event/mahjong-at-manzanita-library-33/
LOCATION:Manzanita Library\, 571 Laneda Ave Manzanita OR
CATEGORIES:Community,Family Fun
END:VEVENT
BEGIN:VEVENT
DTSTART;TZID=America/Los_Angeles:20260514T160000
DTEND;TZID=America/Los_Angeles:20260514T173000
DTSTAMP:20260421T153340
CREATED:20260213T202910Z
LAST-MODIFIED:20260420T181804Z
UID:10009791-1778774400-1778779800@pacificcity.com
SUMMARY:Knitting Group
DESCRIPTION:Join a fun group of knitters at North Tillamook Library in Manzanita on Thursdays from 4pm to 5:30pm.
URL:https://pacificcity.com/event/knitting-group-90/
LOCATION:North Tillamook Library\, 571 Laneda Ave\, Manzanita\, OR 97130
CATEGORIES:Community,Education
ATTACH;FMTTYPE=image/png:https://pacificcity.com/wp-content/uploads/2024/08/logo-H5fs7I.tmp_.png
END:VEVENT
BEGIN:VEVENT
DTSTART;TZID=America/Los_Angeles:20260514T180000
DTEND;TZID=America/Los_Angeles:20260514T200000
DTSTAMP:20260421T153340
CREATED:20260214T034617Z
LAST-MODIFIED:20260420T180221Z
UID:10009792-1778781600-1778788800@pacificcity.com
SUMMARY:DRAWING SESSIONS
DESCRIPTION:Bring drawing materials.  The group takes turns posing for each other.  $2 donation to cover room rental.  Contact Marilyn Burkhardt\, 503-392-3333\, artist@marilynburkhardt.com.
URL:https://pacificcity.com/event/drawing-sessions-182/
LOCATION:Nestucca High School in downtown Cloverdale
END:VEVENT
BEGIN:VEVENT
DTSTART;TZID=America/Los_Angeles:20260515T090000
DTEND;TZID=America/Los_Angeles:20260515T100000
DTSTAMP:20260421T153340
CREATED:20260214T204628Z
LAST-MODIFIED:20260420T181804Z
UID:10009793-1778835600-1778839200@pacificcity.com
SUMMARY:Yoga With Dawn
DESCRIPTION:🧘‍♀️ Yoga with Dawn – Find Your Flow! 🧘‍♂️ \nStart your day with peace\, strength\, and positive energy 🌞Join Dawn for a refreshing yoga class every: \n🗓️ Monday\, Wednesday\, Friday & Saturday🕘 9:00 AM – 10:00 AM📍 Kiawanda Community Center \nAll levels are welcome—whether you’re new to yoga or a seasoned pro\, Dawn’s calm guidance and supportive atmosphere will leave you feeling refreshed and centered. \n✨ Bring a mat\, some water\, and a smile.No registration needed—just drop in and breathe it out with us! \n#YogaWithDawn #KiawandaCommunityCenter #MorningYoga #WellnessInPacificCity #MindBodySoul
URL:https://pacificcity.com/event/yoga-with-dawn-166/
LOCATION:Kiawanda Community Center\, 34600 Cape Kiwanda Dr\, Pacific City\, OR 97135\, OR\, United States
CATEGORIES:Classes and Workshops,Community
ATTACH;FMTTYPE=image/jpeg:https://pacificcity.com/wp-content/uploads/2025/07/yoga-VHSvFY.jpg
END:VEVENT
BEGIN:VEVENT
DTSTART;TZID=America/Los_Angeles:20260515T090000
DTEND;TZID=America/Los_Angeles:20260515T100000
DTSTAMP:20260421T153340
CREATED:20260214T204628Z
LAST-MODIFIED:20260420T181804Z
UID:10009794-1778835600-1778839200@pacificcity.com
SUMMARY:Kiawanda Community Center Board Meeting
DESCRIPTION:Join us for the Kiawanda Community Center Board meeting on the third Friday of each month at 9:00 AM.\nPublic input is welcome\, and all community members are encouraged to attend! \nThe Kiawanda Community Center is proud to offer a wide range of events and programs that bring our community together. \nWe also invite you to get involved and help give back by sharing your ideas and input at our Board meetings\, held on the third Friday of each month at 9:00 AM.
URL:https://pacificcity.com/event/kiawanda-community-center-board-meeting-5/
LOCATION:Kiawanda Community Center\, 34600 Cape Kiwanda Dr\, Pacific City\, OR 97135\, OR\, United States
CATEGORIES:Community,Public Meetings
ATTACH;FMTTYPE=image/png:https://pacificcity.com/wp-content/uploads/2026/01/download-R2rfH8.png
END:VEVENT
BEGIN:VEVENT
DTSTART;TZID=America/Los_Angeles:20260515T100000
DTEND;TZID=America/Los_Angeles:20260515T110000
DTSTAMP:20260421T153340
CREATED:20260214T204629Z
LAST-MODIFIED:20260420T181804Z
UID:10009795-1778839200-1778842800@pacificcity.com
SUMMARY:Walking Wonders
DESCRIPTION:Join this active group rain or shine to get your steps in and around town.
URL:https://pacificcity.com/event/walking-wonders-329/
LOCATION:Kiawanda Community Center\, 34600 Cape Kiwanda Dr\, Pacific City\, OR 97135\, OR\, United States
CATEGORIES:Fitness and Athletics
ATTACH;FMTTYPE=image/png:https://pacificcity.com/wp-content/uploads/2024/04/Walking-Wonders-JBf2iO.tmp_.png
END:VEVENT
END:VCALENDAR