BEGIN:VCALENDAR
VERSION:2.0
PRODID:-//Pacific City - ECPv6.15.20//NONSGML v1.0//EN
CALSCALE:GREGORIAN
METHOD:PUBLISH
X-WR-CALNAME:Pacific City
X-ORIGINAL-URL:https://pacificcity.com
X-WR-CALDESC:Events for Pacific City
REFRESH-INTERVAL;VALUE=DURATION:PT1H
X-Robots-Tag:noindex
X-PUBLISHED-TTL:PT1H
BEGIN:VTIMEZONE
TZID:America/Los_Angeles
BEGIN:DAYLIGHT
TZOFFSETFROM:-0800
TZOFFSETTO:-0700
TZNAME:PDT
DTSTART:20250309T100000
END:DAYLIGHT
BEGIN:STANDARD
TZOFFSETFROM:-0700
TZOFFSETTO:-0800
TZNAME:PST
DTSTART:20251102T090000
END:STANDARD
BEGIN:DAYLIGHT
TZOFFSETFROM:-0800
TZOFFSETTO:-0700
TZNAME:PDT
DTSTART:20260308T100000
END:DAYLIGHT
BEGIN:STANDARD
TZOFFSETFROM:-0700
TZOFFSETTO:-0800
TZNAME:PST
DTSTART:20261101T090000
END:STANDARD
BEGIN:DAYLIGHT
TZOFFSETFROM:-0800
TZOFFSETTO:-0700
TZNAME:PDT
DTSTART:20270314T100000
END:DAYLIGHT
BEGIN:STANDARD
TZOFFSETFROM:-0700
TZOFFSETTO:-0800
TZNAME:PST
DTSTART:20271107T090000
END:STANDARD
END:VTIMEZONE
BEGIN:VEVENT
DTSTART;TZID=America/Los_Angeles:20260420T190000
DTEND;TZID=America/Los_Angeles:20260420T210000
DTSTAMP:20260421T043858
CREATED:20260120T231338Z
LAST-MODIFIED:20260420T181733Z
UID:10009597-1776711600-1776718800@pacificcity.com
SUMMARY:Tillamook City Council meeting
DESCRIPTION:The City Council meets on the first and third Monday of each month at the City Hall. In the event of a holiday\, the meeting shall take place the day following or on a day agreed upon by the Council at the meeting prior to the holiday. \nThis is a public meeting per ORS chapter 192. The City Council reserves the right to call an executive session per ORS 192.660. City hall is handicap accessible. Please contact the office of the City Manager should special accommodations be required. Citizens with visual or manual impairments may contact the Oregon Relay Service by phoning 1-800-648-3458 (TDD) or 1-800-848-4442 (voice). The city of Tillamook is an equal opportunity provider and employer.
URL:https://pacificcity.com/event/tillamook-city-council-meeting-53/
LOCATION:Tillamook City Hall\, 210 Laurel Avenue\, Tillamook\, OR\, 97141\, United States
CATEGORIES:Public Meetings
ATTACH;FMTTYPE=image/jpeg:https://pacificcity.com/wp-content/uploads/2022/04/City-Hall-Tillamook-City-scaled-pPdRDH.tmp_.jpg
ORGANIZER;CN="City of Tillamook":MAILTO:ngeorge@tillamookor.gov
END:VEVENT
BEGIN:VEVENT
DTSTART;TZID=America/Los_Angeles:20260417T090000
DTEND;TZID=America/Los_Angeles:20260417T100000
DTSTAMP:20260421T043858
CREATED:20260117T222906Z
LAST-MODIFIED:20260416T175819Z
UID:10009577-1776416400-1776420000@pacificcity.com
SUMMARY:Kiawanda Community Center Board Meeting
DESCRIPTION:Join us for the Kiawanda Community Center Board meeting on the third Friday of each month at 9:00 AM.\nPublic input is welcome\, and all community members are encouraged to attend! \nThe Kiawanda Community Center is proud to offer a wide range of events and programs that bring our community together. \nWe also invite you to get involved and help give back by sharing your ideas and input at our Board meetings\, held on the third Friday of each month at 9:00 AM.
URL:https://pacificcity.com/event/kiawanda-community-center-board-meeting-4/
LOCATION:Kiawanda Community Center\, 34600 Cape Kiwanda Dr\, Pacific City\, OR 97135\, OR\, United States
CATEGORIES:Community,Public Meetings
ATTACH;FMTTYPE=image/png:https://pacificcity.com/wp-content/uploads/2026/01/download-R2rfH8.png
END:VEVENT
BEGIN:VEVENT
DTSTART;TZID=America/Los_Angeles:20260416T180000
DTEND;TZID=America/Los_Angeles:20260416T190000
DTSTAMP:20260421T043858
CREATED:20260129T171333Z
LAST-MODIFIED:20260416T175818Z
UID:10009669-1776362400-1776366000@pacificcity.com
SUMMARY:Dory Days Volunteer Planning Meeting
DESCRIPTION:Dory Days Volunteer Planning Meeting\nThird Thursday at The  Kiawanda Community Center Time – 6PM to 7PM\nCome be part of the magic behind Dory Days!\nJoin us for our monthly Dory Days Volunteer Planning Meetings\, where neighbors\, friends\, and Pacific City fans come together to shape the 2026 Dory Days celebration. Whether you’ve participated in the event for 50 years or are brand new to Dory Days\, you are genuinely welcome to bring your ideas\, time and energy to these meetings.\n\nWe meet on the third Thursday of each month from 6–7 PM at the Kiawanda Community Center. Stop by\, say hello\, and help create an event that brings our community together. We’d love to have you! \nSee less
URL:https://pacificcity.com/event/dory-days-volunteer-planning-meeting-3/
LOCATION:Kiawanda Community Center\, 34600 Cape Kiwanda Dr\, Pacific City\, OR 97135\, OR\, United States
CATEGORIES:Community,Public Meetings
END:VEVENT
BEGIN:VEVENT
DTSTART;TZID=America/Los_Angeles:20260407T120000
DTEND;TZID=America/Los_Angeles:20260407T140000
DTSTAMP:20260421T043858
CREATED:20260107T201511Z
LAST-MODIFIED:20260407T002624Z
UID:10009498-1775563200-1775570400@pacificcity.com
SUMMARY:Pacific City Nestucca Valley Chamber Monthly Lunch Meeting
DESCRIPTION:🌊🤝 Pacific City–Nestucca Valley Chamber Monthly Lunch Meeting 🤝🌊 \nJoin us for the Pacific City–Nestucca Valley Chamber Monthly Lunch Meeting\, where connection meets inspiration! Each month features engaging speakers who share valuable insights\, local updates\, and ideas that matter to our business and community leaders. \n✨ We also spotlight a Featured Business of the Month\, celebrating the people and organizations that help our local economy thrive. \n🥗 Optional lunch available for $10.00 come just for the meeting or stay to enjoy great food and even better conversation.\n💡 Network with local professionals\, support our community\, and stay connected to what’s happening in the Nestucca Valley. \nAs always\, your Chamber offers our ironclad guarantee you will know more about where you live and work at 2:00 pm than you did at 12:00 noon.
URL:https://pacificcity.com/event/pacific-city-nestucca-valley-chamber-monthly-lunch-meeting-4/
LOCATION:Kiawanda Community Center\, 34600 Cape Kiwanda Dr\, Pacific City\, OR 97135\, OR\, United States
CATEGORIES:Community,Public Meetings
ATTACH;FMTTYPE=image/jpeg:https://pacificcity.com/wp-content/uploads/2026/01/download-psJe6D.jpg
END:VEVENT
END:VCALENDAR