BEGIN:VCALENDAR
VERSION:2.0
PRODID:-//Pacific City - ECPv6.15.20//NONSGML v1.0//EN
CALSCALE:GREGORIAN
METHOD:PUBLISH
X-WR-CALNAME:Pacific City
X-ORIGINAL-URL:https://pacificcity.com
X-WR-CALDESC:Events for Pacific City
REFRESH-INTERVAL;VALUE=DURATION:PT1H
X-Robots-Tag:noindex
X-PUBLISHED-TTL:PT1H
BEGIN:VTIMEZONE
TZID:America/Los_Angeles
BEGIN:DAYLIGHT
TZOFFSETFROM:-0800
TZOFFSETTO:-0700
TZNAME:PDT
DTSTART:20250309T100000
END:DAYLIGHT
BEGIN:STANDARD
TZOFFSETFROM:-0700
TZOFFSETTO:-0800
TZNAME:PST
DTSTART:20251102T090000
END:STANDARD
BEGIN:DAYLIGHT
TZOFFSETFROM:-0800
TZOFFSETTO:-0700
TZNAME:PDT
DTSTART:20260308T100000
END:DAYLIGHT
BEGIN:STANDARD
TZOFFSETFROM:-0700
TZOFFSETTO:-0800
TZNAME:PST
DTSTART:20261101T090000
END:STANDARD
BEGIN:DAYLIGHT
TZOFFSETFROM:-0800
TZOFFSETTO:-0700
TZNAME:PDT
DTSTART:20270314T100000
END:DAYLIGHT
BEGIN:STANDARD
TZOFFSETFROM:-0700
TZOFFSETTO:-0800
TZNAME:PST
DTSTART:20271107T090000
END:STANDARD
END:VTIMEZONE
BEGIN:VEVENT
DTSTART;TZID=America/Los_Angeles:20260320T100000
DTEND;TZID=America/Los_Angeles:20260320T120000
DTSTAMP:20260419T232101
CREATED:20251220T162847Z
LAST-MODIFIED:20260320T192742Z
UID:10009345-1774000800-1774008000@pacificcity.com
SUMMARY:Trail Building in Nehalem Bay With LNCT!
DESCRIPTION:Every Friday\, volunteers gather on LNCT lands near Manzanita\, Nehalem and Wheeler to protect and restore habitat in the lower Nehalem watershed. We would love to see new faces out on the land!\n\n\n\nThese work parties are beginner friendly and an opportunity to learn about the engineering of hiking trails. We will be working on uneven ground\, bending\, and moving small rocks and brush during this process. Tools and gloves are provided\, new volunteers welcome and no prior experience needed. Join as frequently as you please.  Email shane@nehalemtrust.org for weekly updates on where to meet.\n\nAlder Creek Farm and Natural Area’s Nehalem Teaching Trail already supports an impressive variety of native plants and simulated ecosystems for community learning—but we’re looking to grow. This short trail will extend educational access into a different ecosystem and connect to the Natural Area’s pollinator meadow. We hope it will also add some variety to habitat access for bird watchers who visit the farm as a part of the Oregon Coast Birding Trail.
URL:https://pacificcity.com/event/trail-building-in-nehalem-bay-with-lnct-31/
LOCATION:Lower Nehalem Community Trust
CATEGORIES:Community,Education,Outdoor
ATTACH;FMTTYPE=image/jpeg:https://pacificcity.com/wp-content/uploads/2025/12/LNCT-Stewardship-Poster-4-R0qABz.jpg
END:VEVENT
BEGIN:VEVENT
DTSTART;TZID=America/Los_Angeles:20260320T090000
DTEND;TZID=America/Los_Angeles:20260320T100000
DTSTAMP:20260419T232101
CREATED:20260106T200422Z
LAST-MODIFIED:20260320T192741Z
UID:10009489-1773997200-1774000800@pacificcity.com
SUMMARY:Kiawanda Community Center Board Meeting
DESCRIPTION:Join us for the Kiawanda Community Center Board meeting on the third Friday of each month at 9:00 AM.\nPublic input is welcome\, and all community members are encouraged to attend! \nThe Kiawanda Community Center is proud to offer a wide range of events and programs that bring our community together. \nWe also invite you to get involved and help give back by sharing your ideas and input at our Board meetings\, held on the third Friday of each month at 9:00 AM.
URL:https://pacificcity.com/event/kiawanda-community-center-board-meeting-3/
LOCATION:Kiawanda Community Center\, 34600 Cape Kiwanda Dr\, Pacific City\, OR 97135\, OR\, United States
CATEGORIES:Community,Public Meetings
ATTACH;FMTTYPE=image/png:https://pacificcity.com/wp-content/uploads/2026/01/download-R2rfH8.png
END:VEVENT
BEGIN:VEVENT
DTSTART;TZID=America/Los_Angeles:20260320T090000
DTEND;TZID=America/Los_Angeles:20260320T100000
DTSTAMP:20260419T232101
CREATED:20251220T162846Z
LAST-MODIFIED:20260320T192741Z
UID:10009343-1773997200-1774000800@pacificcity.com
SUMMARY:Yoga With Dawn
DESCRIPTION:🧘‍♀️ Yoga with Dawn – Find Your Flow! 🧘‍♂️ \nStart your day with peace\, strength\, and positive energy 🌞Join Dawn for a refreshing yoga class every: \n🗓️ Monday\, Wednesday\, Friday & Saturday🕘 9:00 AM – 10:00 AM📍 Kiawanda Community Center \nAll levels are welcome—whether you’re new to yoga or a seasoned pro\, Dawn’s calm guidance and supportive atmosphere will leave you feeling refreshed and centered. \n✨ Bring a mat\, some water\, and a smile.No registration needed—just drop in and breathe it out with us! \n#YogaWithDawn #KiawandaCommunityCenter #MorningYoga #WellnessInPacificCity #MindBodySoul
URL:https://pacificcity.com/event/yoga-with-dawn-134/
LOCATION:Kiawanda Community Center\, 34600 Cape Kiwanda Dr\, Pacific City\, OR 97135\, OR\, United States
CATEGORIES:Classes and Workshops,Community
ATTACH;FMTTYPE=image/jpeg:https://pacificcity.com/wp-content/uploads/2025/07/yoga-VHSvFY.jpg
END:VEVENT
BEGIN:VEVENT
DTSTART;TZID=America/Los_Angeles:20260320T000000
DTEND;TZID=America/Los_Angeles:20260320T233000
DTSTAMP:20260419T232101
CREATED:20260318T185848Z
LAST-MODIFIED:20260320T192740Z
UID:10010067-1773964800-1774049400@pacificcity.com
SUMMARY:CALL FOR ART- CALLING NORTH COAST ARTISTS!
DESCRIPTION:Blue Water Fine Art Gallery is now accepting submissions for May Flowers\, our first community exhibition celebrating the colors and renewal of spring along the Oregon Coast. \nArtists may submit up to three original artworks inspired by the May Flowers theme. \nSubmission Deadline: April 21\, 2026 \nThe exhibition runs May 8 – June 6\, with a Community Reception on May 9\, 5–7 PM — free and open to all. \nSubmit your work and help us welcome spring with creativity and community. \nFull details and guidelines on website: \nBlueWaterFineArtGallery.com \nStay connected with upcoming exhibitions and artist calls — sign up for our newsletter at BlueWaterFineArtGallery.com
URL:https://pacificcity.com/event/call-for-art-calling-north-coast-artists-3/
LOCATION:Blue Water Fine Art Gallery\, 119 S Miller St.\, Rockaway Beach\, OR 97136
CATEGORIES:Arts and Culture,Community
ATTACH;FMTTYPE=image/png:https://pacificcity.com/wp-content/uploads/2026/03/Call-FOR-ART-PURPLE-4SvHGM.png
END:VEVENT
BEGIN:VEVENT
DTSTART;TZID=America/Los_Angeles:20260319T180000
DTEND;TZID=America/Los_Angeles:20260319T190000
DTSTAMP:20260419T232101
CREATED:20260129T171310Z
LAST-MODIFIED:20260319T191704Z
UID:10009668-1773943200-1773946800@pacificcity.com
SUMMARY:Dory Days Volunteer Planning Meeting
DESCRIPTION:Dory Days Volunteer Planning Meeting\nThird Thursday at The  Kiawanda Community Center Time – 6PM to 7PM\nCome be part of the magic behind Dory Days!\nJoin us for our monthly Dory Days Volunteer Planning Meetings\, where neighbors\, friends\, and Pacific City fans come together to shape the 2026 Dory Days celebration. Whether you’ve participated in the event for 50 years or are brand new to Dory Days\, you are genuinely welcome to bring your ideas\, time and energy to these meetings.\n\nWe meet on the third Thursday of each month from 6–7 PM at the Kiawanda Community Center. Stop by\, say hello\, and help create an event that brings our community together. We’d love to have you! \nSee less
URL:https://pacificcity.com/event/dory-days-volunteer-planning-meeting-2/
LOCATION:Kiawanda Community Center\, 34600 Cape Kiwanda Dr\, Pacific City\, OR 97135\, OR\, United States
CATEGORIES:Community,Public Meetings
END:VEVENT
BEGIN:VEVENT
DTSTART;TZID=America/Los_Angeles:20260319T160000
DTEND;TZID=America/Los_Angeles:20260319T173000
DTSTAMP:20260419T232101
CREATED:20251219T161808Z
LAST-MODIFIED:20260319T191704Z
UID:10009338-1773936000-1773941400@pacificcity.com
SUMMARY:Knitting Group
DESCRIPTION:Join a fun group of knitters at North Tillamook Library in Manzanita on Thursdays from 4pm to 5:30pm.
URL:https://pacificcity.com/event/knitting-group-82/
LOCATION:North Tillamook Library\, 571 Laneda Ave\, Manzanita\, OR 97130
CATEGORIES:Community,Education
ATTACH;FMTTYPE=image/png:https://pacificcity.com/wp-content/uploads/2024/08/logo-H5fs7I.tmp_.png
END:VEVENT
BEGIN:VEVENT
DTSTART;TZID=America/Los_Angeles:20260319T140000
DTEND;TZID=America/Los_Angeles:20260319T150000
DTSTAMP:20260419T232101
CREATED:20260309T172815Z
LAST-MODIFIED:20260319T191704Z
UID:10009985-1773928800-1773932400@pacificcity.com
SUMMARY:Speed Friending at Pacific City Library
DESCRIPTION:Meet new people in a fun\, low-pressure turn taking game at Pacific City Library!
URL:https://pacificcity.com/event/speed-friending-at-pacific-city-library/
LOCATION:Pacific City Library\, 6200 Camp St Pacific City\, OR
CATEGORIES:Community
ATTACH;FMTTYPE=image/png:https://pacificcity.com/wp-content/uploads/2026/03/Speed-Friending-031926-TP-43RKeI.png
END:VEVENT
BEGIN:VEVENT
DTSTART;TZID=America/Los_Angeles:20260319T140000
DTEND;TZID=America/Los_Angeles:20260319T150000
DTSTAMP:20260419T232101
CREATED:20251219T161807Z
LAST-MODIFIED:20260319T191704Z
UID:10009337-1773928800-1773932400@pacificcity.com
SUMMARY:Mahjong at Manzanita Library
DESCRIPTION:Play mahjong in a fun informal group at the Manzanita library Thursdays at 2 pm!
URL:https://pacificcity.com/event/mahjong-at-manzanita-library-25/
LOCATION:Manzanita Library\, 571 Laneda Ave Manzanita OR
CATEGORIES:Community,Family Fun
END:VEVENT
BEGIN:VEVENT
DTSTART;TZID=America/Los_Angeles:20260319T130000
DTEND;TZID=America/Los_Angeles:20260319T150000
DTSTAMP:20260419T232101
CREATED:20251219T161807Z
LAST-MODIFIED:20260319T191704Z
UID:10009336-1773925200-1773932400@pacificcity.com
SUMMARY:Bingo
DESCRIPTION:🎉 Thursday Bingo Fun at the Kiawanda Community Center! 🎉 \nJoin us every Thursday from 1PM to 3PM for an afternoon of bingo\, community\, and fun at the Kiawanda Community Center! \n🗓️ When: Thursdays\, 1:00–3:00 PM\n📍 Where: Kiawanda Community Center\n🎁 Prizes\, laughs\, and good company guaranteed! \nWhether you’re a seasoned player or brand new to the game\, everyone is welcome! Come early\, grab your favorite seat\, and get ready for a great time! 🙌 \nTag your bingo buddy and spread the word! 🎊 \n#BingoFun #KiawandaCommunityCenter #PacificCityEvents #ThursdayBingo #CommunityVibes
URL:https://pacificcity.com/event/bingo-37/
LOCATION:Kiawanda Community Center\, 34600 Cape Kiwanda Dr\, Pacific City\, OR 97135\, OR\, United States
CATEGORIES:Community
ATTACH;FMTTYPE=image/jpeg:https://pacificcity.com/wp-content/uploads/2025/07/Cream-Orange-Colorful-Retro-We-Are-Hiring-Flyer-AADTwu.jpg
END:VEVENT
BEGIN:VEVENT
DTSTART;TZID=America/Los_Angeles:20260319T100000
DTEND;TZID=America/Los_Angeles:20260319T200000
DTSTAMP:20260419T232101
CREATED:20251219T161805Z
LAST-MODIFIED:20260319T191703Z
UID:10009333-1773914400-1773950400@pacificcity.com
SUMMARY:All You Can Eat Oysters and Chips
DESCRIPTION:Petite oysters with coleslaw and crispy french fries. Unlimited refills on oysters\, served three ways- deep fried\, grilled\, and sautéed. Every Thursday $18.99
URL:https://pacificcity.com/event/all-you-can-eat-oysters-and-chips-21/
LOCATION:Fish Peddler at Pacific Oyster\, 5150 Hayes Oyster Dr
CATEGORIES:Community
ATTACH;FMTTYPE=image/jpeg:https://pacificcity.com/wp-content/uploads/2025/10/IMG_5605-scaled-xu1c6t.jpg
END:VEVENT
BEGIN:VEVENT
DTSTART;TZID=America/Los_Angeles:20260319T000000
DTEND;TZID=America/Los_Angeles:20260319T233000
DTSTAMP:20260419T232101
CREATED:20260318T185846Z
LAST-MODIFIED:20260319T191702Z
UID:10010066-1773878400-1773963000@pacificcity.com
SUMMARY:CALL FOR ART- CALLING NORTH COAST ARTISTS!
DESCRIPTION:Blue Water Fine Art Gallery is now accepting submissions for May Flowers\, our first community exhibition celebrating the colors and renewal of spring along the Oregon Coast. \nArtists may submit up to three original artworks inspired by the May Flowers theme. \nSubmission Deadline: April 21\, 2026 \nThe exhibition runs May 8 – June 6\, with a Community Reception on May 9\, 5–7 PM — free and open to all. \nSubmit your work and help us welcome spring with creativity and community. \nFull details and guidelines on website: \nBlueWaterFineArtGallery.com \nStay connected with upcoming exhibitions and artist calls — sign up for our newsletter at BlueWaterFineArtGallery.com
URL:https://pacificcity.com/event/call-for-art-calling-north-coast-artists-2/
LOCATION:Blue Water Fine Art Gallery\, 119 S Miller St.\, Rockaway Beach\, OR 97136
CATEGORIES:Arts and Culture,Community
ATTACH;FMTTYPE=image/png:https://pacificcity.com/wp-content/uploads/2026/03/Call-FOR-ART-PURPLE-4SvHGM.png
END:VEVENT
END:VCALENDAR