BEGIN:VCALENDAR
VERSION:2.0
PRODID:-//Pacific City - ECPv6.15.20//NONSGML v1.0//EN
CALSCALE:GREGORIAN
METHOD:PUBLISH
X-ORIGINAL-URL:https://pacificcity.com
X-WR-CALDESC:Events for Pacific City
REFRESH-INTERVAL;VALUE=DURATION:PT1H
X-Robots-Tag:noindex
X-PUBLISHED-TTL:PT1H
BEGIN:VTIMEZONE
TZID:America/Los_Angeles
BEGIN:DAYLIGHT
TZOFFSETFROM:-0800
TZOFFSETTO:-0700
TZNAME:PDT
DTSTART:20250309T100000
END:DAYLIGHT
BEGIN:STANDARD
TZOFFSETFROM:-0700
TZOFFSETTO:-0800
TZNAME:PST
DTSTART:20251102T090000
END:STANDARD
BEGIN:DAYLIGHT
TZOFFSETFROM:-0800
TZOFFSETTO:-0700
TZNAME:PDT
DTSTART:20260308T100000
END:DAYLIGHT
BEGIN:STANDARD
TZOFFSETFROM:-0700
TZOFFSETTO:-0800
TZNAME:PST
DTSTART:20261101T090000
END:STANDARD
BEGIN:DAYLIGHT
TZOFFSETFROM:-0800
TZOFFSETTO:-0700
TZNAME:PDT
DTSTART:20270314T100000
END:DAYLIGHT
BEGIN:STANDARD
TZOFFSETFROM:-0700
TZOFFSETTO:-0800
TZNAME:PST
DTSTART:20271107T090000
END:STANDARD
END:VTIMEZONE
BEGIN:VEVENT
DTSTART;TZID=America/Los_Angeles:20260321T140000
DTEND;TZID=America/Los_Angeles:20260321T153000
DTSTAMP:20260419T214414
CREATED:20260223T225740Z
LAST-MODIFIED:20260321T194529Z
UID:10009881-1774101600-1774107000@pacificcity.com
SUMMARY:Stories of Netarts Past: Book Reading and Signing with John Anderson
DESCRIPTION:Join Friends of Netarts Bay WEBS and the Tillamook County Pioneer Museum for a special presentation celebrating the people and history of the Oregon Coast with local author and historian John Andersen. John will share stories from his newly released book\, The Amazing People Between the Capes – A History about the People of Cape Meares\, Netarts\, and Oceanside\, Oregon\, and foster a greater knowledge of the area’s diverse history. \nWith over two decades of work in community development and environmental education in the area\, John brings a personal and deeply informed perspective to the stories that define life between Cape Lookout and Cape Meares. \nWhether you’re a longtime local\, a new resident\, or simply interested in coastal Oregon history\, this event is a chance to connect with the rich heritage and remarkable individuals who have called this region home. \n_ \n_ \nThe event is free\, but due to limited seating\, registration is required: https://www.eventbrite.com/e/stories-of-netarts-past-registration-1983650684596?aff=oddtdtcreator
URL:https://pacificcity.com/event/stories-of-netarts-past-book-reading-and-signing-with-john-anderson/
LOCATION:Tillamook County Pioneer Museum\, 2106 Second St\, Tillamook OR 97141
CATEGORIES:Community,Education
ATTACH;FMTTYPE=image/png:https://pacificcity.com/wp-content/uploads/2026/02/unnamed-nQiYLn.png
END:VEVENT
BEGIN:VEVENT
DTSTART;TZID=America/Los_Angeles:20260321T100000
DTEND;TZID=America/Los_Angeles:20260321T120000
DTSTAMP:20260419T214414
CREATED:20251221T164904Z
LAST-MODIFIED:20260321T194528Z
UID:10009350-1774087200-1774094400@pacificcity.com
SUMMARY:Dungeons and Dragons at Tillamook Library
DESCRIPTION:Play a variety of tabletop RPGs with local storytellers at the library! Open to all!
URL:https://pacificcity.com/event/dungeons-and-dragons-at-tillamook-library-75/
LOCATION:Tillamook County Library\, 1716 3rd Street Tillamook Oregon 97141
CATEGORIES:Community
ATTACH;FMTTYPE=image/png:https://pacificcity.com/wp-content/uploads/2025/07/Dungeons-Dragons-2025-TM-VjWbKf.png
END:VEVENT
BEGIN:VEVENT
DTSTART;TZID=America/Los_Angeles:20260321T100000
DTEND;TZID=America/Los_Angeles:20260321T113000
DTSTAMP:20260419T214414
CREATED:20251221T164905Z
LAST-MODIFIED:20260321T194528Z
UID:10009351-1774087200-1774092600@pacificcity.com
SUMMARY:Saturday Morning Family Fun at Pacific City Library
DESCRIPTION:Join us for a variety of activities for the whole family at Pacific City library every third Saturday of the month!
URL:https://pacificcity.com/event/saturday-morning-family-fun-at-pacific-city-library-6/
LOCATION:Pacific City Library\, 6200 Camp St Pacific City\, OR
CATEGORIES:Community,Family Fun
ATTACH;FMTTYPE=image/png:https://pacificcity.com/wp-content/uploads/2025/09/Saturday-Morning-Family-Fun-at-TP-L4EK1q.png
END:VEVENT
BEGIN:VEVENT
DTSTART;TZID=America/Los_Angeles:20260321T090000
DTEND;TZID=America/Los_Angeles:20260321T100000
DTSTAMP:20260419T214414
CREATED:20251221T164903Z
LAST-MODIFIED:20260321T194528Z
UID:10009349-1774083600-1774087200@pacificcity.com
SUMMARY:Yoga With Dawn
DESCRIPTION:🧘‍♀️ Yoga with Dawn – Find Your Flow! 🧘‍♂️ \nStart your day with peace\, strength\, and positive energy 🌞Join Dawn for a refreshing yoga class every: \n🗓️ Monday\, Wednesday\, Friday & Saturday🕘 9:00 AM – 10:00 AM📍 Kiawanda Community Center \nAll levels are welcome—whether you’re new to yoga or a seasoned pro\, Dawn’s calm guidance and supportive atmosphere will leave you feeling refreshed and centered. \n✨ Bring a mat\, some water\, and a smile.No registration needed—just drop in and breathe it out with us! \n#YogaWithDawn #KiawandaCommunityCenter #MorningYoga #WellnessInPacificCity #MindBodySoul
URL:https://pacificcity.com/event/yoga-with-dawn-135/
LOCATION:Kiawanda Community Center\, 34600 Cape Kiwanda Dr\, Pacific City\, OR 97135\, OR\, United States
CATEGORIES:Classes and Workshops,Community
ATTACH;FMTTYPE=image/jpeg:https://pacificcity.com/wp-content/uploads/2025/07/yoga-VHSvFY.jpg
END:VEVENT
BEGIN:VEVENT
DTSTART;TZID=America/Los_Angeles:20260321T000000
DTEND;TZID=America/Los_Angeles:20260321T233000
DTSTAMP:20260419T214414
CREATED:20260318T185855Z
LAST-MODIFIED:20260321T194528Z
UID:10010070-1774051200-1774135800@pacificcity.com
SUMMARY:CALL FOR ART- CALLING NORTH COAST ARTISTS!
DESCRIPTION:Blue Water Fine Art Gallery is now accepting submissions for May Flowers\, our first community exhibition celebrating the colors and renewal of spring along the Oregon Coast. \nArtists may submit up to three original artworks inspired by the May Flowers theme. \nSubmission Deadline: April 21\, 2026 \nThe exhibition runs May 8 – June 6\, with a Community Reception on May 9\, 5–7 PM — free and open to all. \nSubmit your work and help us welcome spring with creativity and community. \nFull details and guidelines on website: \nBlueWaterFineArtGallery.com \nStay connected with upcoming exhibitions and artist calls — sign up for our newsletter at BlueWaterFineArtGallery.com
URL:https://pacificcity.com/event/call-for-art-calling-north-coast-artists-4/
LOCATION:Blue Water Fine Art Gallery\, 119 S Miller St.\, Rockaway Beach\, OR 97136
CATEGORIES:Arts and Culture,Community
ATTACH;FMTTYPE=image/png:https://pacificcity.com/wp-content/uploads/2026/03/Call-FOR-ART-PURPLE-4SvHGM.png
END:VEVENT
BEGIN:VEVENT
DTSTART;TZID=America/Los_Angeles:20260320T190000
DTEND;TZID=America/Los_Angeles:20260320T210000
DTSTAMP:20260419T214414
CREATED:20260223T225739Z
LAST-MODIFIED:20260320T192743Z
UID:10009880-1774033200-1774040400@pacificcity.com
SUMMARY:Barbecuing Hamlet
DESCRIPTION:Barbecuing Hamlet is a comedic play that centers around a small-town community theater group attempting to stage Shakespeare’s Hamlet. Chaos ensues when the group hires a director from NY (Buffalo) who tries to modernize the classic with wild changes…including a community theater set in an old funeral home. The quirky cast\, full of eccentric local actors\, struggles with the language\, staging\, and each other. As rehearsals spiral out of control\, personal dramas and misunderstandings threaten to derail the production. Ultimately\, the play is a hilarious look at artistic ambition clashing with small-town charm. \nBarbecuing Hamlet opens March 13 and runs through March 29. Friday and Saturday shows start at 7:00 pm\, Sunday shows start at 2:00 pm. Tickets are available at: https://tillamooktheater.ludus.com/index.php?sections=events
URL:https://pacificcity.com/event/barbecuing-hamlet-4/
LOCATION:The Barn Community Playhouse\, 1204 Ivy Ave
CATEGORIES:Community,Theater
ATTACH;FMTTYPE=image/png:https://pacificcity.com/wp-content/uploads/2026/02/TAPA-Event-Cover-image-1-scaled-HJyf86.png
END:VEVENT
BEGIN:VEVENT
DTSTART;TZID=America/Los_Angeles:20260320T160000
DTEND;TZID=America/Los_Angeles:20260320T160000
DTSTAMP:20260419T214414
CREATED:20260309T172824Z
LAST-MODIFIED:20260320T192743Z
UID:10009987-1774022400-1774022400@pacificcity.com
SUMMARY:Miniatures Workshops at Tillamook Library
DESCRIPTION:Create miniatures with expert Laura in a variety of themes and media! \nFriday March 13th: Spring \nFriday March 20th: Felt \nFriday March 27th: Fairies
URL:https://pacificcity.com/event/miniatures-workshops-at-tillamook-library-2/
LOCATION:Tillamook County Library\, 1716 3rd Street Tillamook Oregon 97141
CATEGORIES:Community
END:VEVENT
BEGIN:VEVENT
DTSTART;TZID=America/Los_Angeles:20260320T153000
DTEND;TZID=America/Los_Angeles:20260320T173000
DTSTAMP:20260419T214414
CREATED:20260309T172819Z
LAST-MODIFIED:20260320T192742Z
UID:10009986-1774020600-1774027800@pacificcity.com
SUMMARY:Movie Night at Pacific City Library
DESCRIPTION:Join us for a movie on the big screen every third Friday at 3:30 pm!
URL:https://pacificcity.com/event/movie-night-at-pacific-city-library/
LOCATION:Pacific City Library\, 6200 Camp St Pacific City\, OR
CATEGORIES:Community
ATTACH;FMTTYPE=image/png:https://pacificcity.com/wp-content/uploads/2026/03/PACIFIC-CITY-MOVIE-NIGHT-032026-TP-zwWKOu.png
END:VEVENT
BEGIN:VEVENT
DTSTART;TZID=America/Los_Angeles:20260320T110000
DTEND;TZID=America/Los_Angeles:20260320T120000
DTSTAMP:20260419T214414
CREATED:20251220T162847Z
LAST-MODIFIED:20260320T192742Z
UID:10009347-1774004400-1774008000@pacificcity.com
SUMMARY:Storytime at Garibaldi Library
DESCRIPTION:Kids of all ages are welcome to the Garibaldi Library for storytime\, Fridays at 11:00am.
URL:https://pacificcity.com/event/storytime-at-garibaldi-library-80/
LOCATION:Garibaldi Library\, 107 6th St\, Garibaldi OR
CATEGORIES:Community,Family Fun
ATTACH;FMTTYPE=image/png:https://pacificcity.com/wp-content/uploads/2025/06/Garibaldi-Story-Time-flyer-sA1TAy.png
END:VEVENT
BEGIN:VEVENT
DTSTART;TZID=America/Los_Angeles:20260320T100000
DTEND;TZID=America/Los_Angeles:20260320T200000
DTSTAMP:20260419T214414
CREATED:20251220T162847Z
LAST-MODIFIED:20260320T192742Z
UID:10009346-1774000800-1774036800@pacificcity.com
SUMMARY:All You Can Eat Fish and Chips
DESCRIPTION:Fresh\, local\, fried rockfish served with coleslaw and crispy french fries. Unlimited fish every Friday $18.99
URL:https://pacificcity.com/event/all-you-can-eat-fish-and-chips-21/
LOCATION:Fish Peddler at Pacific Oyster\, 5150 Hayes Oyster Dr
CATEGORIES:Community
END:VEVENT
BEGIN:VEVENT
DTSTART;TZID=America/Los_Angeles:20260320T100000
DTEND;TZID=America/Los_Angeles:20260320T160000
DTSTAMP:20260419T214414
CREATED:20260318T185849Z
LAST-MODIFIED:20260320T192742Z
UID:10010068-1774000800-1774022400@pacificcity.com
SUMMARY:“Launching Through the Surf: The Dory Fleet of Pacific City” exhibit opens
DESCRIPTION:This traveling exhibit was created by Linfield University in partnership with the Pacific City Dorymen’s Association.\n\nLaunching Through the Surf focuses on the historical and contemporary role of doormen and dories in the life of Pacific City.\n\nOn display at the Tillamook County Pioneer Museum\, March 20 – April 30.
URL:https://pacificcity.com/event/launching-through-the-surf-the-dory-fleet-of-pacific-city-exhibit-opens/
LOCATION:Tillamook County Pioneer Museum\, 2106 Second St\, Tillamook OR 97141
CATEGORIES:Arts and Culture,Community
END:VEVENT
BEGIN:VEVENT
DTSTART;TZID=America/Los_Angeles:20260320T100000
DTEND;TZID=America/Los_Angeles:20260320T160000
DTSTAMP:20260419T214414
CREATED:20260318T185849Z
LAST-MODIFIED:20260320T192742Z
UID:10010069-1774000800-1774022400@pacificcity.com
SUMMARY:“Launching Through the Surf: The Dory Fleet of Pacific City” exhibit comes to Tillamook County Pioneer Museum
DESCRIPTION:“Launching Through the Surf: The Dory Fleet of Pacific City” exhibit will be on display at the Tillamook County Pioneer Museum from March 20 through April 30. \nThis traveling exhibit was created by Linfield University in partnership with the Pacific City Dorymen’s Association. \nLaunching Through the Surf focuses on the historical and contemporary role of dorymen and dories in the life of Pacific City. \nAdditional complementing exhibit items include: \n\nArtifacts\nInteractives\nPersonal items on temporary loan\n\nMuseum admission required for entry. For more information\, visit tcpm.org
URL:https://pacificcity.com/event/launching-through-the-surf-the-dory-fleet-of-pacific-city-exhibit-comes-to-tillamook-county-pioneer-museum/
LOCATION:Tillamook County Pioneer Museum\, 2106 Second St\, Tillamook OR 97141
CATEGORIES:Community,Education
ATTACH;FMTTYPE=image/png:https://pacificcity.com/wp-content/uploads/2026/03/Dory-Fleet-5kvICG.png
END:VEVENT
BEGIN:VEVENT
DTSTART;TZID=America/Los_Angeles:20260320T100000
DTEND;TZID=America/Los_Angeles:20260320T120000
DTSTAMP:20260419T214414
CREATED:20251220T162847Z
LAST-MODIFIED:20260320T192742Z
UID:10009345-1774000800-1774008000@pacificcity.com
SUMMARY:Trail Building in Nehalem Bay With LNCT!
DESCRIPTION:Every Friday\, volunteers gather on LNCT lands near Manzanita\, Nehalem and Wheeler to protect and restore habitat in the lower Nehalem watershed. We would love to see new faces out on the land!\n\n\n\nThese work parties are beginner friendly and an opportunity to learn about the engineering of hiking trails. We will be working on uneven ground\, bending\, and moving small rocks and brush during this process. Tools and gloves are provided\, new volunteers welcome and no prior experience needed. Join as frequently as you please.  Email shane@nehalemtrust.org for weekly updates on where to meet.\n\nAlder Creek Farm and Natural Area’s Nehalem Teaching Trail already supports an impressive variety of native plants and simulated ecosystems for community learning—but we’re looking to grow. This short trail will extend educational access into a different ecosystem and connect to the Natural Area’s pollinator meadow. We hope it will also add some variety to habitat access for bird watchers who visit the farm as a part of the Oregon Coast Birding Trail.
URL:https://pacificcity.com/event/trail-building-in-nehalem-bay-with-lnct-31/
LOCATION:Lower Nehalem Community Trust
CATEGORIES:Community,Education,Outdoor
ATTACH;FMTTYPE=image/jpeg:https://pacificcity.com/wp-content/uploads/2025/12/LNCT-Stewardship-Poster-4-R0qABz.jpg
END:VEVENT
BEGIN:VEVENT
DTSTART;TZID=America/Los_Angeles:20260320T090000
DTEND;TZID=America/Los_Angeles:20260320T100000
DTSTAMP:20260419T214414
CREATED:20260106T200422Z
LAST-MODIFIED:20260320T192741Z
UID:10009489-1773997200-1774000800@pacificcity.com
SUMMARY:Kiawanda Community Center Board Meeting
DESCRIPTION:Join us for the Kiawanda Community Center Board meeting on the third Friday of each month at 9:00 AM.\nPublic input is welcome\, and all community members are encouraged to attend! \nThe Kiawanda Community Center is proud to offer a wide range of events and programs that bring our community together. \nWe also invite you to get involved and help give back by sharing your ideas and input at our Board meetings\, held on the third Friday of each month at 9:00 AM.
URL:https://pacificcity.com/event/kiawanda-community-center-board-meeting-3/
LOCATION:Kiawanda Community Center\, 34600 Cape Kiwanda Dr\, Pacific City\, OR 97135\, OR\, United States
CATEGORIES:Community,Public Meetings
ATTACH;FMTTYPE=image/png:https://pacificcity.com/wp-content/uploads/2026/01/download-R2rfH8.png
END:VEVENT
BEGIN:VEVENT
DTSTART;TZID=America/Los_Angeles:20260320T090000
DTEND;TZID=America/Los_Angeles:20260320T100000
DTSTAMP:20260419T214414
CREATED:20251220T162846Z
LAST-MODIFIED:20260320T192741Z
UID:10009343-1773997200-1774000800@pacificcity.com
SUMMARY:Yoga With Dawn
DESCRIPTION:🧘‍♀️ Yoga with Dawn – Find Your Flow! 🧘‍♂️ \nStart your day with peace\, strength\, and positive energy 🌞Join Dawn for a refreshing yoga class every: \n🗓️ Monday\, Wednesday\, Friday & Saturday🕘 9:00 AM – 10:00 AM📍 Kiawanda Community Center \nAll levels are welcome—whether you’re new to yoga or a seasoned pro\, Dawn’s calm guidance and supportive atmosphere will leave you feeling refreshed and centered. \n✨ Bring a mat\, some water\, and a smile.No registration needed—just drop in and breathe it out with us! \n#YogaWithDawn #KiawandaCommunityCenter #MorningYoga #WellnessInPacificCity #MindBodySoul
URL:https://pacificcity.com/event/yoga-with-dawn-134/
LOCATION:Kiawanda Community Center\, 34600 Cape Kiwanda Dr\, Pacific City\, OR 97135\, OR\, United States
CATEGORIES:Classes and Workshops,Community
ATTACH;FMTTYPE=image/jpeg:https://pacificcity.com/wp-content/uploads/2025/07/yoga-VHSvFY.jpg
END:VEVENT
BEGIN:VEVENT
DTSTART;TZID=America/Los_Angeles:20260320T000000
DTEND;TZID=America/Los_Angeles:20260320T233000
DTSTAMP:20260419T214414
CREATED:20260318T185848Z
LAST-MODIFIED:20260320T192740Z
UID:10010067-1773964800-1774049400@pacificcity.com
SUMMARY:CALL FOR ART- CALLING NORTH COAST ARTISTS!
DESCRIPTION:Blue Water Fine Art Gallery is now accepting submissions for May Flowers\, our first community exhibition celebrating the colors and renewal of spring along the Oregon Coast. \nArtists may submit up to three original artworks inspired by the May Flowers theme. \nSubmission Deadline: April 21\, 2026 \nThe exhibition runs May 8 – June 6\, with a Community Reception on May 9\, 5–7 PM — free and open to all. \nSubmit your work and help us welcome spring with creativity and community. \nFull details and guidelines on website: \nBlueWaterFineArtGallery.com \nStay connected with upcoming exhibitions and artist calls — sign up for our newsletter at BlueWaterFineArtGallery.com
URL:https://pacificcity.com/event/call-for-art-calling-north-coast-artists-3/
LOCATION:Blue Water Fine Art Gallery\, 119 S Miller St.\, Rockaway Beach\, OR 97136
CATEGORIES:Arts and Culture,Community
ATTACH;FMTTYPE=image/png:https://pacificcity.com/wp-content/uploads/2026/03/Call-FOR-ART-PURPLE-4SvHGM.png
END:VEVENT
BEGIN:VEVENT
DTSTART;TZID=America/Los_Angeles:20260319T180000
DTEND;TZID=America/Los_Angeles:20260319T190000
DTSTAMP:20260419T214414
CREATED:20260129T171310Z
LAST-MODIFIED:20260319T191704Z
UID:10009668-1773943200-1773946800@pacificcity.com
SUMMARY:Dory Days Volunteer Planning Meeting
DESCRIPTION:Dory Days Volunteer Planning Meeting\nThird Thursday at The  Kiawanda Community Center Time – 6PM to 7PM\nCome be part of the magic behind Dory Days!\nJoin us for our monthly Dory Days Volunteer Planning Meetings\, where neighbors\, friends\, and Pacific City fans come together to shape the 2026 Dory Days celebration. Whether you’ve participated in the event for 50 years or are brand new to Dory Days\, you are genuinely welcome to bring your ideas\, time and energy to these meetings.\n\nWe meet on the third Thursday of each month from 6–7 PM at the Kiawanda Community Center. Stop by\, say hello\, and help create an event that brings our community together. We’d love to have you! \nSee less
URL:https://pacificcity.com/event/dory-days-volunteer-planning-meeting-2/
LOCATION:Kiawanda Community Center\, 34600 Cape Kiwanda Dr\, Pacific City\, OR 97135\, OR\, United States
CATEGORIES:Community,Public Meetings
END:VEVENT
BEGIN:VEVENT
DTSTART;TZID=America/Los_Angeles:20260319T160000
DTEND;TZID=America/Los_Angeles:20260319T173000
DTSTAMP:20260419T214414
CREATED:20251219T161808Z
LAST-MODIFIED:20260319T191704Z
UID:10009338-1773936000-1773941400@pacificcity.com
SUMMARY:Knitting Group
DESCRIPTION:Join a fun group of knitters at North Tillamook Library in Manzanita on Thursdays from 4pm to 5:30pm.
URL:https://pacificcity.com/event/knitting-group-82/
LOCATION:North Tillamook Library\, 571 Laneda Ave\, Manzanita\, OR 97130
CATEGORIES:Community,Education
ATTACH;FMTTYPE=image/png:https://pacificcity.com/wp-content/uploads/2024/08/logo-H5fs7I.tmp_.png
END:VEVENT
BEGIN:VEVENT
DTSTART;TZID=America/Los_Angeles:20260319T140000
DTEND;TZID=America/Los_Angeles:20260319T150000
DTSTAMP:20260419T214414
CREATED:20260309T172815Z
LAST-MODIFIED:20260319T191704Z
UID:10009985-1773928800-1773932400@pacificcity.com
SUMMARY:Speed Friending at Pacific City Library
DESCRIPTION:Meet new people in a fun\, low-pressure turn taking game at Pacific City Library!
URL:https://pacificcity.com/event/speed-friending-at-pacific-city-library/
LOCATION:Pacific City Library\, 6200 Camp St Pacific City\, OR
CATEGORIES:Community
ATTACH;FMTTYPE=image/png:https://pacificcity.com/wp-content/uploads/2026/03/Speed-Friending-031926-TP-43RKeI.png
END:VEVENT
BEGIN:VEVENT
DTSTART;TZID=America/Los_Angeles:20260319T140000
DTEND;TZID=America/Los_Angeles:20260319T150000
DTSTAMP:20260419T214414
CREATED:20251219T161807Z
LAST-MODIFIED:20260319T191704Z
UID:10009337-1773928800-1773932400@pacificcity.com
SUMMARY:Mahjong at Manzanita Library
DESCRIPTION:Play mahjong in a fun informal group at the Manzanita library Thursdays at 2 pm!
URL:https://pacificcity.com/event/mahjong-at-manzanita-library-25/
LOCATION:Manzanita Library\, 571 Laneda Ave Manzanita OR
CATEGORIES:Community,Family Fun
END:VEVENT
BEGIN:VEVENT
DTSTART;TZID=America/Los_Angeles:20260319T130000
DTEND;TZID=America/Los_Angeles:20260319T150000
DTSTAMP:20260419T214414
CREATED:20251219T161807Z
LAST-MODIFIED:20260319T191704Z
UID:10009336-1773925200-1773932400@pacificcity.com
SUMMARY:Bingo
DESCRIPTION:🎉 Thursday Bingo Fun at the Kiawanda Community Center! 🎉 \nJoin us every Thursday from 1PM to 3PM for an afternoon of bingo\, community\, and fun at the Kiawanda Community Center! \n🗓️ When: Thursdays\, 1:00–3:00 PM\n📍 Where: Kiawanda Community Center\n🎁 Prizes\, laughs\, and good company guaranteed! \nWhether you’re a seasoned player or brand new to the game\, everyone is welcome! Come early\, grab your favorite seat\, and get ready for a great time! 🙌 \nTag your bingo buddy and spread the word! 🎊 \n#BingoFun #KiawandaCommunityCenter #PacificCityEvents #ThursdayBingo #CommunityVibes
URL:https://pacificcity.com/event/bingo-37/
LOCATION:Kiawanda Community Center\, 34600 Cape Kiwanda Dr\, Pacific City\, OR 97135\, OR\, United States
CATEGORIES:Community
ATTACH;FMTTYPE=image/jpeg:https://pacificcity.com/wp-content/uploads/2025/07/Cream-Orange-Colorful-Retro-We-Are-Hiring-Flyer-AADTwu.jpg
END:VEVENT
BEGIN:VEVENT
DTSTART;TZID=America/Los_Angeles:20260319T100000
DTEND;TZID=America/Los_Angeles:20260319T200000
DTSTAMP:20260419T214414
CREATED:20251219T161805Z
LAST-MODIFIED:20260319T191703Z
UID:10009333-1773914400-1773950400@pacificcity.com
SUMMARY:All You Can Eat Oysters and Chips
DESCRIPTION:Petite oysters with coleslaw and crispy french fries. Unlimited refills on oysters\, served three ways- deep fried\, grilled\, and sautéed. Every Thursday $18.99
URL:https://pacificcity.com/event/all-you-can-eat-oysters-and-chips-21/
LOCATION:Fish Peddler at Pacific Oyster\, 5150 Hayes Oyster Dr
CATEGORIES:Community
ATTACH;FMTTYPE=image/jpeg:https://pacificcity.com/wp-content/uploads/2025/10/IMG_5605-scaled-xu1c6t.jpg
END:VEVENT
BEGIN:VEVENT
DTSTART;TZID=America/Los_Angeles:20260319T000000
DTEND;TZID=America/Los_Angeles:20260319T233000
DTSTAMP:20260419T214414
CREATED:20260318T185846Z
LAST-MODIFIED:20260319T191702Z
UID:10010066-1773878400-1773963000@pacificcity.com
SUMMARY:CALL FOR ART- CALLING NORTH COAST ARTISTS!
DESCRIPTION:Blue Water Fine Art Gallery is now accepting submissions for May Flowers\, our first community exhibition celebrating the colors and renewal of spring along the Oregon Coast. \nArtists may submit up to three original artworks inspired by the May Flowers theme. \nSubmission Deadline: April 21\, 2026 \nThe exhibition runs May 8 – June 6\, with a Community Reception on May 9\, 5–7 PM — free and open to all. \nSubmit your work and help us welcome spring with creativity and community. \nFull details and guidelines on website: \nBlueWaterFineArtGallery.com \nStay connected with upcoming exhibitions and artist calls — sign up for our newsletter at BlueWaterFineArtGallery.com
URL:https://pacificcity.com/event/call-for-art-calling-north-coast-artists-2/
LOCATION:Blue Water Fine Art Gallery\, 119 S Miller St.\, Rockaway Beach\, OR 97136
CATEGORIES:Arts and Culture,Community
ATTACH;FMTTYPE=image/png:https://pacificcity.com/wp-content/uploads/2026/03/Call-FOR-ART-PURPLE-4SvHGM.png
END:VEVENT
END:VCALENDAR